BEGIN:VCALENDAR
VERSION:2.0
PRODID:-//Biblioteka Publiczna Gminy Szemud - ECPv6.15.20//NONSGML v1.0//EN
CALSCALE:GREGORIAN
METHOD:PUBLISH
X-ORIGINAL-URL:https://biblioteka.szemud.pl
X-WR-CALDESC:Wydarzenia dla Biblioteka Publiczna Gminy Szemud
REFRESH-INTERVAL;VALUE=DURATION:PT1H
X-Robots-Tag:noindex
X-PUBLISHED-TTL:PT1H
BEGIN:VTIMEZONE
TZID:Europe/Warsaw
BEGIN:DAYLIGHT
TZOFFSETFROM:+0100
TZOFFSETTO:+0200
TZNAME:CEST
DTSTART:20190331T010000
END:DAYLIGHT
BEGIN:STANDARD
TZOFFSETFROM:+0200
TZOFFSETTO:+0100
TZNAME:CET
DTSTART:20191027T010000
END:STANDARD
BEGIN:DAYLIGHT
TZOFFSETFROM:+0100
TZOFFSETTO:+0200
TZNAME:CEST
DTSTART:20200329T010000
END:DAYLIGHT
BEGIN:STANDARD
TZOFFSETFROM:+0200
TZOFFSETTO:+0100
TZNAME:CET
DTSTART:20201025T010000
END:STANDARD
BEGIN:DAYLIGHT
TZOFFSETFROM:+0100
TZOFFSETTO:+0200
TZNAME:CEST
DTSTART:20210328T010000
END:DAYLIGHT
BEGIN:STANDARD
TZOFFSETFROM:+0200
TZOFFSETTO:+0100
TZNAME:CET
DTSTART:20211031T010000
END:STANDARD
END:VTIMEZONE
BEGIN:VEVENT
DTSTART;TZID=Europe/Warsaw:20200305T170000
DTEND;TZID=Europe/Warsaw:20200305T190000
DTSTAMP:20260422T203415
CREATED:20200220T143239Z
LAST-MODIFIED:20200220T143239Z
UID:13366-1583427600-1583434800@biblioteka.szemud.pl
SUMMARY:Dzień Kobiet w Bibliotece w Kielnie
DESCRIPTION:
URL:https://biblioteka.szemud.pl/index.php/event/dzien-kobiet-w-bibliotece-w-kielnie/
LOCATION:Biblioteka w Kielnie\, ul. Oliwska 46\, Kielno
ATTACH;FMTTYPE=image/png:https://biblioteka.szemud.pl/wp-content/uploads/2020/02/Dzień-Kobiet-Kielno-2020.png
END:VEVENT
BEGIN:VEVENT
DTSTART;TZID=Europe/Warsaw:20200309T090000
DTEND;TZID=Europe/Warsaw:20200309T100000
DTSTAMP:20260422T203415
CREATED:20200221T101046Z
LAST-MODIFIED:20200221T101245Z
UID:13370-1583744400-1583748000@biblioteka.szemud.pl
SUMMARY:Warsztaty czytelnicze w Bibliotece w Łebnie
DESCRIPTION:
URL:https://biblioteka.szemud.pl/index.php/event/warsztaty-czytelnicze-w-bibliotece-w-lebnie-4/
LOCATION:Biblioteka w Łebnie\, ul. Kartuska 9\, Łebno
ATTACH;FMTTYPE=image/png:https://biblioteka.szemud.pl/wp-content/uploads/2020/02/warsztaty-czytelnicze-.png
END:VEVENT
BEGIN:VEVENT
DTSTART;TZID=Europe/Warsaw:20200309T160000
DTEND;TZID=Europe/Warsaw:20200309T180000
DTSTAMP:20260422T203415
CREATED:20200221T103136Z
LAST-MODIFIED:20200221T103136Z
UID:13383-1583769600-1583776800@biblioteka.szemud.pl
SUMMARY:Warsztaty z okazji Dnia Kobiet w Bibliotece w Szemudzie
DESCRIPTION:
URL:https://biblioteka.szemud.pl/index.php/event/warsztaty-z-okazji-dnia-kobiet-w-bibliotece-w-szemudzie-2/
LOCATION:Biblioteka w Szemudzie\, Samorządowa 1\, Szemud
ATTACH;FMTTYPE=image/png:https://biblioteka.szemud.pl/wp-content/uploads/2020/02/Warsztaty-Dzień-Kobiet-Szemud.png
END:VEVENT
BEGIN:VEVENT
DTSTART;TZID=Europe/Warsaw:20200310T090000
DTEND;TZID=Europe/Warsaw:20200310T100000
DTSTAMP:20260422T203415
CREATED:20200221T101156Z
LAST-MODIFIED:20200221T101156Z
UID:13372-1583830800-1583834400@biblioteka.szemud.pl
SUMMARY:Warsztaty czytelnicze w Bibliotece w Kielnie
DESCRIPTION:
URL:https://biblioteka.szemud.pl/index.php/event/warsztaty-czytelnicze-w-bibliotece-w-kielnie-4/
LOCATION:Biblioteka w Kielnie\, ul. Oliwska 46\, Kielno
ATTACH;FMTTYPE=image/png:https://biblioteka.szemud.pl/wp-content/uploads/2020/02/warsztaty-czytelnicze-.png
END:VEVENT
BEGIN:VEVENT
DTSTART;TZID=Europe/Warsaw:20200310T090000
DTEND;TZID=Europe/Warsaw:20200310T120000
DTSTAMP:20260422T203415
CREATED:20200221T103806Z
LAST-MODIFIED:20200221T103806Z
UID:13387-1583830800-1583841600@biblioteka.szemud.pl
SUMMARY:Gminny Konkurs Poezji Polskiej w Bibliotece w Szemudzie
DESCRIPTION:
URL:https://biblioteka.szemud.pl/index.php/event/gminny-konkurs-poezji-polskiej-w-bibliotece-w-szemudzie/
LOCATION:Biblioteka w Szemudzie\, Samorządowa 1\, Szemud
ATTACH;FMTTYPE=image/png:https://biblioteka.szemud.pl/wp-content/uploads/2020/02/Poezja-Polska-2020.png
END:VEVENT
BEGIN:VEVENT
DTSTART;TZID=Europe/Warsaw:20200311T090000
DTEND;TZID=Europe/Warsaw:20200311T120000
DTSTAMP:20260422T203415
CREATED:20200401T094122Z
LAST-MODIFIED:20200401T094419Z
UID:13837-1583917200-1583928000@biblioteka.szemud.pl
SUMMARY:Warsztaty czytelnicze Wydawnictwa Zakamarki pt. Dunia i Mattis
DESCRIPTION:
URL:https://biblioteka.szemud.pl/index.php/event/warsztaty-czytelnicze-wydawnictwa-zakamarki-pt-dunia-i-mattis/
END:VEVENT
BEGIN:VEVENT
DTSTART;TZID=Europe/Warsaw:20200311T095000
DTEND;TZID=Europe/Warsaw:20200311T105000
DTSTAMP:20260422T203415
CREATED:20200221T101342Z
LAST-MODIFIED:20200221T101342Z
UID:13375-1583920200-1583923800@biblioteka.szemud.pl
SUMMARY:Warsztaty czytelnicze w Bibliotece w Bojanie
DESCRIPTION:
URL:https://biblioteka.szemud.pl/index.php/event/warsztaty-czytelnicze-w-bibliotece-w-bojanie-4/
LOCATION:Biblioteka w Bojanie\, ul. J. Wybickiego 38\, Bojano
ATTACH;FMTTYPE=image/png:https://biblioteka.szemud.pl/wp-content/uploads/2020/02/warsztaty-czytelnicze-.png
END:VEVENT
BEGIN:VEVENT
DTSTART;TZID=Europe/Warsaw:20200311T140000
DTEND;TZID=Europe/Warsaw:20200311T153000
DTSTAMP:20260422T203415
CREATED:20200221T120943Z
LAST-MODIFIED:20200302T095712Z
UID:13403-1583935200-1583940600@biblioteka.szemud.pl
SUMMARY:Warsztaty "Motanki" dla dzieci w Bibliotece w Bojanie
DESCRIPTION:
URL:https://biblioteka.szemud.pl/index.php/event/warsztaty-motanki-dla-dzieci-w-bibliotece-w-bojanie/
LOCATION:Biblioteka w Bojanie\, ul. J. Wybickiego 38\, Bojano
ATTACH;FMTTYPE=image/png:https://biblioteka.szemud.pl/wp-content/uploads/2020/02/Warsztaty-Bojano.png
END:VEVENT
BEGIN:VEVENT
DTSTART;TZID=Europe/Warsaw:20200311T170000
DTEND;TZID=Europe/Warsaw:20200311T200000
DTSTAMP:20260422T203415
CREATED:20200302T101557Z
LAST-MODIFIED:20200302T101557Z
UID:13425-1583946000-1583956800@biblioteka.szemud.pl
SUMMARY:Babskie warsztaty - biżuteria decoupage w Bibliotece i WOK Łebno
DESCRIPTION:
URL:https://biblioteka.szemud.pl/index.php/event/babskie-warsztaty-bizuteria-decoupage-w-bibliotece-i-wok-lebno/
LOCATION:Biblioteka w Łebnie\, ul. Kartuska 9\, Łebno
ATTACH;FMTTYPE=image/jpeg:https://biblioteka.szemud.pl/wp-content/uploads/2020/03/Wiejski-Osrodek-Kultury-i-Biblioteka-Publiczna-w-Łebnie-zapraszają-na-Wróżby-na-wesoło-27-listopada-godz.-16.00-17.00-1.jpg
END:VEVENT
END:VCALENDAR