BEGIN:VCALENDAR
VERSION:2.0
PRODID:-//Biblioteka Publiczna Gminy Szemud - ECPv6.15.20//NONSGML v1.0//EN
CALSCALE:GREGORIAN
METHOD:PUBLISH
X-ORIGINAL-URL:https://biblioteka.szemud.pl
X-WR-CALDESC:Wydarzenia dla Biblioteka Publiczna Gminy Szemud
REFRESH-INTERVAL;VALUE=DURATION:PT1H
X-Robots-Tag:noindex
X-PUBLISHED-TTL:PT1H
BEGIN:VTIMEZONE
TZID:Europe/Warsaw
BEGIN:DAYLIGHT
TZOFFSETFROM:+0100
TZOFFSETTO:+0200
TZNAME:CEST
DTSTART:20180325T010000
END:DAYLIGHT
BEGIN:STANDARD
TZOFFSETFROM:+0200
TZOFFSETTO:+0100
TZNAME:CET
DTSTART:20181028T010000
END:STANDARD
BEGIN:DAYLIGHT
TZOFFSETFROM:+0100
TZOFFSETTO:+0200
TZNAME:CEST
DTSTART:20190331T010000
END:DAYLIGHT
BEGIN:STANDARD
TZOFFSETFROM:+0200
TZOFFSETTO:+0100
TZNAME:CET
DTSTART:20191027T010000
END:STANDARD
BEGIN:DAYLIGHT
TZOFFSETFROM:+0100
TZOFFSETTO:+0200
TZNAME:CEST
DTSTART:20200329T010000
END:DAYLIGHT
BEGIN:STANDARD
TZOFFSETFROM:+0200
TZOFFSETTO:+0100
TZNAME:CET
DTSTART:20201025T010000
END:STANDARD
END:VTIMEZONE
BEGIN:VEVENT
DTSTART;TZID=Europe/Warsaw:20190606T150000
DTEND;TZID=Europe/Warsaw:20190606T163000
DTSTAMP:20260423T123449
CREATED:20190531T123606Z
LAST-MODIFIED:20190531T123606Z
UID:6678-1559833200-1559838600@biblioteka.szemud.pl
SUMMARY:Piknik z książką w Bibliotece w Częstkowie
DESCRIPTION:
URL:https://biblioteka.szemud.pl/index.php/event/piknik-z-ksiazka-w-bibliotece-w-czestkowie/
LOCATION:Biblioteka w Częstkowie\, ul. Szkolna 9\, Czestkowo
ATTACH;FMTTYPE=image/jpeg:https://biblioteka.szemud.pl/wp-content/uploads/2019/05/Warsztaty-Częstkowo-1.jpg
END:VEVENT
BEGIN:VEVENT
DTSTART;TZID=Europe/Warsaw:20190610T150000
DTEND;TZID=Europe/Warsaw:20190610T170000
DTSTAMP:20260423T123449
CREATED:20190527T141546Z
LAST-MODIFIED:20190527T141612Z
UID:6548-1560178800-1560186000@biblioteka.szemud.pl
SUMMARY:Warsztaty z okazji Dnia Dziecka "Spotkanie z eksperymentem" w Bibliotece w Szemudzie
DESCRIPTION:
URL:https://biblioteka.szemud.pl/index.php/event/warsztaty-z-okazji-dnia-dziecka-spotkanie-z-eksperymentem-w-bibliotece-w-szemudzie/
LOCATION:Biblioteka w Szemudzie\, Samorządowa 1\, Szemud
ATTACH;FMTTYPE=image/jpeg:https://biblioteka.szemud.pl/wp-content/uploads/2019/05/eksperymenty.jpg
END:VEVENT
BEGIN:VEVENT
DTSTART;TZID=Europe/Warsaw:20190611T100000
DTEND;TZID=Europe/Warsaw:20190611T120000
DTSTAMP:20260423T123449
CREATED:20190527T145137Z
LAST-MODIFIED:20190527T160805Z
UID:6556-1560247200-1560254400@biblioteka.szemud.pl
SUMMARY:Powiatowy Konkurs Recytatorski Twórczości Alojzego Nagla
DESCRIPTION:
URL:https://biblioteka.szemud.pl/index.php/event/powiatowy-konkurs-recytatorski-tworczosci-alojzego-nagla/
LOCATION:Biblioteka w Kielnie\, ul. Oliwska 46\, Kielno
ATTACH;FMTTYPE=image/jpeg:https://biblioteka.szemud.pl/wp-content/uploads/2019/05/Nagel.jpg
END:VEVENT
BEGIN:VEVENT
DTSTART;TZID=Europe/Warsaw:20190612T170000
DTEND;TZID=Europe/Warsaw:20190612T190000
DTSTAMP:20260423T123449
CREATED:20190530T140002Z
LAST-MODIFIED:20190530T140249Z
UID:6568-1560358800-1560366000@biblioteka.szemud.pl
SUMMARY:Uroczyste podsumowanie kół zainteresowań
DESCRIPTION:
URL:https://biblioteka.szemud.pl/index.php/event/uroczyste-podsumowanie-kol-zainteresowan/
LOCATION:Hala sportowa w Szemudzie\, Szkolna 4a\, Szemud\, pomorskie\, 84-217\, Polska
ATTACH;FMTTYPE=image/jpeg:https://biblioteka.szemud.pl/wp-content/uploads/2019/05/zakończenie-kółek.jpg
END:VEVENT
BEGIN:VEVENT
DTSTART;TZID=Europe/Warsaw:20190614T173000
DTEND;TZID=Europe/Warsaw:20190614T190000
DTSTAMP:20260423T123449
CREATED:20190530T141237Z
LAST-MODIFIED:20190530T141310Z
UID:6573-1560533400-1560538800@biblioteka.szemud.pl
SUMMARY:Spotkanie stylistyczne "Włosy owiane wierszem..." z Katariną Lavmel w Bibliotece w Kielnie
DESCRIPTION:
URL:https://biblioteka.szemud.pl/index.php/event/spotkanie-stylistyczne-w-katarina-lavmel-w-bibliotece-w-kielnie/
LOCATION:Biblioteka w Kielnie\, ul. Oliwska 46\, Kielno
END:VEVENT
BEGIN:VEVENT
DTSTART;TZID=Europe/Warsaw:20190618T160000
DTEND;TZID=Europe/Warsaw:20190618T173000
DTSTAMP:20260423T123449
CREATED:20190530T142009Z
LAST-MODIFIED:20190530T142009Z
UID:6579-1560873600-1560879000@biblioteka.szemud.pl
SUMMARY:Warsztaty malowania na tkaninach w Bibliotece w Kielnie
DESCRIPTION:
URL:https://biblioteka.szemud.pl/index.php/event/warsztaty-malowania-na-tkaninach-w-bibliotece-w-kielnie/
LOCATION:Biblioteka w Kielnie\, ul. Oliwska 46\, Kielno
ATTACH;FMTTYPE=image/jpeg:https://biblioteka.szemud.pl/wp-content/uploads/2019/05/Warsztaty-Bojano-i-Kielno.jpg
END:VEVENT
BEGIN:VEVENT
DTSTART;TZID=Europe/Warsaw:20190619T140000
DTEND;TZID=Europe/Warsaw:20190619T160000
DTSTAMP:20260423T123449
CREATED:20190530T142058Z
LAST-MODIFIED:20190530T142751Z
UID:6581-1560952800-1560960000@biblioteka.szemud.pl
SUMMARY:Warsztaty malowania na tkaninach w Bibliotece w Bojanie
DESCRIPTION:
URL:https://biblioteka.szemud.pl/index.php/event/warsztaty-malowania-na-tkaninach-w-bibliotece-w-bojanie/
LOCATION:Biblioteka w Bojanie\, ul. J. Wybickiego 38\, Bojano
ATTACH;FMTTYPE=image/jpeg:https://biblioteka.szemud.pl/wp-content/uploads/2019/05/Warsztaty-Bojano-i-Kielno.jpg
END:VEVENT
BEGIN:VEVENT
DTSTART;TZID=Europe/Warsaw:20190624T180000
DTEND;TZID=Europe/Warsaw:20190624T235900
DTSTAMP:20260423T123449
CREATED:20190606T131638Z
LAST-MODIFIED:20190606T131724Z
UID:7170-1561399200-1561420740@biblioteka.szemud.pl
SUMMARY:Noc w Bibliotece w Częstkowie
DESCRIPTION:
URL:https://biblioteka.szemud.pl/index.php/event/noc-w-bibliotece-w-czestkowie-3/
LOCATION:Biblioteka w Częstkowie\, ul. Szkolna 9\, Czestkowo
ATTACH;FMTTYPE=image/jpeg:https://biblioteka.szemud.pl/wp-content/uploads/2019/06/Noc-2019.jpg
END:VEVENT
BEGIN:VEVENT
DTSTART;TZID=Europe/Warsaw:20190625T180000
DTEND;TZID=Europe/Warsaw:20190625T235900
DTSTAMP:20260423T123449
CREATED:20190606T131855Z
LAST-MODIFIED:20190606T131855Z
UID:7172-1561485600-1561507140@biblioteka.szemud.pl
SUMMARY:Noc w Bibliotece w Łebnie
DESCRIPTION:
URL:https://biblioteka.szemud.pl/index.php/event/noc-w-bibliotece-w-lebnie-3/
LOCATION:Biblioteka w Łebnie\, ul. Kartuska 9\, Łebno
ATTACH;FMTTYPE=image/jpeg:https://biblioteka.szemud.pl/wp-content/uploads/2019/06/Noc-2019.jpg
END:VEVENT
BEGIN:VEVENT
DTSTART;TZID=Europe/Warsaw:20190626T180000
DTEND;TZID=Europe/Warsaw:20190626T235900
DTSTAMP:20260423T123449
CREATED:20190606T132221Z
LAST-MODIFIED:20190606T132221Z
UID:7174-1561572000-1561593540@biblioteka.szemud.pl
SUMMARY:Noc w Bibliotece w Bojanie
DESCRIPTION:
URL:https://biblioteka.szemud.pl/index.php/event/noc-w-bibliotece-w-bojanie-3/
LOCATION:Biblioteka w Bojanie\, ul. J. Wybickiego 38\, Bojano
ATTACH;FMTTYPE=image/jpeg:https://biblioteka.szemud.pl/wp-content/uploads/2019/06/Noc-2019.jpg
END:VEVENT
BEGIN:VEVENT
DTSTART;TZID=Europe/Warsaw:20190627T180000
DTEND;TZID=Europe/Warsaw:20190627T235900
DTSTAMP:20260423T123449
CREATED:20190606T132354Z
LAST-MODIFIED:20190606T132354Z
UID:7176-1561658400-1561679940@biblioteka.szemud.pl
SUMMARY:Noc w Bibliotece w Kielnie
DESCRIPTION:
URL:https://biblioteka.szemud.pl/index.php/event/noc-w-bibliotece-w-kielnie-3/
LOCATION:Biblioteka w Kielnie\, ul. Oliwska 46\, Kielno
END:VEVENT
BEGIN:VEVENT
DTSTART;TZID=Europe/Warsaw:20190628T180000
DTEND;TZID=Europe/Warsaw:20190628T235900
DTSTAMP:20260423T123449
CREATED:20190606T132444Z
LAST-MODIFIED:20190606T132444Z
UID:7178-1561744800-1561766340@biblioteka.szemud.pl
SUMMARY:Noc w Bibliotece w Szemudzie
DESCRIPTION:
URL:https://biblioteka.szemud.pl/index.php/event/noc-w-bibliotece-w-szemudzie-3/
LOCATION:Biblioteka w Szemudzie\, Samorządowa 1\, Szemud
ATTACH;FMTTYPE=image/jpeg:https://biblioteka.szemud.pl/wp-content/uploads/2019/06/Noc-2019.jpg
END:VEVENT
END:VCALENDAR