BEGIN:VCALENDAR
VERSION:2.0
PRODID:-//Biblioteka Publiczna Gminy Szemud - ECPv6.15.20//NONSGML v1.0//EN
CALSCALE:GREGORIAN
METHOD:PUBLISH
X-ORIGINAL-URL:https://biblioteka.szemud.pl
X-WR-CALDESC:Wydarzenia dla Biblioteka Publiczna Gminy Szemud
REFRESH-INTERVAL;VALUE=DURATION:PT1H
X-Robots-Tag:noindex
X-PUBLISHED-TTL:PT1H
BEGIN:VTIMEZONE
TZID:Europe/Warsaw
BEGIN:DAYLIGHT
TZOFFSETFROM:+0100
TZOFFSETTO:+0200
TZNAME:CEST
DTSTART:20180325T010000
END:DAYLIGHT
BEGIN:STANDARD
TZOFFSETFROM:+0200
TZOFFSETTO:+0100
TZNAME:CET
DTSTART:20181028T010000
END:STANDARD
BEGIN:DAYLIGHT
TZOFFSETFROM:+0100
TZOFFSETTO:+0200
TZNAME:CEST
DTSTART:20190331T010000
END:DAYLIGHT
BEGIN:STANDARD
TZOFFSETFROM:+0200
TZOFFSETTO:+0100
TZNAME:CET
DTSTART:20191027T010000
END:STANDARD
BEGIN:DAYLIGHT
TZOFFSETFROM:+0100
TZOFFSETTO:+0200
TZNAME:CEST
DTSTART:20200329T010000
END:DAYLIGHT
BEGIN:STANDARD
TZOFFSETFROM:+0200
TZOFFSETTO:+0100
TZNAME:CET
DTSTART:20201025T010000
END:STANDARD
END:VTIMEZONE
BEGIN:VEVENT
DTSTART;TZID=Europe/Warsaw:20190507T090000
DTEND;TZID=Europe/Warsaw:20190507T110000
DTSTAMP:20260423T135012
CREATED:20190510T092733Z
LAST-MODIFIED:20190510T100910Z
UID:5604-1557219600-1557226800@biblioteka.szemud.pl
SUMMARY:Konkurs “Mistrz Pięknego Czytania” w Bibliotece w Bojanie
DESCRIPTION:
URL:https://biblioteka.szemud.pl/index.php/event/konkurs-mistrz-pieknego-czytania-w-bibliotece-w-bojanie-3/
LOCATION:Biblioteka w Bojanie\, ul. J. Wybickiego 38\, Bojano
ATTACH;FMTTYPE=image/jpeg:https://biblioteka.szemud.pl/wp-content/uploads/2019/05/Tydzień-Bibliotek-2019.jpg
END:VEVENT
BEGIN:VEVENT
DTSTART;TZID=Europe/Warsaw:20190507T090000
DTEND;TZID=Europe/Warsaw:20190507T120000
DTSTAMP:20260423T135012
CREATED:20190510T090956Z
LAST-MODIFIED:20190510T091118Z
UID:5589-1557219600-1557230400@biblioteka.szemud.pl
SUMMARY:Gminny Konkurs Recytatorski Literatury Kaszubskiej "Rodno Mowa"
DESCRIPTION:
URL:https://biblioteka.szemud.pl/index.php/event/gminny-konkurs-recytatorski-literatury-kaszubskiej-rodno-mowa-3/
LOCATION:Biblioteka w Szemudzie\, Samorządowa 1\, Szemud
ATTACH;FMTTYPE=image/jpeg:https://biblioteka.szemud.pl/wp-content/uploads/2019/05/Rodna-Mowa.jpg
END:VEVENT
BEGIN:VEVENT
DTSTART;TZID=Europe/Warsaw:20190508T090000
DTEND;TZID=Europe/Warsaw:20190508T103000
DTSTAMP:20260423T135012
CREATED:20190510T091515Z
LAST-MODIFIED:20190510T091602Z
UID:5592-1557306000-1557311400@biblioteka.szemud.pl
SUMMARY:Spotkanie autorskie z Kubą Kornackim w Bibliotece w Kielnie
DESCRIPTION:
URL:https://biblioteka.szemud.pl/index.php/event/spotkanie-autorskie-z-kuba-kornackim-w-bibliotece-w-kielnie/
LOCATION:Biblioteka w Kielnie\, ul. Oliwska 46\, Kielno
ATTACH;FMTTYPE=image/jpeg:https://biblioteka.szemud.pl/wp-content/uploads/2019/05/Tydzień-Bibliotek-2019.jpg
END:VEVENT
BEGIN:VEVENT
DTSTART;TZID=Europe/Warsaw:20190508T104500
DTEND;TZID=Europe/Warsaw:20190508T114500
DTSTAMP:20260423T135012
CREATED:20190510T102056Z
LAST-MODIFIED:20190510T102340Z
UID:5614-1557312300-1557315900@biblioteka.szemud.pl
SUMMARY:Pasowanie na czytelnika w Bibliotece w Bojanie
DESCRIPTION:
URL:https://biblioteka.szemud.pl/index.php/event/pasowanie-na-czytelnika-w-bibliotece-w-bojanie-2/
LOCATION:Biblioteka w Bojanie\, ul. J. Wybickiego 38\, Bojano
ATTACH;FMTTYPE=image/jpeg:https://biblioteka.szemud.pl/wp-content/uploads/2019/05/Tydzień-Bibliotek-2019.jpg
END:VEVENT
BEGIN:VEVENT
DTSTART;TZID=Europe/Warsaw:20190508T110000
DTEND;TZID=Europe/Warsaw:20190508T123000
DTSTAMP:20260423T135012
CREATED:20190510T091719Z
LAST-MODIFIED:20190510T091719Z
UID:5594-1557313200-1557318600@biblioteka.szemud.pl
SUMMARY:Spotkanie autorskie z Kubą Kornackim w Bibliotece w Częstkowie
DESCRIPTION:
URL:https://biblioteka.szemud.pl/index.php/event/spotkanie-autorskie-z-kuba-kornackim-w-bibliotece-w-czestkowie/
ATTACH;FMTTYPE=image/jpeg:https://biblioteka.szemud.pl/wp-content/uploads/2019/05/Tydzień-Bibliotek-2019.jpg
END:VEVENT
BEGIN:VEVENT
DTSTART;TZID=Europe/Warsaw:20190509T090000
DTEND;TZID=Europe/Warsaw:20190509T110000
DTSTAMP:20260423T135012
CREATED:20190510T101254Z
LAST-MODIFIED:20190510T101318Z
UID:5606-1557392400-1557399600@biblioteka.szemud.pl
SUMMARY:Konkurs “Mistrz Pięknego Czytania” w Bibliotece w Szemudzie
DESCRIPTION:
URL:https://biblioteka.szemud.pl/index.php/event/konkurs-mistrz-pieknego-czytania-w-bibliotece-w-szemudzie-3/
LOCATION:Biblioteka w Szemudzie\, Samorządowa 1\, Szemud
ATTACH;FMTTYPE=image/jpeg:https://biblioteka.szemud.pl/wp-content/uploads/2019/05/Tydzień-Bibliotek-2019.jpg
END:VEVENT
BEGIN:VEVENT
DTSTART;TZID=Europe/Warsaw:20190509T090000
DTEND;TZID=Europe/Warsaw:20190509T110000
DTSTAMP:20260423T135012
CREATED:20190510T101451Z
LAST-MODIFIED:20190510T101540Z
UID:5608-1557392400-1557399600@biblioteka.szemud.pl
SUMMARY:Konkurs “Mistrz Pięknego Czytania” w Bibliotece w Łebnie
DESCRIPTION:
URL:https://biblioteka.szemud.pl/index.php/event/konkurs-mistrz-pieknego-czytania-w-bibliotece-w-lebnie-3/
LOCATION:Biblioteka w Łebnie\, ul. Kartuska 9\, Łebno
ATTACH;FMTTYPE=image/jpeg:https://biblioteka.szemud.pl/wp-content/uploads/2019/05/Tydzień-Bibliotek-2019.jpg
END:VEVENT
BEGIN:VEVENT
DTSTART;TZID=Europe/Warsaw:20190509T100000
DTEND;TZID=Europe/Warsaw:20190509T120000
DTSTAMP:20260423T135012
CREATED:20190510T101632Z
LAST-MODIFIED:20190510T101702Z
UID:5610-1557396000-1557403200@biblioteka.szemud.pl
SUMMARY:Konkurs “Mistrz Pięknego Czytania” w Bibliotece w Kielnie
DESCRIPTION:
URL:https://biblioteka.szemud.pl/index.php/event/konkurs-mistrz-pieknego-czytania-w-bibliotece-w-kielnie-3/
LOCATION:Biblioteka w Kielnie\, ul. Oliwska 46\, Kielno
ATTACH;FMTTYPE=image/jpeg:https://biblioteka.szemud.pl/wp-content/uploads/2019/05/Tydzień-Bibliotek-2019.jpg
END:VEVENT
BEGIN:VEVENT
DTSTART;TZID=Europe/Warsaw:20190510T090000
DTEND;TZID=Europe/Warsaw:20190510T103000
DTSTAMP:20260423T135012
CREATED:20190510T091932Z
LAST-MODIFIED:20190510T092514Z
UID:5596-1557478800-1557484200@biblioteka.szemud.pl
SUMMARY:Spotkanie autorskie z Kubą Kornackim w Bibliotece w Łebnie
DESCRIPTION:
URL:https://biblioteka.szemud.pl/index.php/event/spotkanie-autorskie-z-kuba-kornackim-w-bibliotece-w-lebnie/
LOCATION:Biblioteka w Łebnie\, ul. Kartuska 9\, Łebno
ATTACH;FMTTYPE=image/jpeg:https://biblioteka.szemud.pl/wp-content/uploads/2019/05/Tydzień-Bibliotek-2019.jpg
END:VEVENT
BEGIN:VEVENT
DTSTART;TZID=Europe/Warsaw:20190510T110000
DTEND;TZID=Europe/Warsaw:20190510T123000
DTSTAMP:20260423T135012
CREATED:20190510T092055Z
LAST-MODIFIED:20190510T092055Z
UID:5599-1557486000-1557491400@biblioteka.szemud.pl
SUMMARY:Spotkanie autorskie z Kubą Kornackim w Bibliotece w Bojanie
DESCRIPTION:
URL:https://biblioteka.szemud.pl/index.php/event/spotkanie-autorskie-z-kuba-kornackim-w-bibliotece-w-bojanie/
LOCATION:Biblioteka w Bojanie\, ul. J. Wybickiego 38\, Bojano
ATTACH;FMTTYPE=image/jpeg:https://biblioteka.szemud.pl/wp-content/uploads/2019/05/Tydzień-Bibliotek-2019.jpg
END:VEVENT
BEGIN:VEVENT
DTSTART;TZID=Europe/Warsaw:20190510T180000
DTEND;TZID=Europe/Warsaw:20190510T200000
DTSTAMP:20260423T135012
CREATED:20190510T121114Z
LAST-MODIFIED:20190510T121114Z
UID:5646-1557511200-1557518400@biblioteka.szemud.pl
SUMMARY:„Dźwięki Kaszub” w Bibliotece w Kielnie
DESCRIPTION:
URL:https://biblioteka.szemud.pl/index.php/event/dzwieki-kaszub-w-bibliotece-w-kielnie/
LOCATION:Biblioteka w Kielnie\, ul. Oliwska 46\, Kielno
ATTACH;FMTTYPE=image/jpeg:https://biblioteka.szemud.pl/wp-content/uploads/2019/05/Trepczyk-Kielno.jpg
END:VEVENT
BEGIN:VEVENT
DTSTART;TZID=Europe/Warsaw:20190513T090000
DTEND;TZID=Europe/Warsaw:20190513T103000
DTSTAMP:20260423T135012
CREATED:20190510T092211Z
LAST-MODIFIED:20190510T092301Z
UID:5601-1557738000-1557743400@biblioteka.szemud.pl
SUMMARY:Spotkanie autorskie z Kubą Kornackim w Bibliotece w Szemudzie
DESCRIPTION:
URL:https://biblioteka.szemud.pl/index.php/event/spotkanie-autorskie-z-kuba-kornackim-w-bibliotece-w-szemudzie/
LOCATION:Biblioteka w Szemudzie\, Samorządowa 1\, Szemud
ATTACH;FMTTYPE=image/jpeg:https://biblioteka.szemud.pl/wp-content/uploads/2019/05/Tydzień-Bibliotek-2019.jpg
END:VEVENT
BEGIN:VEVENT
DTSTART;TZID=Europe/Warsaw:20190513T123000
DTEND;TZID=Europe/Warsaw:20190513T143000
DTSTAMP:20260423T135012
CREATED:20190510T101833Z
LAST-MODIFIED:20190510T101833Z
UID:5612-1557750600-1557757800@biblioteka.szemud.pl
SUMMARY:Konkurs “Mistrz Pięknego Czytania” w Bibliotece w Częstkowie
DESCRIPTION:
URL:https://biblioteka.szemud.pl/index.php/event/konkurs-mistrz-pieknego-czytania-w-bibliotece-w-czestkowie-3/
LOCATION:Biblioteka w Częstkowie\, ul. Szkolna 9\, Czestkowo
ATTACH;FMTTYPE=image/jpeg:https://biblioteka.szemud.pl/wp-content/uploads/2019/05/Tydzień-Bibliotek-2019.jpg
END:VEVENT
BEGIN:VEVENT
DTSTART;TZID=Europe/Warsaw:20190513T150000
DTEND;TZID=Europe/Warsaw:20190513T163000
DTSTAMP:20260423T135012
CREATED:20190510T121931Z
LAST-MODIFIED:20190510T121931Z
UID:5651-1557759600-1557765000@biblioteka.szemud.pl
SUMMARY:Warsztaty "Upominek dla mamy" w Bibliotece w Częstkowie
DESCRIPTION:
URL:https://biblioteka.szemud.pl/index.php/event/warsztaty-upominek-dla-mamy-w-bibliotece-w-czestkowie/
LOCATION:Biblioteka w Częstkowie\, ul. Szkolna 9\, Czestkowo
ATTACH;FMTTYPE=image/jpeg:https://biblioteka.szemud.pl/wp-content/uploads/2019/05/Warsztaty-Częstkowo.jpg
END:VEVENT
BEGIN:VEVENT
DTSTART;TZID=Europe/Warsaw:20190514T090000
DTEND;TZID=Europe/Warsaw:20190514T100000
DTSTAMP:20260423T135012
CREATED:20190510T102600Z
LAST-MODIFIED:20190510T103947Z
UID:5617-1557824400-1557828000@biblioteka.szemud.pl
SUMMARY:Pasowanie na czytelnika w Bibliotece w Szemudzie
DESCRIPTION:
URL:https://biblioteka.szemud.pl/index.php/event/pasowanie-na-czytelnika-w-bibliotece-w-szemudzie-2/
LOCATION:Biblioteka w Szemudzie\, Samorządowa 1\, Szemud
ATTACH;FMTTYPE=image/jpeg:https://biblioteka.szemud.pl/wp-content/uploads/2019/05/Tydzień-Bibliotek-2019.jpg
END:VEVENT
BEGIN:VEVENT
DTSTART;TZID=Europe/Warsaw:20190514T100000
DTEND;TZID=Europe/Warsaw:20190514T110000
DTSTAMP:20260423T135012
CREATED:20190510T102758Z
LAST-MODIFIED:20190510T103847Z
UID:5619-1557828000-1557831600@biblioteka.szemud.pl
SUMMARY:Pasowanie na czytelnika w Bibliotece w Kielnie
DESCRIPTION:
URL:https://biblioteka.szemud.pl/index.php/event/pasowanie-na-czytelnika-w-bibliotece-w-kielnie/
LOCATION:Biblioteka w Kielnie\, ul. Oliwska 46\, Kielno
ATTACH;FMTTYPE=image/jpeg:https://biblioteka.szemud.pl/wp-content/uploads/2019/05/Tydzień-Bibliotek-2019.jpg
END:VEVENT
BEGIN:VEVENT
DTSTART;TZID=Europe/Warsaw:20190514T113000
DTEND;TZID=Europe/Warsaw:20190514T123000
DTSTAMP:20260423T135012
CREATED:20190510T103025Z
LAST-MODIFIED:20190513T172338Z
UID:5621-1557833400-1557837000@biblioteka.szemud.pl
SUMMARY:Pasowanie na czytelnika w Bibliotece w Łebnie
DESCRIPTION:
URL:https://biblioteka.szemud.pl/index.php/event/pasowanie-na-czytelnika-w-bibliotece-w-lebnie-3/
LOCATION:Biblioteka w Łebnie\, ul. Kartuska 9\, Łebno
ATTACH;FMTTYPE=image/jpeg:https://biblioteka.szemud.pl/wp-content/uploads/2019/05/Tydzień-Bibliotek-2019.jpg
END:VEVENT
BEGIN:VEVENT
DTSTART;TZID=Europe/Warsaw:20190515T180000
DTEND;TZID=Europe/Warsaw:20190515T200000
DTSTAMP:20260423T135012
CREATED:20190510T120739Z
LAST-MODIFIED:20190510T120739Z
UID:5640-1557943200-1557950400@biblioteka.szemud.pl
SUMMARY:Gala Kultury
DESCRIPTION:
URL:https://biblioteka.szemud.pl/index.php/event/gala-kultury/
LOCATION:Hala sportowa w Szemudzie\, Szkolna 4a\, Szemud\, pomorskie\, 84-217\, Polska
ATTACH;FMTTYPE=image/jpeg:https://biblioteka.szemud.pl/wp-content/uploads/2019/05/plakat2019.jpg
END:VEVENT
BEGIN:VEVENT
DTSTART;TZID=Europe/Warsaw:20190516T090000
DTEND;TZID=Europe/Warsaw:20190516T110000
DTSTAMP:20260423T135012
CREATED:20190510T120521Z
LAST-MODIFIED:20190510T120521Z
UID:5638-1557997200-1558004400@biblioteka.szemud.pl
SUMMARY:Konkurs “Gminny Mistrz Pięknego Czytania” w Bibliotece w Szemudzie
DESCRIPTION:
URL:https://biblioteka.szemud.pl/index.php/event/konkurs-gminny-mistrz-pieknego-czytania-w-bibliotece-w-szemudzie-3/
LOCATION:Biblioteka w Szemudzie\, Samorządowa 1\, Szemud
ATTACH;FMTTYPE=image/jpeg:https://biblioteka.szemud.pl/wp-content/uploads/2019/05/Tydzień-Bibliotek-2019.jpg
END:VEVENT
BEGIN:VEVENT
DTSTART;TZID=Europe/Warsaw:20190520T150000
DTEND;TZID=Europe/Warsaw:20190520T170000
DTSTAMP:20260423T135012
CREATED:20190510T125810Z
LAST-MODIFIED:20190510T125810Z
UID:5659-1558364400-1558371600@biblioteka.szemud.pl
SUMMARY:Warsztaty "Upominek na Dzień Matki" w Bibliotece w Szemudzie
DESCRIPTION:
URL:https://biblioteka.szemud.pl/index.php/event/warsztaty-upominek-na-dzien-matki-w-bibliotece-w-szemudzie/
LOCATION:Biblioteka w Szemudzie\, Samorządowa 1\, Szemud
ATTACH;FMTTYPE=image/jpeg:https://biblioteka.szemud.pl/wp-content/uploads/2019/05/Warsztaty-Szemud.jpg
END:VEVENT
BEGIN:VEVENT
DTSTART;TZID=Europe/Warsaw:20190521T113000
DTEND;TZID=Europe/Warsaw:20190521T123000
DTSTAMP:20260423T135012
CREATED:20190510T105644Z
LAST-MODIFIED:20190510T105823Z
UID:5625-1558438200-1558441800@biblioteka.szemud.pl
SUMMARY:Spektakl dla dzieci "Na tropie afery gdzie podziały się litery?!" w Bibliotece w Łebnie
DESCRIPTION:
URL:https://biblioteka.szemud.pl/index.php/event/spektakl-dla-dzieci-na-tropie-afery-gdzie-podzialy-sie-litery-w-bibliotece-w-lebnie/
LOCATION:Biblioteka w Łebnie\, ul. Kartuska 9\, Łebno
ATTACH;FMTTYPE=image/jpeg:https://biblioteka.szemud.pl/wp-content/uploads/2019/05/Tydzień-Bibliotek-2019.jpg
END:VEVENT
BEGIN:VEVENT
DTSTART;TZID=Europe/Warsaw:20190521T130000
DTEND;TZID=Europe/Warsaw:20190521T140000
DTSTAMP:20260423T135012
CREATED:20190510T110133Z
LAST-MODIFIED:20190510T110133Z
UID:5627-1558443600-1558447200@biblioteka.szemud.pl
SUMMARY:Spektakl dla dzieci “Na tropie afery gdzie podziały się litery?!” w Bibliotece w Częstkowie
DESCRIPTION:
URL:https://biblioteka.szemud.pl/index.php/event/spektakl-dla-dzieci-na-tropie-afery-gdzie-podzialy-sie-litery-w-bibliotece-w-czestkowie/
LOCATION:Biblioteka w Częstkowie\, ul. Szkolna 9\, Czestkowo
ATTACH;FMTTYPE=image/jpeg:https://biblioteka.szemud.pl/wp-content/uploads/2019/05/Tydzień-Bibliotek-2019.jpg
END:VEVENT
BEGIN:VEVENT
DTSTART;TZID=Europe/Warsaw:20190522T090000
DTEND;TZID=Europe/Warsaw:20190522T100000
DTSTAMP:20260423T135012
CREATED:20190510T110243Z
LAST-MODIFIED:20190510T110320Z
UID:5629-1558515600-1558519200@biblioteka.szemud.pl
SUMMARY:Spektakl dla dzieci “Na tropie afery gdzie podziały się litery?!” w Bibliotece w Szemudzie
DESCRIPTION:
URL:https://biblioteka.szemud.pl/index.php/event/spektakl-dla-dzieci-na-tropie-afery-gdzie-podzialy-sie-litery-w-bibliotece-w-szemudzie/
LOCATION:Biblioteka w Szemudzie\, Samorządowa 1\, Szemud
ATTACH;FMTTYPE=image/jpeg:https://biblioteka.szemud.pl/wp-content/uploads/2019/05/Tydzień-Bibliotek-2019.jpg
END:VEVENT
BEGIN:VEVENT
DTSTART;TZID=Europe/Warsaw:20190522T110000
DTEND;TZID=Europe/Warsaw:20190522T120000
DTSTAMP:20260423T135012
CREATED:20190510T110616Z
LAST-MODIFIED:20190510T110616Z
UID:5631-1558522800-1558526400@biblioteka.szemud.pl
SUMMARY:Spektakl dla dzieci “Na tropie afery gdzie podziały się litery?!” w Bibliotece w Kielnie
DESCRIPTION:
URL:https://biblioteka.szemud.pl/index.php/event/spektakl-dla-dzieci-na-tropie-afery-gdzie-podzialy-sie-litery-w-bibliotece-w-kielnie/
LOCATION:Biblioteka w Kielnie\, ul. Oliwska 46\, Kielno
ATTACH;FMTTYPE=image/jpeg:https://biblioteka.szemud.pl/wp-content/uploads/2019/05/Tydzień-Bibliotek-2019.jpg
END:VEVENT
BEGIN:VEVENT
DTSTART;TZID=Europe/Warsaw:20190522T130000
DTEND;TZID=Europe/Warsaw:20190522T140000
DTSTAMP:20260423T135012
CREATED:20190510T110842Z
LAST-MODIFIED:20190510T110856Z
UID:5633-1558530000-1558533600@biblioteka.szemud.pl
SUMMARY:Spektakl dla dzieci “Na tropie afery gdzie podziały się litery?!” w Bibliotece w Bojanie
DESCRIPTION:
URL:https://biblioteka.szemud.pl/index.php/event/spektakl-dla-dzieci-na-tropie-afery-gdzie-podzialy-sie-litery-w-bibliotece-w-bojanie/
LOCATION:Biblioteka w Bojanie\, ul. J. Wybickiego 38\, Bojano
ATTACH;FMTTYPE=image/jpeg:https://biblioteka.szemud.pl/wp-content/uploads/2019/05/Tydzień-Bibliotek-2019.jpg
END:VEVENT
BEGIN:VEVENT
DTSTART;TZID=Europe/Warsaw:20190522T140000
DTEND;TZID=Europe/Warsaw:20190522T150000
DTSTAMP:20260423T135012
CREATED:20190510T104352Z
LAST-MODIFIED:20190510T105202Z
UID:5623-1558533600-1558537200@biblioteka.szemud.pl
SUMMARY:Pasowanie na czytelnika w Bibliotece w Częstkowie
DESCRIPTION:
URL:https://biblioteka.szemud.pl/index.php/event/pasowanie-na-czytelnika-w-bibliotece-w-czestkowie-3/
LOCATION:Biblioteka w Częstkowie\, ul. Szkolna 9\, Czestkowo
ATTACH;FMTTYPE=image/jpeg:https://biblioteka.szemud.pl/wp-content/uploads/2019/05/Tydzień-Bibliotek-2019.jpg
END:VEVENT
BEGIN:VEVENT
DTSTART;TZID=Europe/Warsaw:20190523T100000
DTEND;TZID=Europe/Warsaw:20190523T120000
DTSTAMP:20260423T135012
CREATED:20190510T120911Z
LAST-MODIFIED:20190510T120920Z
UID:5643-1558605600-1558612800@biblioteka.szemud.pl
SUMMARY:Rajd Nordic Walking Bibliotekarzy i Czytelników w Bibliotece w Łebnie
DESCRIPTION:
URL:https://biblioteka.szemud.pl/index.php/event/rajd-nordic-walking-bibliotekarzy-i-czytelnikow-w-bibliotece-w-lebnie/
LOCATION:Biblioteka w Łebnie\, ul. Kartuska 9\, Łebno
ATTACH;FMTTYPE=image/jpeg:https://biblioteka.szemud.pl/wp-content/uploads/2019/05/Tydzień-Bibliotek-2019.jpg
END:VEVENT
BEGIN:VEVENT
DTSTART;TZID=Europe/Warsaw:20190523T153000
DTEND;TZID=Europe/Warsaw:20190523T180000
DTSTAMP:20260423T135012
CREATED:20190510T122055Z
LAST-MODIFIED:20190513T141115Z
UID:5653-1558625400-1558634400@biblioteka.szemud.pl
SUMMARY:Warsztaty "Kwiaty" w Bibliotece w Częstkowie
DESCRIPTION:
URL:https://biblioteka.szemud.pl/index.php/event/warsztaty-kwiaty-w-bibliotece-w-czestkowie/
LOCATION:Biblioteka w Częstkowie\, ul. Szkolna 9\, Czestkowo
ATTACH;FMTTYPE=image/jpeg:https://biblioteka.szemud.pl/wp-content/uploads/2019/05/Warsztaty-Częstkowo.jpg
END:VEVENT
BEGIN:VEVENT
DTSTART;TZID=Europe/Warsaw:20190528T160000
DTEND;TZID=Europe/Warsaw:20190528T173000
DTSTAMP:20260423T135012
CREATED:20190513T140733Z
LAST-MODIFIED:20190513T140733Z
UID:5676-1559059200-1559064600@biblioteka.szemud.pl
SUMMARY:Warsztaty “Gipsoryt" w Bibliotece w Kielnie
DESCRIPTION:
URL:https://biblioteka.szemud.pl/index.php/event/warsztaty-gipsoryt-w-bibliotece-w-kielnie/
LOCATION:Biblioteka w Kielnie\, ul. Oliwska 46\, Kielno
ATTACH;FMTTYPE=image/jpeg:https://biblioteka.szemud.pl/wp-content/uploads/2019/05/Warsztaty-Kielno.jpg
END:VEVENT
BEGIN:VEVENT
DTSTART;TZID=Europe/Warsaw:20190528T160000
DTEND;TZID=Europe/Warsaw:20190528T180000
DTSTAMP:20260423T135012
CREATED:20190513T141616Z
LAST-MODIFIED:20190513T141616Z
UID:5683-1559059200-1559066400@biblioteka.szemud.pl
SUMMARY:Warsztaty “Decoupage” w Bibliotece w Bojanie
DESCRIPTION:
URL:https://biblioteka.szemud.pl/index.php/event/warsztaty-decoupage-w-bibliotece-w-bojanie/
LOCATION:Biblioteka w Bojanie\, ul. J. Wybickiego 38\, Bojano
ATTACH;FMTTYPE=image/jpeg:https://biblioteka.szemud.pl/wp-content/uploads/2019/05/Warsztaty-Bojano.jpg
END:VEVENT
END:VCALENDAR