BEGIN:VCALENDAR
VERSION:2.0
PRODID:-//Biblioteka Publiczna Gminy Szemud - ECPv6.15.20//NONSGML v1.0//EN
CALSCALE:GREGORIAN
METHOD:PUBLISH
X-ORIGINAL-URL:https://biblioteka.szemud.pl
X-WR-CALDESC:Wydarzenia dla Biblioteka Publiczna Gminy Szemud
REFRESH-INTERVAL;VALUE=DURATION:PT1H
X-Robots-Tag:noindex
X-PUBLISHED-TTL:PT1H
BEGIN:VTIMEZONE
TZID:Europe/Warsaw
BEGIN:DAYLIGHT
TZOFFSETFROM:+0100
TZOFFSETTO:+0200
TZNAME:CEST
DTSTART:20180325T010000
END:DAYLIGHT
BEGIN:STANDARD
TZOFFSETFROM:+0200
TZOFFSETTO:+0100
TZNAME:CET
DTSTART:20181028T010000
END:STANDARD
BEGIN:DAYLIGHT
TZOFFSETFROM:+0100
TZOFFSETTO:+0200
TZNAME:CEST
DTSTART:20190331T010000
END:DAYLIGHT
BEGIN:STANDARD
TZOFFSETFROM:+0200
TZOFFSETTO:+0100
TZNAME:CET
DTSTART:20191027T010000
END:STANDARD
BEGIN:DAYLIGHT
TZOFFSETFROM:+0100
TZOFFSETTO:+0200
TZNAME:CEST
DTSTART:20200329T010000
END:DAYLIGHT
BEGIN:STANDARD
TZOFFSETFROM:+0200
TZOFFSETTO:+0100
TZNAME:CET
DTSTART:20201025T010000
END:STANDARD
END:VTIMEZONE
BEGIN:VEVENT
DTSTART;TZID=Europe/Warsaw:20190404T160000
DTEND;TZID=Europe/Warsaw:20190404T180000
DTSTAMP:20260423T151954
CREATED:20190327T115127Z
LAST-MODIFIED:20190327T115127Z
UID:4390-1554393600-1554400800@biblioteka.szemud.pl
SUMMARY:Warsztaty wielkanocne w Bibliotece w Częstkowie
DESCRIPTION:
URL:https://biblioteka.szemud.pl/index.php/event/warsztaty-wielkanocne-w-bibliotece-w-czestkowie/
LOCATION:Biblioteka w Częstkowie\, ul. Szkolna 9\, Czestkowo
ATTACH;FMTTYPE=image/jpeg:https://biblioteka.szemud.pl/wp-content/uploads/2016/10/Warsztaty-Wielkanocne-Częstkowo1.jpg
END:VEVENT
BEGIN:VEVENT
DTSTART;TZID=Europe/Warsaw:20190408T170000
DTEND;TZID=Europe/Warsaw:20190408T190000
DTSTAMP:20260423T151954
CREATED:20190327T120646Z
LAST-MODIFIED:20190327T120646Z
UID:4398-1554742800-1554750000@biblioteka.szemud.pl
SUMMARY:Rodzinne warsztaty wielkanocne w Bibliotece w Szemudzie
DESCRIPTION:
URL:https://biblioteka.szemud.pl/index.php/event/rodzinne-warsztaty-wielkanocne-w-bibliotece-w-szemudzie/
LOCATION:Biblioteka w Szemudzie\, Samorządowa 1\, Szemud
ATTACH;FMTTYPE=image/jpeg:https://biblioteka.szemud.pl/wp-content/uploads/2016/10/warsztaty-wielkanocne-2019.jpg
END:VEVENT
BEGIN:VEVENT
DTSTART;TZID=Europe/Warsaw:20190409T160000
DTEND;TZID=Europe/Warsaw:20190409T173000
DTSTAMP:20260423T151954
CREATED:20190327T121626Z
LAST-MODIFIED:20190327T121654Z
UID:4409-1554825600-1554831000@biblioteka.szemud.pl
SUMMARY:Warsztaty wielkanocne w Bibliotece w Kielnie
DESCRIPTION:
URL:https://biblioteka.szemud.pl/index.php/event/warsztaty-wielkanocne-w-bibliotece-w-kielnie-2/
LOCATION:Biblioteka w Kielnie\, ul. Oliwska 46\, Kielno
ATTACH;FMTTYPE=image/jpeg:https://biblioteka.szemud.pl/wp-content/uploads/2016/10/Warsztaty-Wielkanocne-Bojano-i-Kielno.jpg
END:VEVENT
BEGIN:VEVENT
DTSTART;TZID=Europe/Warsaw:20190411T160000
DTEND;TZID=Europe/Warsaw:20190411T180000
DTSTAMP:20260423T151954
CREATED:20190327T115342Z
LAST-MODIFIED:20190327T115342Z
UID:4392-1554998400-1555005600@biblioteka.szemud.pl
SUMMARY:Warsztaty wielkanocne w Bibliotece w Częstkowie
DESCRIPTION:
URL:https://biblioteka.szemud.pl/index.php/event/warsztaty-wielkanocne-w-bibliotece-w-czestkowie-2/
LOCATION:Biblioteka w Częstkowie\, ul. Szkolna 9\, Czestkowo
ATTACH;FMTTYPE=image/jpeg:https://biblioteka.szemud.pl/wp-content/uploads/2016/10/Warsztaty-Wielkanocne-Częstkowo1.jpg
END:VEVENT
BEGIN:VEVENT
DTSTART;TZID=Europe/Warsaw:20190411T160000
DTEND;TZID=Europe/Warsaw:20190411T180000
DTSTAMP:20260423T151954
CREATED:20190327T121330Z
LAST-MODIFIED:20190327T121345Z
UID:4405-1554998400-1555005600@biblioteka.szemud.pl
SUMMARY:Warsztaty wielkanocne w Bibliotece w Bojanie
DESCRIPTION:
URL:https://biblioteka.szemud.pl/index.php/event/warsztaty-wielkanocne-w-bibliotece-w-bojanie-2/
LOCATION:Biblioteka w Bojanie\, ul. J. Wybickiego 38\, Bojano
ATTACH;FMTTYPE=image/jpeg:https://biblioteka.szemud.pl/wp-content/uploads/2016/10/Warsztaty-Wielkanocne-Bojano-i-Kielno.jpg
END:VEVENT
BEGIN:VEVENT
DTSTART;TZID=Europe/Warsaw:20190415T160000
DTEND;TZID=Europe/Warsaw:20190415T173000
DTSTAMP:20260423T151954
CREATED:20190327T115518Z
LAST-MODIFIED:20190327T115546Z
UID:4394-1555344000-1555349400@biblioteka.szemud.pl
SUMMARY:Warsztaty wielkanocne w Bibliotece w Częstkowie
DESCRIPTION:
URL:https://biblioteka.szemud.pl/index.php/event/warsztaty-wielkanocne-w-bibliotece-w-czestkowie-3/
LOCATION:Biblioteka w Częstkowie\, ul. Szkolna 9\, Czestkowo
ATTACH;FMTTYPE=image/jpeg:https://biblioteka.szemud.pl/wp-content/uploads/2016/10/Warsztaty-Wielkanocne-Częstkowo1.jpg
END:VEVENT
BEGIN:VEVENT
DTSTART;TZID=Europe/Warsaw:20190416T160000
DTEND;TZID=Europe/Warsaw:20190416T173000
DTSTAMP:20260423T151954
CREATED:20190327T121501Z
LAST-MODIFIED:20190327T121501Z
UID:4407-1555430400-1555435800@biblioteka.szemud.pl
SUMMARY:Warsztaty wielkanocne w Bibliotece w Kielnie
DESCRIPTION:
URL:https://biblioteka.szemud.pl/index.php/event/warsztaty-wielkanocne-w-bibliotece-w-kielnie/
LOCATION:Biblioteka w Kielnie\, ul. Oliwska 46\, Kielno
ATTACH;FMTTYPE=image/jpeg:https://biblioteka.szemud.pl/wp-content/uploads/2016/10/Warsztaty-Wielkanocne-Bojano-i-Kielno.jpg
END:VEVENT
BEGIN:VEVENT
DTSTART;TZID=Europe/Warsaw:20190416T170000
DTEND;TZID=Europe/Warsaw:20190416T190000
DTSTAMP:20260423T151954
CREATED:20190403T085742Z
LAST-MODIFIED:20190524T101831Z
UID:4416-1555434000-1555441200@biblioteka.szemud.pl
SUMMARY:Koncert chóru "Varene" w Bibliotece w Szemudzie
DESCRIPTION:
URL:https://biblioteka.szemud.pl/index.php/event/koncert-choru-varene-w-bibliotece-w-szemudzie/
LOCATION:Biblioteka w Szemudzie\, Samorządowa 1\, Szemud
ATTACH;FMTTYPE=image/jpeg:https://biblioteka.szemud.pl/wp-content/uploads/2019/04/koncert-_Varene_.jpg
END:VEVENT
BEGIN:VEVENT
DTSTART;TZID=Europe/Warsaw:20190417T140000
DTEND;TZID=Europe/Warsaw:20190417T153000
DTSTAMP:20260423T151954
CREATED:20190327T121147Z
LAST-MODIFIED:20190327T121230Z
UID:4403-1555509600-1555515000@biblioteka.szemud.pl
SUMMARY:Warsztaty wielkanocne w Bibliotece w Bojanie
DESCRIPTION:
URL:https://biblioteka.szemud.pl/index.php/event/warsztaty-wielkanocne-w-bibliotece-w-bojanie/
LOCATION:Biblioteka w Bojanie\, ul. J. Wybickiego 38\, Bojano
ATTACH;FMTTYPE=image/jpeg:https://biblioteka.szemud.pl/wp-content/uploads/2016/10/Warsztaty-Wielkanocne-Bojano-i-Kielno.jpg
END:VEVENT
BEGIN:VEVENT
DTSTART;TZID=Europe/Warsaw:20190423T170000
DTEND;TZID=Europe/Warsaw:20190423T180000
DTSTAMP:20260423T151954
CREATED:20190403T091158Z
LAST-MODIFIED:20190403T091235Z
UID:4420-1556038800-1556042400@biblioteka.szemud.pl
SUMMARY:"Idę\, bo warto żyć!" seminarium edukacyjno-informacyjne w Bibliotece w Kielnie
DESCRIPTION:
URL:https://biblioteka.szemud.pl/index.php/event/ide-bo-warto-zyc-seminarium-edukacyjno-informacyjne-w-bibliotece-w-kielnie/
LOCATION:Biblioteka w Kielnie\, ul. Oliwska 46\, Kielno
ATTACH;FMTTYPE=image/jpeg:https://biblioteka.szemud.pl/wp-content/uploads/2016/10/mammografia-page-001.jpg
END:VEVENT
BEGIN:VEVENT
DTSTART;TZID=Europe/Warsaw:20190425T163000
DTEND;TZID=Europe/Warsaw:20190425T173000
DTSTAMP:20260423T151954
CREATED:20190403T091414Z
LAST-MODIFIED:20190403T091426Z
UID:4422-1556209800-1556213400@biblioteka.szemud.pl
SUMMARY:"Idę\, bo warto żyć!" seminarium edukacyjno-informacyjne w Bibliotece w Bojanie
DESCRIPTION:
URL:https://biblioteka.szemud.pl/index.php/event/ide-bo-warto-zyc-seminarium-edukacyjno-informacyjne-w-bibliotece-w-bojanie/
LOCATION:Biblioteka w Bojanie\, ul. J. Wybickiego 38\, Bojano
ATTACH;FMTTYPE=image/jpeg:https://biblioteka.szemud.pl/wp-content/uploads/2016/10/mammografia-page-001.jpg
END:VEVENT
BEGIN:VEVENT
DTSTART;TZID=Europe/Warsaw:20190425T180000
DTEND;TZID=Europe/Warsaw:20190425T190000
DTSTAMP:20260423T151954
CREATED:20190403T091716Z
LAST-MODIFIED:20190403T092144Z
UID:4425-1556215200-1556218800@biblioteka.szemud.pl
SUMMARY:"Idę\, bo warto żyć!" seminarium edukacyjno-informacyjne w Bibliotece w Szemudzie
DESCRIPTION:
URL:https://biblioteka.szemud.pl/index.php/event/ide-bo-warto-zyc-seminarium-edukacyjno-informacyjne-w-bibliotece-w-szemudzie/
LOCATION:Biblioteka w Szemudzie\, Samorządowa 1\, Szemud
ATTACH;FMTTYPE=image/jpeg:https://biblioteka.szemud.pl/wp-content/uploads/2016/10/mammografia-page-001.jpg
END:VEVENT
BEGIN:VEVENT
DTSTART;TZID=Europe/Warsaw:20190426T180000
DTEND;TZID=Europe/Warsaw:20190426T200000
DTSTAMP:20260423T151954
CREATED:20190524T111328Z
LAST-MODIFIED:20190524T111328Z
UID:6151-1556301600-1556308800@biblioteka.szemud.pl
SUMMARY:Koncert muzyki filmowej w Bibliotece w Szemudzie
DESCRIPTION:
URL:https://biblioteka.szemud.pl/index.php/event/koncert-muzyki-filmowej-w-bibliotece-w-szemudzie/
LOCATION:Biblioteka w Szemudzie\, Samorządowa 1\, Szemud
ATTACH;FMTTYPE=image/jpeg:https://biblioteka.szemud.pl/wp-content/uploads/2019/05/koncert-muzyki-filmowej.jpg
END:VEVENT
END:VCALENDAR