BEGIN:VCALENDAR
VERSION:2.0
PRODID:-//Biblioteka Publiczna Gminy Szemud - ECPv6.15.20//NONSGML v1.0//EN
CALSCALE:GREGORIAN
METHOD:PUBLISH
X-WR-CALNAME:Biblioteka Publiczna Gminy Szemud
X-ORIGINAL-URL:https://biblioteka.szemud.pl
X-WR-CALDESC:Wydarzenia dla Biblioteka Publiczna Gminy Szemud
REFRESH-INTERVAL;VALUE=DURATION:PT1H
X-Robots-Tag:noindex
X-PUBLISHED-TTL:PT1H
BEGIN:VTIMEZONE
TZID:Europe/Warsaw
BEGIN:DAYLIGHT
TZOFFSETFROM:+0100
TZOFFSETTO:+0200
TZNAME:CEST
DTSTART:20180325T010000
END:DAYLIGHT
BEGIN:STANDARD
TZOFFSETFROM:+0200
TZOFFSETTO:+0100
TZNAME:CET
DTSTART:20181028T010000
END:STANDARD
BEGIN:DAYLIGHT
TZOFFSETFROM:+0100
TZOFFSETTO:+0200
TZNAME:CEST
DTSTART:20190331T010000
END:DAYLIGHT
BEGIN:STANDARD
TZOFFSETFROM:+0200
TZOFFSETTO:+0100
TZNAME:CET
DTSTART:20191027T010000
END:STANDARD
BEGIN:DAYLIGHT
TZOFFSETFROM:+0100
TZOFFSETTO:+0200
TZNAME:CEST
DTSTART:20200329T010000
END:DAYLIGHT
BEGIN:STANDARD
TZOFFSETFROM:+0200
TZOFFSETTO:+0100
TZNAME:CET
DTSTART:20201025T010000
END:STANDARD
END:VTIMEZONE
BEGIN:VEVENT
DTSTART;TZID=Europe/Warsaw:20190305T160000
DTEND;TZID=Europe/Warsaw:20190305T180000
DTSTAMP:20260423T170426
CREATED:20190225T102846Z
LAST-MODIFIED:20190225T102904Z
UID:4214-1551801600-1551808800@biblioteka.szemud.pl
SUMMARY:Warsztaty z okazji Dnia Kobiet w Bibliotece w Kielnie
DESCRIPTION:
URL:https://biblioteka.szemud.pl/index.php/event/warsztaty-z-okazji-dnia-kobiet-w-bibliotece-w-kielnie/
LOCATION:Biblioteka w Kielnie\, ul. Oliwska 46\, Kielno
ATTACH;FMTTYPE=image/png:https://biblioteka.szemud.pl/wp-content/uploads/2016/10/dzień-kobiet-Bojano-i-Kielno.png
END:VEVENT
BEGIN:VEVENT
DTSTART;TZID=Europe/Warsaw:20190307T160000
DTEND;TZID=Europe/Warsaw:20190307T180000
DTSTAMP:20260423T170426
CREATED:20190225T103417Z
LAST-MODIFIED:20190225T103417Z
UID:4216-1551974400-1551981600@biblioteka.szemud.pl
SUMMARY:Warsztaty z okazji Dnia Kobiet w Bibliotece w Bojanie
DESCRIPTION:
URL:https://biblioteka.szemud.pl/index.php/event/warsztaty-z-okazji-dnia-kobiet-w-bibliotece-w-bojanie/
LOCATION:Biblioteka w Bojanie\, ul. J. Wybickiego 38\, Bojano
ATTACH;FMTTYPE=image/png:https://biblioteka.szemud.pl/wp-content/uploads/2016/10/dzień-kobiet-Bojano-i-Kielno.png
END:VEVENT
BEGIN:VEVENT
DTSTART;TZID=Europe/Warsaw:20190307T160000
DTEND;TZID=Europe/Warsaw:20190307T180000
DTSTAMP:20260423T170426
CREATED:20190225T103745Z
LAST-MODIFIED:20190225T104107Z
UID:4221-1551974400-1551981600@biblioteka.szemud.pl
SUMMARY:Warsztaty "Zapachowe świeczki" z okazji Dnia Kobiet w Bibliotece w Częstkowie
DESCRIPTION:
URL:https://biblioteka.szemud.pl/index.php/event/warsztaty-z-okazji-dnia-kobiet-w-bibliotece-w-czestkowie/
LOCATION:Biblioteka w Częstkowie\, ul. Szkolna 9\, Czestkowo
ATTACH;FMTTYPE=image/png:https://biblioteka.szemud.pl/wp-content/uploads/2016/10/warsztaty-Częstkowo.png
END:VEVENT
BEGIN:VEVENT
DTSTART;TZID=Europe/Warsaw:20190311T150000
DTEND;TZID=Europe/Warsaw:20190311T170000
DTSTAMP:20260423T170426
CREATED:20190225T104625Z
LAST-MODIFIED:20190225T104625Z
UID:4232-1552316400-1552323600@biblioteka.szemud.pl
SUMMARY:Warsztaty "Sztuka składania książki" w Bibliotece w Szemudzie
DESCRIPTION:
URL:https://biblioteka.szemud.pl/index.php/event/warsztaty-sztuka-skladania-ksiazki-w-bibliotece-w-szemudzie/
LOCATION:Biblioteka w Szemudzie\, Samorządowa 1\, Szemud
ATTACH;FMTTYPE=image/png:https://biblioteka.szemud.pl/wp-content/uploads/2016/10/warsztaty-Szemud-1.png
END:VEVENT
BEGIN:VEVENT
DTSTART;TZID=Europe/Warsaw:20190312T090000
DTEND;TZID=Europe/Warsaw:20190312T120000
DTSTAMP:20260423T170426
CREATED:20190225T105011Z
LAST-MODIFIED:20190225T105011Z
UID:4237-1552381200-1552392000@biblioteka.szemud.pl
SUMMARY:Gminny Konkurs Poezji Polskiej
DESCRIPTION:
URL:https://biblioteka.szemud.pl/index.php/event/gminny-konkurs-poezji-polskiej-3/
LOCATION:Biblioteka w Szemudzie\, Samorządowa 1\, Szemud
ATTACH;FMTTYPE=image/jpeg:https://biblioteka.szemud.pl/wp-content/uploads/2016/10/Poezja-Polska-2019.jpg
END:VEVENT
BEGIN:VEVENT
DTSTART;TZID=Europe/Warsaw:20190314T150000
DTEND;TZID=Europe/Warsaw:20190314T163000
DTSTAMP:20260423T170426
CREATED:20190225T103942Z
LAST-MODIFIED:20190225T103942Z
UID:4223-1552575600-1552581000@biblioteka.szemud.pl
SUMMARY:Warsztaty "Wiosenny bukiet kwiatów" w Bibliotece w Częstkowie
DESCRIPTION:
URL:https://biblioteka.szemud.pl/index.php/event/warsztaty-wiosenny-bukiet-kwiatow-w-bibliotece-w-czestkowie/
LOCATION:Biblioteka w Częstkowie\, ul. Szkolna 9\, Czestkowo
ATTACH;FMTTYPE=image/png:https://biblioteka.szemud.pl/wp-content/uploads/2016/10/warsztaty-Częstkowo.png
END:VEVENT
BEGIN:VEVENT
DTSTART;TZID=Europe/Warsaw:20190315T110000
DTEND;TZID=Europe/Warsaw:20190315T120000
DTSTAMP:20260423T170426
CREATED:20190301T093828Z
LAST-MODIFIED:20190301T093828Z
UID:4275-1552647600-1552651200@biblioteka.szemud.pl
SUMMARY:Spotkanie z p. Kamilą Wica z Kaszubskiego Centrum Prawnego w Bibliotece w Szemudzie
DESCRIPTION:
URL:https://biblioteka.szemud.pl/index.php/event/spotkanie-z-p-kamila-wica-z-kaszubskiego-centrum-prawnego-w-bibliotece-w-szemudzie/
LOCATION:Biblioteka w Szemudzie\, Samorządowa 1\, Szemud
ATTACH;FMTTYPE=image/jpeg:https://biblioteka.szemud.pl/wp-content/uploads/2016/10/mediacje.jpg
END:VEVENT
BEGIN:VEVENT
DTSTART;TZID=Europe/Warsaw:20190319T160000
DTEND;TZID=Europe/Warsaw:20190319T173000
DTSTAMP:20260423T170426
CREATED:20190301T115042Z
LAST-MODIFIED:20190301T132201Z
UID:4281-1553011200-1553016600@biblioteka.szemud.pl
SUMMARY:Warsztaty kulinarne dla dzieci w Bibliotece w Kielnie
DESCRIPTION:
URL:https://biblioteka.szemud.pl/index.php/event/warsztaty-kulinarne-dla-dzieci-w-bibliotece-w-kielnie/
LOCATION:Biblioteka w Kielnie\, ul. Oliwska 46\, Kielno
ATTACH;FMTTYPE=image/png:https://biblioteka.szemud.pl/wp-content/uploads/2016/10/warsztatyw-Bojanie-i-Kielnie.png
END:VEVENT
BEGIN:VEVENT
DTSTART;TZID=Europe/Warsaw:20190319T170000
DTEND;TZID=Europe/Warsaw:20190319T190000
DTSTAMP:20260423T170426
CREATED:20190301T132603Z
LAST-MODIFIED:20190301T132603Z
UID:4285-1553014800-1553022000@biblioteka.szemud.pl
SUMMARY:Warsztaty z okazji Dnia Kobiet w Bibliotece w Szemudzie
DESCRIPTION:
URL:https://biblioteka.szemud.pl/index.php/event/warsztaty-z-okazji-dnia-kobiet-w-bibliotece-w-szemudzie/
LOCATION:Biblioteka w Szemudzie\, Samorządowa 1\, Szemud
ATTACH;FMTTYPE=image/jpeg:https://biblioteka.szemud.pl/wp-content/uploads/2016/10/warsztaty-Dzień-Kobiet-Szemud.jpg
END:VEVENT
BEGIN:VEVENT
DTSTART;TZID=Europe/Warsaw:20190320T140000
DTEND;TZID=Europe/Warsaw:20190320T153000
DTSTAMP:20260423T170426
CREATED:20190301T103536Z
LAST-MODIFIED:20190301T111336Z
UID:4279-1553090400-1553095800@biblioteka.szemud.pl
SUMMARY:Warsztaty kulinarne dla dzieci w Bibliotece w Bojanie
DESCRIPTION:
URL:https://biblioteka.szemud.pl/index.php/event/warsztaty-kulinarne-dla-dzieci-w-bibliotece-w-bojanie/
LOCATION:Biblioteka w Bojanie\, ul. J. Wybickiego 38\, Bojano
ATTACH;FMTTYPE=image/png:https://biblioteka.szemud.pl/wp-content/uploads/2016/10/warsztatyw-Bojanie-i-Kielnie.png
END:VEVENT
BEGIN:VEVENT
DTSTART;TZID=Europe/Warsaw:20190328T090000
DTEND;TZID=Europe/Warsaw:20190328T120000
DTSTAMP:20260423T170426
CREATED:20190306T102216Z
LAST-MODIFIED:20190306T105539Z
UID:4297-1553763600-1553774400@biblioteka.szemud.pl
SUMMARY:Gminny Konkurs Recytatorski Poezji Jana Piepki
DESCRIPTION:
URL:https://biblioteka.szemud.pl/index.php/event/gminny-konkurs-recytatorski-poezji-jana-piepki-3/
LOCATION:Biblioteka w Łebnie\, ul. Kartuska 9\, Łebno
ATTACH;FMTTYPE=image/jpeg:https://biblioteka.szemud.pl/wp-content/uploads/2016/10/konkurs-Piepka.jpg
END:VEVENT
BEGIN:VEVENT
DTSTART;TZID=Europe/Warsaw:20190328T150000
DTEND;TZID=Europe/Warsaw:20190328T163000
DTSTAMP:20260423T170426
CREATED:20190225T104218Z
LAST-MODIFIED:20190225T104400Z
UID:4228-1553785200-1553790600@biblioteka.szemud.pl
SUMMARY:Warsztaty "Wianuszki" w Bibliotece w Częstkowie
DESCRIPTION:
URL:https://biblioteka.szemud.pl/index.php/event/warsztaty-wianuszki-w-bibliotece-w-czestkowie/
LOCATION:Biblioteka w Częstkowie\, ul. Szkolna 9\, Czestkowo
ATTACH;FMTTYPE=image/png:https://biblioteka.szemud.pl/wp-content/uploads/2016/10/warsztaty-Częstkowo.png
END:VEVENT
END:VCALENDAR