BEGIN:VCALENDAR
VERSION:2.0
PRODID:-//Biblioteka Publiczna Gminy Szemud - ECPv6.15.20//NONSGML v1.0//EN
CALSCALE:GREGORIAN
METHOD:PUBLISH
X-ORIGINAL-URL:https://biblioteka.szemud.pl
X-WR-CALDESC:Wydarzenia dla Biblioteka Publiczna Gminy Szemud
REFRESH-INTERVAL;VALUE=DURATION:PT1H
X-Robots-Tag:noindex
X-PUBLISHED-TTL:PT1H
BEGIN:VTIMEZONE
TZID:Europe/Warsaw
BEGIN:DAYLIGHT
TZOFFSETFROM:+0100
TZOFFSETTO:+0200
TZNAME:CEST
DTSTART:20170326T010000
END:DAYLIGHT
BEGIN:STANDARD
TZOFFSETFROM:+0200
TZOFFSETTO:+0100
TZNAME:CET
DTSTART:20171029T010000
END:STANDARD
BEGIN:DAYLIGHT
TZOFFSETFROM:+0100
TZOFFSETTO:+0200
TZNAME:CEST
DTSTART:20180325T010000
END:DAYLIGHT
BEGIN:STANDARD
TZOFFSETFROM:+0200
TZOFFSETTO:+0100
TZNAME:CET
DTSTART:20181028T010000
END:STANDARD
BEGIN:DAYLIGHT
TZOFFSETFROM:+0100
TZOFFSETTO:+0200
TZNAME:CEST
DTSTART:20190331T010000
END:DAYLIGHT
BEGIN:STANDARD
TZOFFSETFROM:+0200
TZOFFSETTO:+0100
TZNAME:CET
DTSTART:20191027T010000
END:STANDARD
END:VTIMEZONE
BEGIN:VEVENT
DTSTART;TZID=Europe/Warsaw:20180702T180000
DTEND;TZID=Europe/Warsaw:20180703T070000
DTSTAMP:20260424T054240
CREATED:20180615T084505Z
LAST-MODIFIED:20180615T084505Z
UID:3044-1530554400-1530601200@biblioteka.szemud.pl
SUMMARY:Noc w Bibliotece w Łebnie
DESCRIPTION:
URL:https://biblioteka.szemud.pl/index.php/event/noc-w-bibliotece-w-lebnie-2/
LOCATION:Biblioteka w Łebnie\, ul. Kartuska 9\, Łebno
ATTACH;FMTTYPE=image/jpeg:https://biblioteka.szemud.pl/wp-content/uploads/2016/10/noc.jpg
END:VEVENT
BEGIN:VEVENT
DTSTART;TZID=Europe/Warsaw:20180704T180000
DTEND;TZID=Europe/Warsaw:20180705T070000
DTSTAMP:20260424T054240
CREATED:20180615T084709Z
LAST-MODIFIED:20180615T084859Z
UID:3046-1530727200-1530774000@biblioteka.szemud.pl
SUMMARY:Noc w Bibliotece w Kielnie
DESCRIPTION:
URL:https://biblioteka.szemud.pl/index.php/event/noc-w-bibliotece-w-kielnie-2/
LOCATION:Biblioteka w Kielnie\, ul. Oliwska 46\, Kielno
ATTACH;FMTTYPE=image/jpeg:https://biblioteka.szemud.pl/wp-content/uploads/2016/10/noc.jpg
END:VEVENT
BEGIN:VEVENT
DTSTART;TZID=Europe/Warsaw:20180706T180000
DTEND;TZID=Europe/Warsaw:20180707T070000
DTSTAMP:20260424T054240
CREATED:20180615T084815Z
LAST-MODIFIED:20180615T084815Z
UID:3048-1530900000-1530946800@biblioteka.szemud.pl
SUMMARY:Noc w Bibliotece w Szemudzie
DESCRIPTION:
URL:https://biblioteka.szemud.pl/index.php/event/noc-w-bibliotece-w-szemudzie-2/
LOCATION:Biblioteka w Szemudzie\, Samorządowa 1\, Szemud
ATTACH;FMTTYPE=image/jpeg:https://biblioteka.szemud.pl/wp-content/uploads/2016/10/noc.jpg
END:VEVENT
BEGIN:VEVENT
DTSTART;TZID=Europe/Warsaw:20180710T150000
DTEND;TZID=Europe/Warsaw:20180710T160000
DTSTAMP:20260424T054240
CREATED:20180704T082104Z
LAST-MODIFIED:20180704T082104Z
UID:3204-1531234800-1531238400@biblioteka.szemud.pl
SUMMARY:Wakacje w kaszubskim klimacie w Bibliotece w Szemudzie
DESCRIPTION:
URL:https://biblioteka.szemud.pl/index.php/event/wakacje-w-kaszubskim-klimacie-w-bibliotece-w-szemudzie/
LOCATION:Biblioteka w Szemudzie\, Samorządowa 1\, Szemud
ATTACH;FMTTYPE=image/jpeg:https://biblioteka.szemud.pl/wp-content/uploads/2016/10/Biblioteka-Publiczna-w-Szemudzie-zaprasza-na.jpg
END:VEVENT
BEGIN:VEVENT
DTSTART;TZID=Europe/Warsaw:20180717T150000
DTEND;TZID=Europe/Warsaw:20180717T160000
DTSTAMP:20260424T054240
CREATED:20180704T082207Z
LAST-MODIFIED:20180704T082207Z
UID:3207-1531839600-1531843200@biblioteka.szemud.pl
SUMMARY:Wakacje w kaszubskim klimacie w Bibliotece w Szemudzie
DESCRIPTION:
URL:https://biblioteka.szemud.pl/index.php/event/wakacje-w-kaszubskim-klimacie-w-bibliotece-w-szemudzie-2/
LOCATION:Biblioteka w Szemudzie\, Samorządowa 1\, Szemud
ATTACH;FMTTYPE=image/jpeg:https://biblioteka.szemud.pl/wp-content/uploads/2016/10/Biblioteka-Publiczna-w-Szemudzie-zaprasza-na.jpg
END:VEVENT
BEGIN:VEVENT
DTSTART;TZID=Europe/Warsaw:20180724T150000
DTEND;TZID=Europe/Warsaw:20180724T160000
DTSTAMP:20260424T054240
CREATED:20180704T082253Z
LAST-MODIFIED:20180704T082253Z
UID:3209-1532444400-1532448000@biblioteka.szemud.pl
SUMMARY:Wakacje w kaszubskim klimacie w Bibliotece w Szemudzie
DESCRIPTION:
URL:https://biblioteka.szemud.pl/index.php/event/wakacje-w-kaszubskim-klimacie-w-bibliotece-w-szemudzie-3/
LOCATION:Biblioteka w Szemudzie\, Samorządowa 1\, Szemud
ATTACH;FMTTYPE=image/jpeg:https://biblioteka.szemud.pl/wp-content/uploads/2016/10/Biblioteka-Publiczna-w-Szemudzie-zaprasza-na.jpg
END:VEVENT
BEGIN:VEVENT
DTSTART;TZID=Europe/Warsaw:20180730T110000
DTEND;TZID=Europe/Warsaw:20180730T130000
DTSTAMP:20260424T054240
CREATED:20180725T170918Z
LAST-MODIFIED:20180725T170918Z
UID:3215-1532948400-1532955600@biblioteka.szemud.pl
SUMMARY:„Majsterkowicze” – warsztaty stolarskie w Bibliotece i WOK Łebno
DESCRIPTION:
URL:https://biblioteka.szemud.pl/index.php/event/majsterkowicze-warsztaty-stolarskie-w-bibliotece-i-wok-lebno/
LOCATION:Biblioteka w Łebnie\, ul. Kartuska 9\, Łebno
ATTACH;FMTTYPE=image/jpeg:https://biblioteka.szemud.pl/wp-content/uploads/2016/10/wakacyjne-warsztaty-Łebno-1.jpg
END:VEVENT
BEGIN:VEVENT
DTSTART;TZID=Europe/Warsaw:20180731T110000
DTEND;TZID=Europe/Warsaw:20180731T130000
DTSTAMP:20260424T054240
CREATED:20180725T171036Z
LAST-MODIFIED:20180725T171036Z
UID:3217-1533034800-1533042000@biblioteka.szemud.pl
SUMMARY:„Malowanki” na tkaninie w Bibliotece i WOK Łebno
DESCRIPTION:
URL:https://biblioteka.szemud.pl/index.php/event/malowanki-na-tkaninie-w-bibliotece-i-wok-lebno/
LOCATION:Biblioteka w Łebnie\, ul. Kartuska 9\, Łebno
ATTACH;FMTTYPE=image/jpeg:https://biblioteka.szemud.pl/wp-content/uploads/2016/10/wakacyjne-warsztaty-Łebno-1.jpg
END:VEVENT
BEGIN:VEVENT
DTSTART;TZID=Europe/Warsaw:20180731T160000
DTEND;TZID=Europe/Warsaw:20180731T170000
DTSTAMP:20260424T054240
CREATED:20180725T172117Z
LAST-MODIFIED:20180725T172543Z
UID:3223-1533052800-1533056400@biblioteka.szemud.pl
SUMMARY:Spotkanie „Zdrowie w ogrodzie – kwiaty” w Bibliotece w Szemudzie
DESCRIPTION:
URL:https://biblioteka.szemud.pl/index.php/event/spotkanie-zdrowie-w-ogrodzie-kwiaty-w-bibliotece-w-szemudzie/
LOCATION:Biblioteka w Szemudzie\, Samorządowa 1\, Szemud
ATTACH;FMTTYPE=image/jpeg:https://biblioteka.szemud.pl/wp-content/uploads/2016/10/Biblioteka-Publiczna-w-Szemudzie-zaprasza-na1.jpg
END:VEVENT
END:VCALENDAR