BEGIN:VCALENDAR
VERSION:2.0
PRODID:-//Biblioteka Publiczna Gminy Szemud - ECPv6.15.20//NONSGML v1.0//EN
CALSCALE:GREGORIAN
METHOD:PUBLISH
X-WR-CALNAME:Biblioteka Publiczna Gminy Szemud
X-ORIGINAL-URL:https://biblioteka.szemud.pl
X-WR-CALDESC:Wydarzenia dla Biblioteka Publiczna Gminy Szemud
REFRESH-INTERVAL;VALUE=DURATION:PT1H
X-Robots-Tag:noindex
X-PUBLISHED-TTL:PT1H
BEGIN:VTIMEZONE
TZID:Europe/Warsaw
BEGIN:DAYLIGHT
TZOFFSETFROM:+0100
TZOFFSETTO:+0200
TZNAME:CEST
DTSTART:20170326T010000
END:DAYLIGHT
BEGIN:STANDARD
TZOFFSETFROM:+0200
TZOFFSETTO:+0100
TZNAME:CET
DTSTART:20171029T010000
END:STANDARD
BEGIN:DAYLIGHT
TZOFFSETFROM:+0100
TZOFFSETTO:+0200
TZNAME:CEST
DTSTART:20180325T010000
END:DAYLIGHT
BEGIN:STANDARD
TZOFFSETFROM:+0200
TZOFFSETTO:+0100
TZNAME:CET
DTSTART:20181028T010000
END:STANDARD
BEGIN:DAYLIGHT
TZOFFSETFROM:+0100
TZOFFSETTO:+0200
TZNAME:CEST
DTSTART:20190331T010000
END:DAYLIGHT
BEGIN:STANDARD
TZOFFSETFROM:+0200
TZOFFSETTO:+0100
TZNAME:CET
DTSTART:20191027T010000
END:STANDARD
END:VTIMEZONE
BEGIN:VEVENT
DTSTART;TZID=Europe/Warsaw:20180606T170000
DTEND;TZID=Europe/Warsaw:20180606T190000
DTSTAMP:20260424T065552
CREATED:20180528T122157Z
LAST-MODIFIED:20180528T122209Z
UID:3007-1528304400-1528311600@biblioteka.szemud.pl
SUMMARY:Zakończenie kół zainteresowań podczas Gminnego Dnia Bibliotekarza\, Pracownika i Działacza Kultury
DESCRIPTION:
URL:https://biblioteka.szemud.pl/index.php/event/zakonczenie-kol-zainteresowac-podczas-gminnego-dnia-bibliotekarza-pracownika-i-dzialacza-kultury/
LOCATION:Hala sportowa w Szemudzie\, Szkolna 4a\, Szemud\, pomorskie\, 84-217\, Polska
ATTACH;FMTTYPE=image/jpeg:https://biblioteka.szemud.pl/wp-content/uploads/2016/10/zakończenie-kółek-1.jpg
END:VEVENT
BEGIN:VEVENT
DTSTART;TZID=Europe/Warsaw:20180608T090000
DTEND;TZID=Europe/Warsaw:20180608T120000
DTSTAMP:20260424T065552
CREATED:20180525T112122Z
LAST-MODIFIED:20180525T112701Z
UID:3000-1528448400-1528459200@biblioteka.szemud.pl
SUMMARY:Gminny Konkurs Recytatorski Poezji Jana Piepki
DESCRIPTION:
URL:https://biblioteka.szemud.pl/index.php/event/gminny-konkurs-recytatorski-poezji-jana-piepki-2/
LOCATION:Biblioteka w Łebnie\, ul. Kartuska 9\, Łebno
ATTACH;FMTTYPE=image/png:https://biblioteka.szemud.pl/wp-content/uploads/2016/10/piepka1.png
END:VEVENT
BEGIN:VEVENT
DTSTART;TZID=Europe/Warsaw:20180612T160000
DTEND;TZID=Europe/Warsaw:20180612T180000
DTSTAMP:20260424T065552
CREATED:20180607T125655Z
LAST-MODIFIED:20180607T125655Z
UID:3022-1528819200-1528826400@biblioteka.szemud.pl
SUMMARY:Warsztaty „Rozmaitości szydełkowe” w Bibliotece w Bojanie
DESCRIPTION:
URL:https://biblioteka.szemud.pl/index.php/event/warsztaty-rozmaitosci-szydelkowe-w-bibliotece-w-bojanie-2/
LOCATION:Biblioteka w Bojanie\, ul. J. Wybickiego 38\, Bojano
ATTACH;FMTTYPE=image/jpeg:https://biblioteka.szemud.pl/wp-content/uploads/2016/10/szydełko.jpg
END:VEVENT
BEGIN:VEVENT
DTSTART;TZID=Europe/Warsaw:20180613T090000
DTEND;TZID=Europe/Warsaw:20180613T120000
DTSTAMP:20260424T065552
CREATED:20180525T112642Z
LAST-MODIFIED:20180525T112642Z
UID:3002-1528880400-1528891200@biblioteka.szemud.pl
SUMMARY:Powiatowy Konkurs Recytatorski Poezji Alojzego Nagla
DESCRIPTION:
URL:https://biblioteka.szemud.pl/index.php/event/powiatowy-konkurs-recytatorski-poezji-alojzego-nagla/
LOCATION:Biblioteka w Kielnie\, ul. Oliwska 46\, Kielno
ATTACH;FMTTYPE=image/jpeg:https://biblioteka.szemud.pl/wp-content/uploads/2016/10/Nagel-Kielno-1.jpg
END:VEVENT
BEGIN:VEVENT
DTSTART;TZID=Europe/Warsaw:20180613T140000
DTEND;TZID=Europe/Warsaw:20180613T160000
DTSTAMP:20260424T065552
CREATED:20180607T125908Z
LAST-MODIFIED:20180607T125908Z
UID:3025-1528898400-1528905600@biblioteka.szemud.pl
SUMMARY:Warsztaty programowania Lego Mindstorms w Bibliotece w Bojanie
DESCRIPTION:
URL:https://biblioteka.szemud.pl/index.php/event/warsztaty-programowania-lego-mindstorms-w-bibliotece-w-bojanie-2/
LOCATION:Biblioteka w Bojanie\, ul. J. Wybickiego 38\, Bojano
ATTACH;FMTTYPE=image/png:https://biblioteka.szemud.pl/wp-content/uploads/2016/10/programowanie.png
END:VEVENT
BEGIN:VEVENT
DTSTART;TZID=Europe/Warsaw:20180619T170000
DTEND;TZID=Europe/Warsaw:20180619T180000
DTSTAMP:20260424T065552
CREATED:20180613T120521Z
LAST-MODIFIED:20180613T120521Z
UID:3035-1529427600-1529431200@biblioteka.szemud.pl
SUMMARY:Spotkanie „Zdrowie w ogrodzie - rośliny trujące” w Bibliotece w Szemudzie
DESCRIPTION:
URL:https://biblioteka.szemud.pl/index.php/event/spotkanie-zdrowie-w-ogrodzie-rosliny-trujace-w-bibliotece-w-szemudzie/
LOCATION:Biblioteka w Szemudzie\, Samorządowa 1\, Szemud
ATTACH;FMTTYPE=image/jpeg:https://biblioteka.szemud.pl/wp-content/uploads/2016/10/rośliny-trujące.jpg
END:VEVENT
BEGIN:VEVENT
DTSTART;TZID=Europe/Warsaw:20180626T150000
DTEND;TZID=Europe/Warsaw:20180626T170000
DTSTAMP:20260424T065552
CREATED:20180622T103311Z
LAST-MODIFIED:20180622T103311Z
UID:3194-1530025200-1530032400@biblioteka.szemud.pl
SUMMARY:Wakacyjne spotkanie przy ognisku w WOK-u i Bibliotece Łebno
DESCRIPTION:
URL:https://biblioteka.szemud.pl/index.php/event/wakacyjne-spotkanie-przy-ognisku-w-wok-u-i-bibliotece-lebno/
LOCATION:Biblioteka w Łebnie\, ul. Kartuska 9\, Łebno
ATTACH;FMTTYPE=image/jpeg:https://biblioteka.szemud.pl/wp-content/uploads/2016/10/wakacyjne-spotkanie-przy-ognisku-page-001.jpg
END:VEVENT
BEGIN:VEVENT
DTSTART;TZID=Europe/Warsaw:20180626T160000
DTEND;TZID=Europe/Warsaw:20180626T180000
DTSTAMP:20260424T065552
CREATED:20180615T124146Z
LAST-MODIFIED:20180615T124146Z
UID:3052-1530028800-1530036000@biblioteka.szemud.pl
SUMMARY:Warsztaty ceramiczne w Bibliotece w Bojanie
DESCRIPTION:
URL:https://biblioteka.szemud.pl/index.php/event/warsztaty-ceramiczne-w-bibliotece-w-bojanie/
LOCATION:Biblioteka w Bojanie\, ul. J. Wybickiego 38\, Bojano
ATTACH;FMTTYPE=image/png:https://biblioteka.szemud.pl/wp-content/uploads/2016/10/ceramika.png
END:VEVENT
BEGIN:VEVENT
DTSTART;TZID=Europe/Warsaw:20180627T180000
DTEND;TZID=Europe/Warsaw:20180628T060000
DTSTAMP:20260424T065552
CREATED:20180615T084047Z
LAST-MODIFIED:20180615T084047Z
UID:3040-1530122400-1530165600@biblioteka.szemud.pl
SUMMARY:Noc w Bibliotece w Bojanie
DESCRIPTION:
URL:https://biblioteka.szemud.pl/index.php/event/noc-w-bibliotece-w-bojanie-2/
LOCATION:Biblioteka w Bojanie\, ul. J. Wybickiego 38\, Bojano
ATTACH;FMTTYPE=image/jpeg:https://biblioteka.szemud.pl/wp-content/uploads/2016/10/noc.jpg
END:VEVENT
BEGIN:VEVENT
DTSTART;TZID=Europe/Warsaw:20180629T180000
DTEND;TZID=Europe/Warsaw:20180630T070000
DTSTAMP:20260424T065552
CREATED:20180615T084320Z
LAST-MODIFIED:20180615T084320Z
UID:3042-1530295200-1530342000@biblioteka.szemud.pl
SUMMARY:Noc w Bibliotece w Częstkowie
DESCRIPTION:
URL:https://biblioteka.szemud.pl/index.php/event/noc-w-bibliotece-w-czestkowie-2/
LOCATION:Biblioteka w Częstkowie\, ul. Szkolna 9\, Czestkowo
ATTACH;FMTTYPE=image/jpeg:https://biblioteka.szemud.pl/wp-content/uploads/2016/10/noc.jpg
END:VEVENT
END:VCALENDAR