BEGIN:VCALENDAR
VERSION:2.0
PRODID:-//Biblioteka Publiczna Gminy Szemud - ECPv6.15.20//NONSGML v1.0//EN
CALSCALE:GREGORIAN
METHOD:PUBLISH
X-WR-CALNAME:Biblioteka Publiczna Gminy Szemud
X-ORIGINAL-URL:https://biblioteka.szemud.pl
X-WR-CALDESC:Wydarzenia dla Biblioteka Publiczna Gminy Szemud
REFRESH-INTERVAL;VALUE=DURATION:PT1H
X-Robots-Tag:noindex
X-PUBLISHED-TTL:PT1H
BEGIN:VTIMEZONE
TZID:Europe/Warsaw
BEGIN:DAYLIGHT
TZOFFSETFROM:+0100
TZOFFSETTO:+0200
TZNAME:CEST
DTSTART:20160327T010000
END:DAYLIGHT
BEGIN:STANDARD
TZOFFSETFROM:+0200
TZOFFSETTO:+0100
TZNAME:CET
DTSTART:20161030T010000
END:STANDARD
BEGIN:DAYLIGHT
TZOFFSETFROM:+0100
TZOFFSETTO:+0200
TZNAME:CEST
DTSTART:20170326T010000
END:DAYLIGHT
BEGIN:STANDARD
TZOFFSETFROM:+0200
TZOFFSETTO:+0100
TZNAME:CET
DTSTART:20171029T010000
END:STANDARD
BEGIN:DAYLIGHT
TZOFFSETFROM:+0100
TZOFFSETTO:+0200
TZNAME:CEST
DTSTART:20180325T010000
END:DAYLIGHT
BEGIN:STANDARD
TZOFFSETFROM:+0200
TZOFFSETTO:+0100
TZNAME:CET
DTSTART:20181028T010000
END:STANDARD
END:VTIMEZONE
BEGIN:VEVENT
DTSTART;TZID=Europe/Warsaw:20171110T150000
DTEND;TZID=Europe/Warsaw:20171110T163000
DTSTAMP:20260424T184112
CREATED:20171023T124041Z
LAST-MODIFIED:20171116T145408Z
UID:1973-1510326000-1510331400@biblioteka.szemud.pl
SUMMARY:Warsztaty "Jesienne sowy" w Bibliotece w Kielnie
DESCRIPTION:
URL:https://biblioteka.szemud.pl/index.php/event/abc/
LOCATION:Biblioteka w Kielnie\, ul. Oliwska 46\, Kielno
ATTACH;FMTTYPE=image/jpeg:https://biblioteka.szemud.pl/wp-content/uploads/2016/10/Biblioteka-PublicznaGminy-Szemud.jpg
END:VEVENT
BEGIN:VEVENT
DTSTART;TZID=Europe/Warsaw:20171114T170000
DTEND;TZID=Europe/Warsaw:20171114T190000
DTSTAMP:20260424T184112
CREATED:20171106T124843Z
LAST-MODIFIED:20171116T145435Z
UID:2037-1510678800-1510686000@biblioteka.szemud.pl
SUMMARY:Warsztaty "Kula zieleni" w Bibliotece w Bojanie
DESCRIPTION:
URL:https://biblioteka.szemud.pl/index.php/event/warsztaty-kula-zieleni-w-bibliotece-w-bojanie/
LOCATION:Biblioteka w Bojanie\, ul. J. Wybickiego 38\, Bojano
ATTACH;FMTTYPE=image/jpeg:https://biblioteka.szemud.pl/wp-content/uploads/2016/10/BIBLIOTEKA-PUBLICZNA-GMINY-SZEMUD.jpg
END:VEVENT
BEGIN:VEVENT
DTSTART;TZID=Europe/Warsaw:20171115T100000
DTEND;TZID=Europe/Warsaw:20171115T120000
DTSTAMP:20260424T184112
CREATED:20171106T124951Z
LAST-MODIFIED:20171116T145503Z
UID:2039-1510740000-1510747200@biblioteka.szemud.pl
SUMMARY:Warsztaty "Kula zieleni" w Bibliotece w Częstkowie
DESCRIPTION:
URL:https://biblioteka.szemud.pl/index.php/event/warsztaty-kula-zieleni-w-bibliotece-w-czestkowie/
LOCATION:Biblioteka w Częstkowie\, ul. Szkolna 9\, Czestkowo
ATTACH;FMTTYPE=image/jpeg:https://biblioteka.szemud.pl/wp-content/uploads/2016/10/BIBLIOTEKA-PUBLICZNA-GMINY-SZEMUD.jpg
END:VEVENT
BEGIN:VEVENT
DTSTART;TZID=Europe/Warsaw:20171115T140000
DTEND;TZID=Europe/Warsaw:20171115T160000
DTSTAMP:20260424T184112
CREATED:20171106T103700Z
LAST-MODIFIED:20171116T145525Z
UID:2024-1510754400-1510761600@biblioteka.szemud.pl
SUMMARY:Warsztaty „Jesienne sowy” w Bibliotece w Bojanie
DESCRIPTION:
URL:https://biblioteka.szemud.pl/index.php/event/warsztaty-jesienne-sowy-w-bibliotece-w-bojanie/
LOCATION:Biblioteka w Bojanie\, ul. J. Wybickiego 38\, Bojano
ATTACH;FMTTYPE=image/jpeg:https://biblioteka.szemud.pl/wp-content/uploads/2016/10/Biblioteka-PublicznaGminy-Szemud.jpg
END:VEVENT
BEGIN:VEVENT
DTSTART;TZID=Europe/Warsaw:20171116T150000
DTEND;TZID=Europe/Warsaw:20171116T160000
DTSTAMP:20260424T184112
CREATED:20171106T105300Z
LAST-MODIFIED:20171116T145607Z
UID:2028-1510844400-1510848000@biblioteka.szemud.pl
SUMMARY:Warsztaty „Jesienne sowy” w Bibliotece w Łebnie
DESCRIPTION:
URL:https://biblioteka.szemud.pl/index.php/event/warsztaty-jesienne-sowy-w-bibliotece-w-lebnie/
LOCATION:Biblioteka w Łebnie\, ul. Kartuska 9\, Łebno
ATTACH;FMTTYPE=image/jpeg:https://biblioteka.szemud.pl/wp-content/uploads/2016/10/Biblioteka-PublicznaGminy-Szemud.jpg
END:VEVENT
BEGIN:VEVENT
DTSTART;TZID=Europe/Warsaw:20171116T150000
DTEND;TZID=Europe/Warsaw:20171116T170000
DTSTAMP:20260424T184112
CREATED:20171106T105150Z
LAST-MODIFIED:20171116T145705Z
UID:2026-1510844400-1510851600@biblioteka.szemud.pl
SUMMARY:Warsztaty „Jesienne sowy” w Bibliotece w Częstkowie
DESCRIPTION:
URL:https://biblioteka.szemud.pl/index.php/event/warsztaty-jesienne-sowy-w-bibliotece-w-czestkowie/
LOCATION:Biblioteka w Częstkowie\, ul. Szkolna 9\, Czestkowo
ATTACH;FMTTYPE=image/jpeg:https://biblioteka.szemud.pl/wp-content/uploads/2016/10/Biblioteka-PublicznaGminy-Szemud.jpg
END:VEVENT
BEGIN:VEVENT
DTSTART;TZID=Europe/Warsaw:20171117T150000
DTEND;TZID=Europe/Warsaw:20171117T170000
DTSTAMP:20260424T184112
CREATED:20171116T145231Z
LAST-MODIFIED:20171116T145231Z
UID:2053-1510930800-1510938000@biblioteka.szemud.pl
SUMMARY:Warsztaty "Lampiony adwentowe" w Bibliotece w Kielnie
DESCRIPTION:
URL:https://biblioteka.szemud.pl/index.php/event/warsztaty-lampiony-adwentowe-w-bibliotece-w-kielnie/
LOCATION:Biblioteka w Kielnie\, ul. Oliwska 46\, Kielno
END:VEVENT
BEGIN:VEVENT
DTSTART;TZID=Europe/Warsaw:20171117T160000
DTEND;TZID=Europe/Warsaw:20171117T180000
DTSTAMP:20260424T184112
CREATED:20171106T105411Z
LAST-MODIFIED:20171116T145734Z
UID:2030-1510934400-1510941600@biblioteka.szemud.pl
SUMMARY:Warsztaty „Jesienne sowy” w Bibliotece w Szemudzie
DESCRIPTION:
URL:https://biblioteka.szemud.pl/index.php/event/warsztaty-jesienne-sowy-w-bibliotece-w-szemudzie/
LOCATION:Biblioteka w Szemudzie\, Samorządowa 1\, Szemud
ATTACH;FMTTYPE=image/jpeg:https://biblioteka.szemud.pl/wp-content/uploads/2016/10/Biblioteka-PublicznaGminy-Szemud.jpg
END:VEVENT
BEGIN:VEVENT
DTSTART;TZID=Europe/Warsaw:20171120T170000
DTEND;TZID=Europe/Warsaw:20171120T190000
DTSTAMP:20260424T184113
CREATED:20171106T125144Z
LAST-MODIFIED:20171116T145808Z
UID:2041-1511197200-1511204400@biblioteka.szemud.pl
SUMMARY:Warsztaty "Kula zieleni" w Bibliotece w Łebnie
DESCRIPTION:
URL:https://biblioteka.szemud.pl/index.php/event/warsztaty-kula-zieleni-w-bibliotece-w-lebnie/
LOCATION:Biblioteka w Łebnie\, ul. Kartuska 9\, Łebno
ATTACH;FMTTYPE=image/jpeg:https://biblioteka.szemud.pl/wp-content/uploads/2016/10/BIBLIOTEKA-PUBLICZNA-GMINY-SZEMUD.jpg
END:VEVENT
BEGIN:VEVENT
DTSTART;TZID=Europe/Warsaw:20171124T170000
DTEND;TZID=Europe/Warsaw:20171124T190000
DTSTAMP:20260424T184113
CREATED:20171106T125345Z
LAST-MODIFIED:20171116T145842Z
UID:2043-1511542800-1511550000@biblioteka.szemud.pl
SUMMARY:Warsztaty "Kula zieleni" w Bibliotece w Szemudzie
DESCRIPTION:
URL:https://biblioteka.szemud.pl/index.php/event/warsztaty-kula-zieleni-w-bibliotece-w-szemudzie/
LOCATION:Biblioteka w Szemudzie\, Samorządowa 1\, Szemud
ATTACH;FMTTYPE=image/jpeg:https://biblioteka.szemud.pl/wp-content/uploads/2016/10/BIBLIOTEKA-PUBLICZNA-GMINY-SZEMUD.jpg
END:VEVENT
BEGIN:VEVENT
DTSTART;TZID=Europe/Warsaw:20171124T170000
DTEND;TZID=Europe/Warsaw:20171124T190000
DTSTAMP:20260424T184113
CREATED:20171106T125821Z
LAST-MODIFIED:20171116T145335Z
UID:2045-1511542800-1511550000@biblioteka.szemud.pl
SUMMARY:Warsztaty "Kula zieleni" w Bibliotece w Kielnie
DESCRIPTION:
URL:https://biblioteka.szemud.pl/index.php/event/warsztaty-kula-zieleni-w-bibliotece-w-kielnie/
LOCATION:Biblioteka w Kielnie\, ul. Oliwska 46\, Kielno
ATTACH;FMTTYPE=image/jpeg:https://biblioteka.szemud.pl/wp-content/uploads/2016/10/BIBLIOTEKA-PUBLICZNA-GMINY-SZEMUD.jpg
END:VEVENT
BEGIN:VEVENT
DTSTART;TZID=Europe/Warsaw:20171130T180000
DTEND;TZID=Europe/Warsaw:20171130T200000
DTSTAMP:20260424T184113
CREATED:20171122T140256Z
LAST-MODIFIED:20171122T140256Z
UID:2091-1512064800-1512072000@biblioteka.szemud.pl
SUMMARY:Andrzejki w Bibliotece w Kielnie
DESCRIPTION:
URL:https://biblioteka.szemud.pl/index.php/event/andrzejki-w-bibliotece-w-kielnie/
LOCATION:Biblioteka w Kielnie\, ul. Oliwska 46\, Kielno
ATTACH;FMTTYPE=image/jpeg:https://biblioteka.szemud.pl/wp-content/uploads/2016/10/andrzejki.jpg
END:VEVENT
END:VCALENDAR