BEGIN:VCALENDAR
VERSION:2.0
PRODID:-//Biblioteka Publiczna Gminy Szemud - ECPv6.15.20//NONSGML v1.0//EN
CALSCALE:GREGORIAN
METHOD:PUBLISH
X-WR-CALNAME:Biblioteka Publiczna Gminy Szemud
X-ORIGINAL-URL:https://biblioteka.szemud.pl
X-WR-CALDESC:Wydarzenia dla Biblioteka Publiczna Gminy Szemud
REFRESH-INTERVAL;VALUE=DURATION:PT1H
X-Robots-Tag:noindex
X-PUBLISHED-TTL:PT1H
BEGIN:VTIMEZONE
TZID:Europe/Warsaw
BEGIN:DAYLIGHT
TZOFFSETFROM:+0100
TZOFFSETTO:+0200
TZNAME:CEST
DTSTART:20160327T010000
END:DAYLIGHT
BEGIN:STANDARD
TZOFFSETFROM:+0200
TZOFFSETTO:+0100
TZNAME:CET
DTSTART:20161030T010000
END:STANDARD
BEGIN:DAYLIGHT
TZOFFSETFROM:+0100
TZOFFSETTO:+0200
TZNAME:CEST
DTSTART:20170326T010000
END:DAYLIGHT
BEGIN:STANDARD
TZOFFSETFROM:+0200
TZOFFSETTO:+0100
TZNAME:CET
DTSTART:20171029T010000
END:STANDARD
BEGIN:DAYLIGHT
TZOFFSETFROM:+0100
TZOFFSETTO:+0200
TZNAME:CEST
DTSTART:20180325T010000
END:DAYLIGHT
BEGIN:STANDARD
TZOFFSETFROM:+0200
TZOFFSETTO:+0100
TZNAME:CET
DTSTART:20181028T010000
END:STANDARD
END:VTIMEZONE
BEGIN:VEVENT
DTSTART;TZID=Europe/Warsaw:20171005T150000
DTEND;TZID=Europe/Warsaw:20171005T170000
DTSTAMP:20260424T195120
CREATED:20170921T114856Z
LAST-MODIFIED:20170921T114933Z
UID:1918-1507215600-1507222800@biblioteka.szemud.pl
SUMMARY:Warsztaty "Jesienny bukiet" w Bibliotece w Częstkowie
DESCRIPTION:
URL:https://biblioteka.szemud.pl/index.php/event/warsztaty-jesienny-bukiet/
LOCATION:Biblioteka w Częstkowie\, ul. Szkolna 9\, Czestkowo
ATTACH;FMTTYPE=image/png:https://biblioteka.szemud.pl/wp-content/uploads/2016/10/jesienne-warsztaty-Częstkowo..png
END:VEVENT
BEGIN:VEVENT
DTSTART;TZID=Europe/Warsaw:20171019T150000
DTEND;TZID=Europe/Warsaw:20171019T170000
DTSTAMP:20260424T195120
CREATED:20170921T115048Z
LAST-MODIFIED:20170921T115048Z
UID:1921-1508425200-1508432400@biblioteka.szemud.pl
SUMMARY:Warsztaty tworzenia lampionów w Bibliotece w Częstkowie
DESCRIPTION:
URL:https://biblioteka.szemud.pl/index.php/event/warsztaty-tworzenia-lampionow-w-bibliotece-w-czestkowie/
LOCATION:Biblioteka w Częstkowie\, ul. Szkolna 9\, Czestkowo
ATTACH;FMTTYPE=image/png:https://biblioteka.szemud.pl/wp-content/uploads/2016/10/jesienne-warsztaty-Częstkowo..png
END:VEVENT
BEGIN:VEVENT
DTSTART;TZID=Europe/Warsaw:20171020T150000
DTEND;TZID=Europe/Warsaw:20171020T170000
DTSTAMP:20260424T195120
CREATED:20171018T132142Z
LAST-MODIFIED:20171018T132142Z
UID:1962-1508511600-1508518800@biblioteka.szemud.pl
SUMMARY:Warsztaty "Frotaż z liści"
DESCRIPTION:
URL:https://biblioteka.szemud.pl/index.php/event/warsztaty-frotaz-z-lisci/
LOCATION:Biblioteka w Kielnie\, ul. Oliwska 46\, Kielno
ATTACH;FMTTYPE=image/jpeg:https://biblioteka.szemud.pl/wp-content/uploads/2016/10/Biblioteka-i-Ośrodek-Kultury-w-Kielnie.jpg
END:VEVENT
END:VCALENDAR