BEGIN:VCALENDAR
VERSION:2.0
PRODID:-//Biblioteka Publiczna Gminy Szemud - ECPv6.15.20//NONSGML v1.0//EN
CALSCALE:GREGORIAN
METHOD:PUBLISH
X-ORIGINAL-URL:https://biblioteka.szemud.pl
X-WR-CALDESC:Wydarzenia dla Biblioteka Publiczna Gminy Szemud
REFRESH-INTERVAL;VALUE=DURATION:PT1H
X-Robots-Tag:noindex
X-PUBLISHED-TTL:PT1H
BEGIN:VTIMEZONE
TZID:Europe/Warsaw
BEGIN:DAYLIGHT
TZOFFSETFROM:+0100
TZOFFSETTO:+0200
TZNAME:CEST
DTSTART:20220327T010000
END:DAYLIGHT
BEGIN:STANDARD
TZOFFSETFROM:+0200
TZOFFSETTO:+0100
TZNAME:CET
DTSTART:20221030T010000
END:STANDARD
BEGIN:DAYLIGHT
TZOFFSETFROM:+0100
TZOFFSETTO:+0200
TZNAME:CEST
DTSTART:20230326T010000
END:DAYLIGHT
BEGIN:STANDARD
TZOFFSETFROM:+0200
TZOFFSETTO:+0100
TZNAME:CET
DTSTART:20231029T010000
END:STANDARD
BEGIN:DAYLIGHT
TZOFFSETFROM:+0100
TZOFFSETTO:+0200
TZNAME:CEST
DTSTART:20240331T010000
END:DAYLIGHT
BEGIN:STANDARD
TZOFFSETFROM:+0200
TZOFFSETTO:+0100
TZNAME:CET
DTSTART:20241027T010000
END:STANDARD
END:VTIMEZONE
BEGIN:VEVENT
DTSTART;TZID=Europe/Warsaw:20231023T090000
DTEND;TZID=Europe/Warsaw:20231023T100000
DTSTAMP:20260419T204621
CREATED:20231009T123524Z
LAST-MODIFIED:20231009T123524Z
UID:38741-1698051600-1698055200@biblioteka.szemud.pl
SUMMARY:Teatr Barnaby ze spektaklem dla dzieci pt. "PIECUCH" w bibliotece w Łebnie
DESCRIPTION:
URL:https://biblioteka.szemud.pl/index.php/event/teatr-barnaby-ze-spektaklem-dla-dzieci-pt-piecuch-w-bibliotece-w-lebnie/
LOCATION:Biblioteka w Łebnie\, ul. Kartuska 9\, Łebno
ATTACH;FMTTYPE=image/png:https://biblioteka.szemud.pl/wp-content/uploads/2023/10/CALINECZKA.png
END:VEVENT
BEGIN:VEVENT
DTSTART;TZID=Europe/Warsaw:20231023T110000
DTEND;TZID=Europe/Warsaw:20231023T120000
DTSTAMP:20260419T204621
CREATED:20231009T123604Z
LAST-MODIFIED:20231009T123604Z
UID:38743-1698058800-1698062400@biblioteka.szemud.pl
SUMMARY:Teatr Barnaby ze spektaklem dla dzieci pt. "PIECUCH" w bibliotece w Szemudzie
DESCRIPTION:
URL:https://biblioteka.szemud.pl/index.php/event/teatr-barnaby-ze-spektaklem-dla-dzieci-pt-piecuch-w-bibliotece-w-szemudzie/
LOCATION:Biblioteka w Szemudzie\, Samorządowa 1\, Szemud
ATTACH;FMTTYPE=image/png:https://biblioteka.szemud.pl/wp-content/uploads/2023/10/CALINECZKA.png
END:VEVENT
BEGIN:VEVENT
DTSTART;TZID=Europe/Warsaw:20231023T160000
DTEND;TZID=Europe/Warsaw:20231023T180000
DTSTAMP:20260419T204621
CREATED:20230928T074345Z
LAST-MODIFIED:20230928T074345Z
UID:38493-1698076800-1698084000@biblioteka.szemud.pl
SUMMARY:Warsztaty rozwojowe dla dorosłych w bibliotece w Bojanie
DESCRIPTION:
URL:https://biblioteka.szemud.pl/index.php/event/warsztaty-rozwojowe-dla-doroslych-w-bibliotece-w-bojanie-2/
LOCATION:Biblioteka w Bojanie\, ul. J. Wybickiego 38\, Bojano
ATTACH;FMTTYPE=image/png:https://biblioteka.szemud.pl/wp-content/uploads/2023/09/nvc-1.png
END:VEVENT
BEGIN:VEVENT
DTSTART;TZID=Europe/Warsaw:20231024T090000
DTEND;TZID=Europe/Warsaw:20231024T100000
DTSTAMP:20260419T204621
CREATED:20231009T123738Z
LAST-MODIFIED:20231009T123738Z
UID:38747-1698138000-1698141600@biblioteka.szemud.pl
SUMMARY:Teatr Barnaby ze spektaklem dla dzieci pt. "PIECUCH" w bibliotece w Bojanie
DESCRIPTION:
URL:https://biblioteka.szemud.pl/index.php/event/teatr-barnaby-ze-spektaklem-dla-dzieci-pt-piecuch-w-bibliotece-w-bojanie/
LOCATION:Biblioteka w Bojanie\, ul. J. Wybickiego 38\, Bojano
ATTACH;FMTTYPE=image/png:https://biblioteka.szemud.pl/wp-content/uploads/2023/10/CALINECZKA.png
END:VEVENT
BEGIN:VEVENT
DTSTART;TZID=Europe/Warsaw:20231024T110000
DTEND;TZID=Europe/Warsaw:20231024T120000
DTSTAMP:20260419T204621
CREATED:20231009T123656Z
LAST-MODIFIED:20231009T123656Z
UID:38745-1698145200-1698148800@biblioteka.szemud.pl
SUMMARY:Teatr Barnaby ze spektaklem dla dzieci pt. "PIECUCH" w bibliotece w Kielnie
DESCRIPTION:
URL:https://biblioteka.szemud.pl/index.php/event/teatr-barnaby-ze-spektaklem-dla-dzieci-pt-piecuch-w-bibliotece-w-kielnie/
LOCATION:Biblioteka w Kielnie\, ul. Oliwska 46\, Kielno
ATTACH;FMTTYPE=image/png:https://biblioteka.szemud.pl/wp-content/uploads/2023/10/CALINECZKA.png
END:VEVENT
BEGIN:VEVENT
DTSTART;TZID=Europe/Warsaw:20231024T143000
DTEND;TZID=Europe/Warsaw:20231024T153000
DTSTAMP:20260419T204621
CREATED:20231009T123925Z
LAST-MODIFIED:20231009T123925Z
UID:38749-1698157800-1698161400@biblioteka.szemud.pl
SUMMARY:Przygody w świecie kodowania z Robotem Photon w bibliotece w Szemudzie
DESCRIPTION:
URL:https://biblioteka.szemud.pl/index.php/event/przygody-w-swiecie-kodowania-z-robotem-photon-w-bibliotece-w-szemudzie/
ATTACH;FMTTYPE=image/png:https://biblioteka.szemud.pl/wp-content/uploads/2023/10/Photon.png
END:VEVENT
BEGIN:VEVENT
DTSTART;TZID=Europe/Warsaw:20231024T160000
DTEND;TZID=Europe/Warsaw:20231024T180000
DTSTAMP:20260419T204621
CREATED:20231009T122547Z
LAST-MODIFIED:20231009T122547Z
UID:38731-1698163200-1698170400@biblioteka.szemud.pl
SUMMARY:Spotkanie kosmetyczne w bibliotece w Kielnie
DESCRIPTION:
URL:https://biblioteka.szemud.pl/index.php/event/spotkanie-kosmetyczne-w-bibliotece-w-kielnie-2/
ATTACH;FMTTYPE=image/png:https://biblioteka.szemud.pl/wp-content/uploads/2023/10/Spotkanie-kosmetyczne.png
END:VEVENT
BEGIN:VEVENT
DTSTART;TZID=Europe/Warsaw:20231026T110000
DTEND;TZID=Europe/Warsaw:20231026T130000
DTSTAMP:20260419T204621
CREATED:20231009T124146Z
LAST-MODIFIED:20231009T124146Z
UID:38753-1698318000-1698325200@biblioteka.szemud.pl
SUMMARY:Dyskusyjny Klub Książki w bibliotece w Kielnie
DESCRIPTION:
URL:https://biblioteka.szemud.pl/index.php/event/dyskusyjny-klub-ksiazki-w-bibliotece-w-kielnie/
LOCATION:Biblioteka w Kielnie\, ul. Oliwska 46\, Kielno
ATTACH;FMTTYPE=image/png:https://biblioteka.szemud.pl/wp-content/uploads/2023/10/DKK-w-Kielnie.png
END:VEVENT
BEGIN:VEVENT
DTSTART;TZID=Europe/Warsaw:20231026T150000
DTEND;TZID=Europe/Warsaw:20231026T160000
DTSTAMP:20260419T204621
CREATED:20231009T124048Z
LAST-MODIFIED:20231009T124048Z
UID:38751-1698332400-1698336000@biblioteka.szemud.pl
SUMMARY:Biżuteria z koralików w bibliotece w Bojanie
DESCRIPTION:
URL:https://biblioteka.szemud.pl/index.php/event/bizuteria-z-koralikow-w-bibliotece-w-bojanie/
LOCATION:Biblioteka w Bojanie\, ul. J. Wybickiego 38\, Bojano
ATTACH;FMTTYPE=image/png:https://biblioteka.szemud.pl/wp-content/uploads/2023/10/Warsztaty-bojano.png
END:VEVENT
BEGIN:VEVENT
DTSTART;TZID=Europe/Warsaw:20231026T153000
DTEND;TZID=Europe/Warsaw:20231026T163000
DTSTAMP:20260419T204621
CREATED:20230928T073416Z
LAST-MODIFIED:20230928T073416Z
UID:38486-1698334200-1698337800@biblioteka.szemud.pl
SUMMARY:Planszomania w bibliotece w Kielnie
DESCRIPTION:
URL:https://biblioteka.szemud.pl/index.php/event/planszomania-w-bibliotece-w-kielnie-8/
LOCATION:Biblioteka w Kielnie\, ul. Oliwska 46\, Kielno
ATTACH;FMTTYPE=image/png:https://biblioteka.szemud.pl/wp-content/uploads/2023/09/planszomania1.png
END:VEVENT
BEGIN:VEVENT
DTSTART;TZID=Europe/Warsaw:20231026T160000
DTEND;TZID=Europe/Warsaw:20231026T170000
DTSTAMP:20260419T204621
CREATED:20231009T124326Z
LAST-MODIFIED:20231009T124326Z
UID:38755-1698336000-1698339600@biblioteka.szemud.pl
SUMMARY:Jesienne warsztaty kreatywne w bibliotece w Łebnie
DESCRIPTION:
URL:https://biblioteka.szemud.pl/index.php/event/jesienne-warsztaty-kreatywne-w-bibliotece-w-lebnie/
LOCATION:Biblioteka w Łebnie\, ul. Kartuska 9\, Łebno
ATTACH;FMTTYPE=image/png:https://biblioteka.szemud.pl/wp-content/uploads/2023/10/Kopia-Biblioteka-Publiczna-w-Lebnie-zaprasza-na-Warsztaty-Kreatywne-Jesienne-Jezyki.png
END:VEVENT
BEGIN:VEVENT
DTSTART;TZID=Europe/Warsaw:20231030T160000
DTEND;TZID=Europe/Warsaw:20231030T170000
DTSTAMP:20260419T204621
CREATED:20230928T075435Z
LAST-MODIFIED:20230928T075435Z
UID:38515-1698681600-1698685200@biblioteka.szemud.pl
SUMMARY:Warsztaty rozwojowe dla dorosłych w bibliotece w Kielnie
DESCRIPTION:
URL:https://biblioteka.szemud.pl/index.php/event/warsztaty-rozwojowe-dla-doroslych-w-bibliotece-w-kielnie-2/
LOCATION:Biblioteka w Kielnie\, ul. Oliwska 46\, Kielno
ATTACH;FMTTYPE=image/png:https://biblioteka.szemud.pl/wp-content/uploads/2023/09/Kielno-warsztaty-rozwojowe.png
END:VEVENT
BEGIN:VEVENT
DTSTART;TZID=Europe/Warsaw:20231030T160000
DTEND;TZID=Europe/Warsaw:20231030T180000
DTSTAMP:20260419T204621
CREATED:20231009T122630Z
LAST-MODIFIED:20231009T122630Z
UID:38733-1698681600-1698688800@biblioteka.szemud.pl
SUMMARY:Spotkanie kosmetyczne w bibliotece w Łebnie
DESCRIPTION:
URL:https://biblioteka.szemud.pl/index.php/event/spotkanie-kosmetyczne-w-bibliotece-w-lebnie/
LOCATION:Biblioteka w Łebnie\, ul. Kartuska 9\, Łebno
ATTACH;FMTTYPE=image/png:https://biblioteka.szemud.pl/wp-content/uploads/2023/10/Spotkanie-kosmetyczne.png
END:VEVENT
BEGIN:VEVENT
DTSTART;TZID=Europe/Warsaw:20231102T160000
DTEND;TZID=Europe/Warsaw:20231102T180000
DTSTAMP:20260419T204621
CREATED:20231030T093746Z
LAST-MODIFIED:20231030T093746Z
UID:40257-1698940800-1698948000@biblioteka.szemud.pl
SUMMARY:Spotkanie szydełkowe w bibliotece w Bojanie
DESCRIPTION:
URL:https://biblioteka.szemud.pl/index.php/event/spotkanie-szydelkowe-w-bibliotece-w-bojanie/
LOCATION:Biblioteka w Bojanie\, ul. J. Wybickiego 38\, Bojano
ATTACH;FMTTYPE=image/png:https://biblioteka.szemud.pl/wp-content/uploads/2023/10/1.png
END:VEVENT
BEGIN:VEVENT
DTSTART;TZID=Europe/Warsaw:20231106T160000
DTEND;TZID=Europe/Warsaw:20231106T180000
DTSTAMP:20260419T204621
CREATED:20231030T094315Z
LAST-MODIFIED:20231030T094315Z
UID:40261-1699286400-1699293600@biblioteka.szemud.pl
SUMMARY:Warsztaty rozwojowe "Jak rozmawiać z ludźmi" w bibliotece w Kielnie
DESCRIPTION:
URL:https://biblioteka.szemud.pl/index.php/event/warsztaty-rozwojowe-jak-rozmawiac-z-ludzmi-w-bibliotece-w-kielnie/
LOCATION:Biblioteka w Kielnie\, ul. Oliwska 46\, Kielno
ATTACH;FMTTYPE=image/png:https://biblioteka.szemud.pl/wp-content/uploads/2023/10/Kielno-warsztaty-rozwojowe.png
END:VEVENT
BEGIN:VEVENT
DTSTART;TZID=Europe/Warsaw:20231107T100000
DTEND;TZID=Europe/Warsaw:20231107T110000
DTSTAMP:20260419T204621
CREATED:20231030T094536Z
LAST-MODIFIED:20231030T094536Z
UID:40263-1699351200-1699354800@biblioteka.szemud.pl
SUMMARY:Teatrzyk Kamishibai w bibliotece w Szemudzie
DESCRIPTION:
URL:https://biblioteka.szemud.pl/index.php/event/teatrzyk-kamishibai-w-bibliotece-w-szemudzie-2/
LOCATION:Biblioteka w Szemudzie\, Samorządowa 1\, Szemud
ATTACH;FMTTYPE=image/png:https://biblioteka.szemud.pl/wp-content/uploads/2023/10/Biblioteka-w-Szemudzie.png
END:VEVENT
BEGIN:VEVENT
DTSTART;TZID=Europe/Warsaw:20231108T090000
DTEND;TZID=Europe/Warsaw:20231108T100000
DTSTAMP:20260419T204621
CREATED:20231030T094651Z
LAST-MODIFIED:20231030T094651Z
UID:40265-1699434000-1699437600@biblioteka.szemud.pl
SUMMARY:Bajeczne czytanie w bibliotece w Szemudzie
DESCRIPTION:
URL:https://biblioteka.szemud.pl/index.php/event/bajeczne-czytanie-w-bibliotece-w-szemudzie-2/
LOCATION:Biblioteka w Szemudzie\, Samorządowa 1\, Szemud
ATTACH;FMTTYPE=image/png:https://biblioteka.szemud.pl/wp-content/uploads/2023/10/poranek-z-bajka-2.png
END:VEVENT
BEGIN:VEVENT
DTSTART;TZID=Europe/Warsaw:20231109T090000
DTEND;TZID=Europe/Warsaw:20231109T120000
DTSTAMP:20260419T204621
CREATED:20231030T095039Z
LAST-MODIFIED:20231030T100451Z
UID:40267-1699520400-1699531200@biblioteka.szemud.pl
SUMMARY:Warsztaty czytelnicze dla klas w bibliotece w Szemudzie
DESCRIPTION:
URL:https://biblioteka.szemud.pl/index.php/event/warsztaty-czytelnicze-dla-klas-w-bibliotece-w-szemudzie-2/
LOCATION:Biblioteka w Szemudzie\, Samorządowa 1\, Szemud
ATTACH;FMTTYPE=image/png:https://biblioteka.szemud.pl/wp-content/uploads/2023/10/warsztaty-czytelnicze-.png
END:VEVENT
BEGIN:VEVENT
DTSTART;TZID=Europe/Warsaw:20231109T143000
DTEND;TZID=Europe/Warsaw:20231109T163000
DTSTAMP:20260419T204621
CREATED:20231030T101212Z
LAST-MODIFIED:20231030T101212Z
UID:40275-1699540200-1699547400@biblioteka.szemud.pl
SUMMARY:Warsztaty z programowania Lego Mindstorms w bibliotece w Kielnie
DESCRIPTION:
URL:https://biblioteka.szemud.pl/index.php/event/warsztaty-z-programowania-lego-mindstorms-w-bibliotece-w-kielnie/
LOCATION:Biblioteka w Kielnie\, ul. Oliwska 46\, Kielno
ATTACH;FMTTYPE=image/png:https://biblioteka.szemud.pl/wp-content/uploads/2023/10/Lego-2021-1.png
END:VEVENT
BEGIN:VEVENT
DTSTART;TZID=Europe/Warsaw:20231110T090000
DTEND;TZID=Europe/Warsaw:20231110T120000
DTSTAMP:20260419T204621
CREATED:20231030T100722Z
LAST-MODIFIED:20231030T100722Z
UID:40269-1699606800-1699617600@biblioteka.szemud.pl
SUMMARY:Warsztaty czytelnicze dla klas w bibliotece w Łebnie
DESCRIPTION:
URL:https://biblioteka.szemud.pl/index.php/event/warsztaty-czytelnicze-dla-klas-w-bibliotece-w-lebnie-2/
LOCATION:Biblioteka w Łebnie\, ul. Kartuska 9\, Łebno
ATTACH;FMTTYPE=image/png:https://biblioteka.szemud.pl/wp-content/uploads/2023/10/warsztaty-czytelnicze-.png
END:VEVENT
BEGIN:VEVENT
DTSTART;TZID=Europe/Warsaw:20231110T150000
DTEND;TZID=Europe/Warsaw:20231110T160000
DTSTAMP:20260419T204621
CREATED:20231030T121831Z
LAST-MODIFIED:20231030T121831Z
UID:40277-1699628400-1699632000@biblioteka.szemud.pl
SUMMARY:Papier\, klej i nożyczki - warsztaty dla dzieci w bibliotece w Bojanie
DESCRIPTION:
URL:https://biblioteka.szemud.pl/index.php/event/papier-klej-i-nozyczki-warsztaty-dla-dzieci-w-bibliotece-w-bojanie-2/
LOCATION:Biblioteka w Bojanie\, ul. J. Wybickiego 38\, Bojano
ATTACH;FMTTYPE=image/jpeg:https://biblioteka.szemud.pl/wp-content/uploads/2023/10/Zdjecie-WhatsApp-2023-09-29-o-03.35.47_5b9233bb.jpg
END:VEVENT
BEGIN:VEVENT
DTSTART;TZID=Europe/Warsaw:20231113T130000
DTEND;TZID=Europe/Warsaw:20231113T140000
DTSTAMP:20260419T204621
CREATED:20231030T122025Z
LAST-MODIFIED:20231030T122025Z
UID:40279-1699880400-1699884000@biblioteka.szemud.pl
SUMMARY:Planszomania w bibliotece w Łebnie
DESCRIPTION:
URL:https://biblioteka.szemud.pl/index.php/event/planszomania-w-bibliotece-w-lebnie-7/
LOCATION:Biblioteka w Łebnie\, ul. Kartuska 9\, Łebno
ATTACH;FMTTYPE=image/png:https://biblioteka.szemud.pl/wp-content/uploads/2023/10/planszomania-1.png
END:VEVENT
BEGIN:VEVENT
DTSTART;TZID=Europe/Warsaw:20231113T160000
DTEND;TZID=Europe/Warsaw:20231113T180000
DTSTAMP:20260419T204621
CREATED:20231030T122905Z
LAST-MODIFIED:20231030T122905Z
UID:40285-1699891200-1699898400@biblioteka.szemud.pl
SUMMARY:Spotkanie kosmetyczne dla Pań w bibliotece w Szemudzie
DESCRIPTION:
URL:https://biblioteka.szemud.pl/index.php/event/spotkanie-kosmetyczne-dla-pan-w-bibliotece-w-szemudzie/
LOCATION:Biblioteka w Szemudzie\, Samorządowa 1\, Szemud
ATTACH;FMTTYPE=image/png:https://biblioteka.szemud.pl/wp-content/uploads/2023/10/Blush-Pink-Decorative-Floral-Inspirational-Quote-Poster.png
END:VEVENT
BEGIN:VEVENT
DTSTART;TZID=Europe/Warsaw:20231114T153000
DTEND;TZID=Europe/Warsaw:20231114T163000
DTSTAMP:20260419T204621
CREATED:20231030T123616Z
LAST-MODIFIED:20231030T123616Z
UID:40293-1699975800-1699979400@biblioteka.szemud.pl
SUMMARY:Warsztaty kreatywne "Jesienny lampion" w bibliotece w Szemudzie
DESCRIPTION:
URL:https://biblioteka.szemud.pl/index.php/event/warsztaty-kreatywne-jesienny-lampion-w-bibliotece-w-szemudzie/
LOCATION:Biblioteka w Szemudzie\, Samorządowa 1\, Szemud
ATTACH;FMTTYPE=image/png:https://biblioteka.szemud.pl/wp-content/uploads/2023/10/Jesienny-lampion-11.png
END:VEVENT
BEGIN:VEVENT
DTSTART;TZID=Europe/Warsaw:20231115T110000
DTEND;TZID=Europe/Warsaw:20231115T123000
DTSTAMP:20260419T204621
CREATED:20231030T125608Z
LAST-MODIFIED:20231030T125608Z
UID:40301-1700046000-1700051400@biblioteka.szemud.pl
SUMMARY:Dyskusyjny Klub Książki w bibliotece w Kielnie
DESCRIPTION:
URL:https://biblioteka.szemud.pl/index.php/event/dyskusyjny-klub-ksiazki-w-bibliotece-w-kielnie-2/
LOCATION:Biblioteka w Kielnie\, ul. Oliwska 46\, Kielno
ATTACH;FMTTYPE=image/png:https://biblioteka.szemud.pl/wp-content/uploads/2023/10/DKK-w-Kielnie-1.png
END:VEVENT
BEGIN:VEVENT
DTSTART;TZID=Europe/Warsaw:20231116T090000
DTEND;TZID=Europe/Warsaw:20231116T120000
DTSTAMP:20260419T204621
CREATED:20231030T100811Z
LAST-MODIFIED:20231030T100811Z
UID:40271-1700125200-1700136000@biblioteka.szemud.pl
SUMMARY:Warsztaty czytelnicze dla klas w bibliotece w Kielnie
DESCRIPTION:
URL:https://biblioteka.szemud.pl/index.php/event/warsztaty-czytelnicze-dla-klas-w-bibliotece-w-kielnie-2/
ATTACH;FMTTYPE=image/png:https://biblioteka.szemud.pl/wp-content/uploads/2023/10/warsztaty-czytelnicze-.png
END:VEVENT
BEGIN:VEVENT
DTSTART;TZID=Europe/Warsaw:20231116T153000
DTEND;TZID=Europe/Warsaw:20231116T163000
DTSTAMP:20260419T204621
CREATED:20231030T122140Z
LAST-MODIFIED:20231030T122140Z
UID:40281-1700148600-1700152200@biblioteka.szemud.pl
SUMMARY:Planszomania w bibliotece w Szemudzie
DESCRIPTION:
URL:https://biblioteka.szemud.pl/index.php/event/planszomania-w-bibliotece-w-szemudzie-14/
LOCATION:Biblioteka w Szemudzie\, Samorządowa 1\, Szemud
ATTACH;FMTTYPE=image/png:https://biblioteka.szemud.pl/wp-content/uploads/2023/10/planszomania-1.png
END:VEVENT
BEGIN:VEVENT
DTSTART;TZID=Europe/Warsaw:20231117T090000
DTEND;TZID=Europe/Warsaw:20231117T120000
DTSTAMP:20260419T204621
CREATED:20231030T101019Z
LAST-MODIFIED:20231030T101019Z
UID:40273-1700211600-1700222400@biblioteka.szemud.pl
SUMMARY:Warsztaty czytelnicze dla klas w bibliotece w Bojanie
DESCRIPTION:
URL:https://biblioteka.szemud.pl/index.php/event/warsztaty-czytelnicze-dla-klas-w-bibliotece-w-bojanie-2/
LOCATION:Biblioteka w Bojanie\, ul. J. Wybickiego 38\, Bojano
ATTACH;FMTTYPE=image/png:https://biblioteka.szemud.pl/wp-content/uploads/2023/10/warsztaty-czytelnicze-.png
END:VEVENT
BEGIN:VEVENT
DTSTART;TZID=Europe/Warsaw:20231117T093000
DTEND;TZID=Europe/Warsaw:20231117T113000
DTSTAMP:20260419T204621
CREATED:20231030T123708Z
LAST-MODIFIED:20231030T131449Z
UID:40295-1700213400-1700220600@biblioteka.szemud.pl
SUMMARY:Spotkanie z bajką kl. 0b SP Łebno w bibliotece w Łebnie
DESCRIPTION:
URL:https://biblioteka.szemud.pl/index.php/event/spotkanie-z-bajka-kl-0b-sp-lebno/
LOCATION:Biblioteka w Łebnie\, ul. Kartuska 9\, Łebno
END:VEVENT
BEGIN:VEVENT
DTSTART;TZID=Europe/Warsaw:20231118T113000
DTEND;TZID=Europe/Warsaw:20231118T130000
DTSTAMP:20260419T204621
CREATED:20231030T123944Z
LAST-MODIFIED:20231030T123944Z
UID:40297-1700307000-1700312400@biblioteka.szemud.pl
SUMMARY:Spotkanie Klubu Książki w bibliotece w Szemudzie
DESCRIPTION:
URL:https://biblioteka.szemud.pl/index.php/event/spotkanie-klubu-ksiazki-w-bibliotece-w-szemudzie-3/
LOCATION:Biblioteka w Szemudzie\, Samorządowa 1\, Szemud
ATTACH;FMTTYPE=image/jpeg:https://biblioteka.szemud.pl/wp-content/uploads/2023/10/1000023825.jpg
END:VEVENT
END:VCALENDAR