BEGIN:VCALENDAR
VERSION:2.0
PRODID:-//Biblioteka Publiczna Gminy Szemud - ECPv6.15.20//NONSGML v1.0//EN
CALSCALE:GREGORIAN
METHOD:PUBLISH
X-ORIGINAL-URL:https://biblioteka.szemud.pl
X-WR-CALDESC:Wydarzenia dla Biblioteka Publiczna Gminy Szemud
REFRESH-INTERVAL;VALUE=DURATION:PT1H
X-Robots-Tag:noindex
X-PUBLISHED-TTL:PT1H
BEGIN:VTIMEZONE
TZID:Europe/Warsaw
BEGIN:DAYLIGHT
TZOFFSETFROM:+0100
TZOFFSETTO:+0200
TZNAME:CEST
DTSTART:20220327T010000
END:DAYLIGHT
BEGIN:STANDARD
TZOFFSETFROM:+0200
TZOFFSETTO:+0100
TZNAME:CET
DTSTART:20221030T010000
END:STANDARD
BEGIN:DAYLIGHT
TZOFFSETFROM:+0100
TZOFFSETTO:+0200
TZNAME:CEST
DTSTART:20230326T010000
END:DAYLIGHT
BEGIN:STANDARD
TZOFFSETFROM:+0200
TZOFFSETTO:+0100
TZNAME:CET
DTSTART:20231029T010000
END:STANDARD
BEGIN:DAYLIGHT
TZOFFSETFROM:+0100
TZOFFSETTO:+0200
TZNAME:CEST
DTSTART:20240331T010000
END:DAYLIGHT
BEGIN:STANDARD
TZOFFSETFROM:+0200
TZOFFSETTO:+0100
TZNAME:CET
DTSTART:20241027T010000
END:STANDARD
END:VTIMEZONE
BEGIN:VEVENT
DTSTART;TZID=Europe/Warsaw:20230328T153000
DTEND;TZID=Europe/Warsaw:20230328T173000
DTSTAMP:20260420T051832
CREATED:20230306T153340Z
LAST-MODIFIED:20230307T153050Z
UID:29790-1680017400-1680024600@biblioteka.szemud.pl
SUMMARY:Warsztaty wielkanocne w bibliotece w Szemudzie
DESCRIPTION:
URL:https://biblioteka.szemud.pl/index.php/event/warsztaty-wielkanocne-w-bibliotece-w-szemudzie/
LOCATION:Biblioteka w Szemudzie\, Samorządowa 1\, Szemud
ATTACH;FMTTYPE=image/png:https://biblioteka.szemud.pl/wp-content/uploads/2023/03/Warsztaty-Wielkanocne1.png
END:VEVENT
BEGIN:VEVENT
DTSTART;TZID=Europe/Warsaw:20230328T160000
DTEND;TZID=Europe/Warsaw:20230328T180000
DTSTAMP:20260420T051832
CREATED:20230307T122136Z
LAST-MODIFIED:20230307T122136Z
UID:29814-1680019200-1680026400@biblioteka.szemud.pl
SUMMARY:Warsztaty IMPRO w bibliotece w Bojanie
DESCRIPTION:
URL:https://biblioteka.szemud.pl/index.php/event/warsztaty-impro-w-bibliotece-w-bojanie-5/
LOCATION:Biblioteka w Bojanie\, ul. J. Wybickiego 38\, Bojano
ATTACH;FMTTYPE=image/png:https://biblioteka.szemud.pl/wp-content/uploads/2023/03/Biblioteka-Publiczna-w-Bojanie-zaprasza-doroslych-i-mlodziez-na.png
END:VEVENT
BEGIN:VEVENT
DTSTART;TZID=Europe/Warsaw:20230329T110000
DTEND;TZID=Europe/Warsaw:20230329T120000
DTSTAMP:20260420T051832
CREATED:20230314T140458Z
LAST-MODIFIED:20230320T144913Z
UID:30061-1680087600-1680091200@biblioteka.szemud.pl
SUMMARY:Spotkanie z muzyką "Crux fidelis Muzyka na Wielki Post" w bibliotece w Łebnie
DESCRIPTION:
URL:https://biblioteka.szemud.pl/index.php/event/spotkanie-z-muzyka-crux-fidelis-muzyka-na-wielki-post-w-bibliotece-w-lebnie/
LOCATION:Biblioteka w Łebnie\, ul. Kartuska 9\, Łebno
ATTACH;FMTTYPE=image/png:https://biblioteka.szemud.pl/wp-content/uploads/2023/03/1000005515-e1679322503759.png
END:VEVENT
BEGIN:VEVENT
DTSTART;TZID=Europe/Warsaw:20230330T150000
DTEND;TZID=Europe/Warsaw:20230330T163000
DTSTAMP:20260420T051832
CREATED:20230306T150957Z
LAST-MODIFIED:20230307T153742Z
UID:29785-1680188400-1680193800@biblioteka.szemud.pl
SUMMARY:Planszomania w bibliotece w Kielnie
DESCRIPTION:
URL:https://biblioteka.szemud.pl/index.php/event/planszomania-w-bibliotece-w-kielnie-5/
ATTACH;FMTTYPE=image/png:https://biblioteka.szemud.pl/wp-content/uploads/2023/03/Biblioteka-Publiczna-w-Bojanie-3-e1678201917753.png
END:VEVENT
BEGIN:VEVENT
DTSTART;TZID=Europe/Warsaw:20230330T160000
DTEND;TZID=Europe/Warsaw:20230330T170000
DTSTAMP:20260420T051832
CREATED:20230307T113540Z
LAST-MODIFIED:20230307T153603Z
UID:29803-1680192000-1680195600@biblioteka.szemud.pl
SUMMARY:Warsztaty wielkanocne w bibliotece w Łebnie
DESCRIPTION:
URL:https://biblioteka.szemud.pl/index.php/event/warsztaty-wielkanocne-w-bibliotece-w-lebnie-2/
LOCATION:Biblioteka w Łebnie\, ul. Kartuska 9\, Łebno
ATTACH;FMTTYPE=image/png:https://biblioteka.szemud.pl/wp-content/uploads/2023/03/Warsztaty-Wielkanocne1.png
END:VEVENT
BEGIN:VEVENT
DTSTART;TZID=Europe/Warsaw:20230330T160000
DTEND;TZID=Europe/Warsaw:20230330T173000
DTSTAMP:20260420T051832
CREATED:20230307T122315Z
LAST-MODIFIED:20230307T122741Z
UID:29816-1680192000-1680197400@biblioteka.szemud.pl
SUMMARY:Papier\, klej i nożyczki warsztaty w bibliotece w Bojanie
DESCRIPTION:
URL:https://biblioteka.szemud.pl/index.php/event/papier-klej-i-nozyczki-warsztaty-w-bibliotece-w-bojanie/
LOCATION:Biblioteka w Bojanie\, ul. J. Wybickiego 38\, Bojano
ATTACH;FMTTYPE=image/png:https://biblioteka.szemud.pl/wp-content/uploads/2023/03/20230216_094059_0000.png
END:VEVENT
BEGIN:VEVENT
DTSTART;TZID=Europe/Warsaw:20230331T110000
DTEND;TZID=Europe/Warsaw:20230331T120000
DTSTAMP:20260420T051832
CREATED:20230314T140410Z
LAST-MODIFIED:20230320T144545Z
UID:30059-1680260400-1680264000@biblioteka.szemud.pl
SUMMARY:Spotkanie z muzyką "Crux fidelis Muzyka na Wielki Post" w bibliotece w Kielnie
DESCRIPTION:
URL:https://biblioteka.szemud.pl/index.php/event/spotkanie-z-muzyka-crux-fidelis-muzyka-na-wielki-post-w-bibliotece-w-kielnie/
LOCATION:Biblioteka w Kielnie\, ul. Oliwska 46\, Kielno
ATTACH;FMTTYPE=image/png:https://biblioteka.szemud.pl/wp-content/uploads/2023/03/1000005515-e1679322503759.png
END:VEVENT
BEGIN:VEVENT
DTSTART;TZID=Europe/Warsaw:20230403T140000
DTEND;TZID=Europe/Warsaw:20230403T150000
DTSTAMP:20260420T051832
CREATED:20230330T121551Z
LAST-MODIFIED:20230330T121551Z
UID:30461-1680530400-1680534000@biblioteka.szemud.pl
SUMMARY:Warsztaty Wielkanocne w bibliotece w Bojanie
DESCRIPTION:
URL:https://biblioteka.szemud.pl/index.php/event/warsztaty-wielkanocne-w-bibliotece-w-bojanie-3/
LOCATION:Biblioteka w Bojanie\, ul. J. Wybickiego 38\, Bojano
ATTACH;FMTTYPE=image/png:https://biblioteka.szemud.pl/wp-content/uploads/2023/03/Biblioteka-Publiczna-w-Bojanie9.png
END:VEVENT
BEGIN:VEVENT
DTSTART;TZID=Europe/Warsaw:20230404T130000
DTEND;TZID=Europe/Warsaw:20230404T140000
DTSTAMP:20260420T051832
CREATED:20230331T115113Z
LAST-MODIFIED:20230331T115113Z
UID:30600-1680613200-1680616800@biblioteka.szemud.pl
SUMMARY:Przygody w świecie kodowania z Robotem Photon w bibliotece w Łebnie
DESCRIPTION:
URL:https://biblioteka.szemud.pl/index.php/event/przygody-w-swiecie-kodowania-z-robotem-photon-w-bibliotece-w-lebnie/
LOCATION:Biblioteka w Łebnie\, ul. Kartuska 9\, Łebno
ATTACH;FMTTYPE=image/png:https://biblioteka.szemud.pl/wp-content/uploads/2023/03/Lego-20215.png
END:VEVENT
BEGIN:VEVENT
DTSTART;TZID=Europe/Warsaw:20230412T120000
DTEND;TZID=Europe/Warsaw:20230412T150000
DTSTAMP:20260420T051832
CREATED:20230404T135754Z
LAST-MODIFIED:20230404T135754Z
UID:30945-1681300800-1681311600@biblioteka.szemud.pl
SUMMARY:Uroczystość nadania imienia Bolesława Borka bibliotece w Bojanie
DESCRIPTION:
URL:https://biblioteka.szemud.pl/index.php/event/uroczystosc-nadania-imienia-boleslawa-borka-bibliotece-w-bojanie/
LOCATION:Biblioteka w Bojanie\, ul. J. Wybickiego 38\, Bojano
ATTACH;FMTTYPE=image/jpeg:https://biblioteka.szemud.pl/wp-content/uploads/2023/04/plakat-Bork-scaled.jpg
END:VEVENT
BEGIN:VEVENT
DTSTART;TZID=Europe/Warsaw:20230413T120000
DTEND;TZID=Europe/Warsaw:20230413T140000
DTSTAMP:20260420T051832
CREATED:20230331T100736Z
LAST-MODIFIED:20230331T100736Z
UID:30564-1681387200-1681394400@biblioteka.szemud.pl
SUMMARY:Warsztaty z Lego Mindstorms w bibliotece w Łebnie
DESCRIPTION:
URL:https://biblioteka.szemud.pl/index.php/event/warsztaty-z-lego-mindstorms-w-bibliotece-w-lebnie-9/
LOCATION:Biblioteka w Łebnie\, ul. Kartuska 9\, Łebno
ATTACH;FMTTYPE=image/jpeg:https://biblioteka.szemud.pl/wp-content/uploads/2023/03/Lego-4-2023.jpg
END:VEVENT
BEGIN:VEVENT
DTSTART;TZID=Europe/Warsaw:20230413T150000
DTEND;TZID=Europe/Warsaw:20230413T180000
DTSTAMP:20260420T051832
CREATED:20230331T101056Z
LAST-MODIFIED:20230331T101056Z
UID:30570-1681398000-1681408800@biblioteka.szemud.pl
SUMMARY:Planszomania w bibliotece w Bojanie
DESCRIPTION:
URL:https://biblioteka.szemud.pl/index.php/event/planszomania-w-bibliotece-w-bojanie-10/
LOCATION:Biblioteka w Bojanie\, ul. J. Wybickiego 38\, Bojano
ATTACH;FMTTYPE=image/jpeg:https://biblioteka.szemud.pl/wp-content/uploads/2023/03/planszomania-4-2023.jpg
END:VEVENT
BEGIN:VEVENT
DTSTART;TZID=Europe/Warsaw:20230413T153000
DTEND;TZID=Europe/Warsaw:20230413T163000
DTSTAMP:20260420T051832
CREATED:20230331T101709Z
LAST-MODIFIED:20230331T124032Z
UID:30572-1681399800-1681403400@biblioteka.szemud.pl
SUMMARY:Kodowanie z Robotem Photon w bibliotece w Kielnie
DESCRIPTION:
URL:https://biblioteka.szemud.pl/index.php/event/kodowanie-z-robotem-photon-w-bibliotece-w-kielnie/
LOCATION:Biblioteka w Kielnie\, ul. Oliwska 46\, Kielno
ATTACH;FMTTYPE=image/jpeg:https://biblioteka.szemud.pl/wp-content/uploads/2023/03/Lego-2021.jpg
END:VEVENT
BEGIN:VEVENT
DTSTART;TZID=Europe/Warsaw:20230417T130000
DTEND;TZID=Europe/Warsaw:20230417T140000
DTSTAMP:20260420T051832
CREATED:20230331T101804Z
LAST-MODIFIED:20230331T101804Z
UID:30574-1681736400-1681740000@biblioteka.szemud.pl
SUMMARY:Planszomania w bibliotece w Łebnie
DESCRIPTION:
URL:https://biblioteka.szemud.pl/index.php/event/planszomania-w-bibliotece-w-lebnie-3/
LOCATION:Biblioteka w Łebnie\, ul. Kartuska 9\, Łebno
ATTACH;FMTTYPE=image/jpeg:https://biblioteka.szemud.pl/wp-content/uploads/2023/03/planszomania-4-2023.jpg
END:VEVENT
BEGIN:VEVENT
DTSTART;TZID=Europe/Warsaw:20230417T153000
DTEND;TZID=Europe/Warsaw:20230417T163000
DTSTAMP:20260420T051832
CREATED:20230331T101905Z
LAST-MODIFIED:20230331T101905Z
UID:30576-1681745400-1681749000@biblioteka.szemud.pl
SUMMARY:Planszomania w bibliotece w Szemudzie
DESCRIPTION:
URL:https://biblioteka.szemud.pl/index.php/event/planszomania-w-bibliotece-w-szemudzie-11/
LOCATION:Biblioteka w Szemudzie\, Samorządowa 1\, Szemud
ATTACH;FMTTYPE=image/jpeg:https://biblioteka.szemud.pl/wp-content/uploads/2023/03/planszomania-4-2023.jpg
END:VEVENT
BEGIN:VEVENT
DTSTART;TZID=Europe/Warsaw:20230417T160000
DTEND;TZID=Europe/Warsaw:20230417T173000
DTSTAMP:20260420T051832
CREATED:20230316T132132Z
LAST-MODIFIED:20230316T132309Z
UID:30072-1681747200-1681752600@biblioteka.szemud.pl
SUMMARY:PoznajMy Się! - czyli warsztaty rozwojowe dla klas 7-8 w bibliotece w Bojanie
DESCRIPTION:
URL:https://biblioteka.szemud.pl/index.php/event/poznajmy-sie-czyli-warsztaty-rozwojowe-dla-klas-7-8/
LOCATION:Biblioteka w Bojanie\, ul. J. Wybickiego 38\, Bojano
ATTACH;FMTTYPE=image/jpeg:https://biblioteka.szemud.pl/wp-content/uploads/2023/03/ostateczny-plakat-na-warsztaty_page-0001-2-scaled-e1678972814940.jpg
END:VEVENT
BEGIN:VEVENT
DTSTART;TZID=Europe/Warsaw:20230418T120000
DTEND;TZID=Europe/Warsaw:20230418T140000
DTSTAMP:20260420T051832
CREATED:20230331T100826Z
LAST-MODIFIED:20230331T100826Z
UID:30566-1681819200-1681826400@biblioteka.szemud.pl
SUMMARY:Warsztaty z Lego Mindstorms w bibliotece w Łebnie
DESCRIPTION:
URL:https://biblioteka.szemud.pl/index.php/event/warsztaty-z-lego-mindstorms-w-bibliotece-w-lebnie-10/
LOCATION:Biblioteka w Łebnie\, ul. Kartuska 9\, Łebno
ATTACH;FMTTYPE=image/jpeg:https://biblioteka.szemud.pl/wp-content/uploads/2023/03/Lego-4-2023.jpg
END:VEVENT
BEGIN:VEVENT
DTSTART;TZID=Europe/Warsaw:20230418T160000
DTEND;TZID=Europe/Warsaw:20230418T180000
DTSTAMP:20260420T051832
CREATED:20230331T101957Z
LAST-MODIFIED:20230331T101957Z
UID:30578-1681833600-1681840800@biblioteka.szemud.pl
SUMMARY:Warsztaty IMPRO w bibliotece w Bojanie
DESCRIPTION:
URL:https://biblioteka.szemud.pl/index.php/event/warsztaty-impro-w-bibliotece-w-bojanie-6/
LOCATION:Biblioteka w Bojanie\, ul. J. Wybickiego 38\, Bojano
ATTACH;FMTTYPE=image/jpeg:https://biblioteka.szemud.pl/wp-content/uploads/2023/03/Biblioteka-Publiczna-w-Bojanie-zaprasza-doroslych-i-mlodziez-na.jpg
END:VEVENT
BEGIN:VEVENT
DTSTART;TZID=Europe/Warsaw:20230420T153000
DTEND;TZID=Europe/Warsaw:20230420T163000
DTSTAMP:20260420T051832
CREATED:20230331T102437Z
LAST-MODIFIED:20230331T102437Z
UID:30582-1682004600-1682008200@biblioteka.szemud.pl
SUMMARY:Spotkanie Robótkowe w bibliotece w Kielnie
DESCRIPTION:
URL:https://biblioteka.szemud.pl/index.php/event/spotkanie-robotkowe-w-bibliotece-w-kielnie/
LOCATION:Biblioteka w Kielnie\, ul. Oliwska 46\, Kielno
ATTACH;FMTTYPE=image/jpeg:https://biblioteka.szemud.pl/wp-content/uploads/2023/03/Brown-Clean-Motivational-Quote-Scrapbook.jpg
END:VEVENT
BEGIN:VEVENT
DTSTART;TZID=Europe/Warsaw:20230420T160000
DTEND;TZID=Europe/Warsaw:20230420T180000
DTSTAMP:20260420T051832
CREATED:20230331T102110Z
LAST-MODIFIED:20230331T102110Z
UID:30580-1682006400-1682013600@biblioteka.szemud.pl
SUMMARY:Papier\, klej\, nożyczki - warsztaty w bibliotece w Bojanie
DESCRIPTION:
URL:https://biblioteka.szemud.pl/index.php/event/papier-klej-nozyczki-warsztaty-w-bibliotece-w-bojanie/
LOCATION:Biblioteka w Bojanie\, ul. J. Wybickiego 38\, Bojano
ATTACH;FMTTYPE=image/jpeg:https://biblioteka.szemud.pl/wp-content/uploads/2023/03/WhatsApp-Image-2023-03-31-at-11.35.31.jpeg
END:VEVENT
BEGIN:VEVENT
DTSTART;TZID=Europe/Warsaw:20230421T090000
DTEND;TZID=Europe/Warsaw:20230421T140000
DTSTAMP:20260420T051832
CREATED:20230330T122324Z
LAST-MODIFIED:20230330T122324Z
UID:30463-1682067600-1682085600@biblioteka.szemud.pl
SUMMARY:Gminny Konkurs Poezji Polskiej w bibliotece w Szemudzie
DESCRIPTION:
URL:https://biblioteka.szemud.pl/index.php/event/gminny-konkurs-poezji-polskiej-w-bibliotece-w-szemudzie-2/
LOCATION:Biblioteka w Szemudzie\, Samorządowa 1\, Szemud
ATTACH;FMTTYPE=image/jpeg:https://biblioteka.szemud.pl/wp-content/uploads/2023/03/Poezja-Polska-2021.jpg
END:VEVENT
BEGIN:VEVENT
DTSTART;TZID=Europe/Warsaw:20230425T143000
DTEND;TZID=Europe/Warsaw:20230425T163000
DTSTAMP:20260420T051832
CREATED:20230331T100929Z
LAST-MODIFIED:20230331T100929Z
UID:30568-1682433000-1682440200@biblioteka.szemud.pl
SUMMARY:Warsztaty z Lego Mindstorms w bibliotece w Szemudzie
DESCRIPTION:
URL:https://biblioteka.szemud.pl/index.php/event/warsztaty-z-lego-mindstorms-w-bibliotece-w-szemudzie-11/
LOCATION:Biblioteka w Szemudzie\, Samorządowa 1\, Szemud
ATTACH;FMTTYPE=image/jpeg:https://biblioteka.szemud.pl/wp-content/uploads/2023/03/Lego-4-2023.jpg
END:VEVENT
BEGIN:VEVENT
DTSTART;TZID=Europe/Warsaw:20230427T153000
DTEND;TZID=Europe/Warsaw:20230427T163000
DTSTAMP:20260420T051832
CREATED:20230331T102824Z
LAST-MODIFIED:20230331T102824Z
UID:30587-1682609400-1682613000@biblioteka.szemud.pl
SUMMARY:Planszomania w bibliotece w Kielnie
DESCRIPTION:
URL:https://biblioteka.szemud.pl/index.php/event/planszomania-w-bibliotece-w-kielnie-6/
LOCATION:Biblioteka w Kielnie\, ul. Oliwska 46\, Kielno
ATTACH;FMTTYPE=image/jpeg:https://biblioteka.szemud.pl/wp-content/uploads/2023/03/planszomania-4-2023.jpg
END:VEVENT
BEGIN:VEVENT
DTSTART;TZID=Europe/Warsaw:20230427T160000
DTEND;TZID=Europe/Warsaw:20230427T180000
DTSTAMP:20260420T051832
CREATED:20230331T102740Z
LAST-MODIFIED:20230331T102740Z
UID:30584-1682611200-1682618400@biblioteka.szemud.pl
SUMMARY:Warsztaty szydełkowe w bibliotece w Bojanie
DESCRIPTION:
URL:https://biblioteka.szemud.pl/index.php/event/warsztaty-szydelkowe-w-bibliotece-w-bojanie/
LOCATION:Biblioteka w Bojanie\, ul. J. Wybickiego 38\, Bojano
ATTACH;FMTTYPE=image/jpeg:https://biblioteka.szemud.pl/wp-content/uploads/2023/03/Dodaj-podtytul.jpg
END:VEVENT
BEGIN:VEVENT
DTSTART;TZID=Europe/Warsaw:20230428T090000
DTEND;TZID=Europe/Warsaw:20230428T140000
DTSTAMP:20260420T051832
CREATED:20230330T122508Z
LAST-MODIFIED:20230330T122509Z
UID:30465-1682672400-1682690400@biblioteka.szemud.pl
SUMMARY:Gminny Konkurs Recytatorski  Literatury Kaszubskiej RODNÔ MÒWA w bibliotece w Szemudzie
DESCRIPTION:
URL:https://biblioteka.szemud.pl/index.php/event/gminny-konkurs-recytatorski-literatury-kaszubskiej-rodno-mowa-w-bibliotece-w-szemudzie/
LOCATION:Biblioteka w Szemudzie\, Samorządowa 1\, Szemud
ATTACH;FMTTYPE=image/png:https://biblioteka.szemud.pl/wp-content/uploads/2023/03/Rodna-Mowa.png
END:VEVENT
BEGIN:VEVENT
DTSTART;TZID=Europe/Warsaw:20230508T090000
DTEND;TZID=Europe/Warsaw:20230508T110000
DTSTAMP:20260420T051832
CREATED:20230427T101641Z
LAST-MODIFIED:20230427T101641Z
UID:31901-1683536400-1683543600@biblioteka.szemud.pl
SUMMARY:Mistrz Pięknego Czytania w bibliotece w Łebnie
DESCRIPTION:
URL:https://biblioteka.szemud.pl/index.php/event/mistrz-pieknego-czytania-w-bibliotece-w-lebnie/
LOCATION:Biblioteka w Łebnie\, ul. Kartuska 9\, Łebno
ATTACH;FMTTYPE=image/jpeg:https://biblioteka.szemud.pl/wp-content/uploads/2023/04/XX-OGOLNOPOLSKI-TYDZIEN-BIBLIOTEK-1.jpg
END:VEVENT
BEGIN:VEVENT
DTSTART;TZID=Europe/Warsaw:20230508T090000
DTEND;TZID=Europe/Warsaw:20230508T110000
DTSTAMP:20260420T051832
CREATED:20230427T101951Z
LAST-MODIFIED:20230427T102011Z
UID:31905-1683536400-1683543600@biblioteka.szemud.pl
SUMMARY:Mistrz Pięknego Czytania w bibliotece w Bojanie
DESCRIPTION:
URL:https://biblioteka.szemud.pl/index.php/event/mistrz-pieknego-czytania-w-bibliotece-w-bojanie/
LOCATION:Biblioteka w Bojanie\, ul. J. Wybickiego 38\, Bojano
ATTACH;FMTTYPE=image/jpeg:https://biblioteka.szemud.pl/wp-content/uploads/2023/04/XX-OGOLNOPOLSKI-TYDZIEN-BIBLIOTEK-1.jpg
END:VEVENT
BEGIN:VEVENT
DTSTART;TZID=Europe/Warsaw:20230508T100000
DTEND;TZID=Europe/Warsaw:20230508T110000
DTSTAMP:20260420T051832
CREATED:20230427T101854Z
LAST-MODIFIED:20230427T101854Z
UID:31903-1683540000-1683543600@biblioteka.szemud.pl
SUMMARY:Teatrzyk Kamishibai w bibliotece w Szemudzie
DESCRIPTION:
URL:https://biblioteka.szemud.pl/index.php/event/teatrzyk-kamishibai-w-bibliotece-w-szemudzie/
LOCATION:Biblioteka w Szemudzie\, Samorządowa 1\, Szemud
ATTACH;FMTTYPE=image/jpeg:https://biblioteka.szemud.pl/wp-content/uploads/2023/04/XX-OGOLNOPOLSKI-TYDZIEN-BIBLIOTEK-1.jpg
END:VEVENT
BEGIN:VEVENT
DTSTART;TZID=Europe/Warsaw:20230508T160000
DTEND;TZID=Europe/Warsaw:20230508T180000
DTSTAMP:20260420T051832
CREATED:20230415T080650Z
LAST-MODIFIED:20230415T080650Z
UID:31419-1683561600-1683568800@biblioteka.szemud.pl
SUMMARY:Warsztaty rozwojowe w oparciu o porozumieniu bez przemocy w bibliotece w Bojanie
DESCRIPTION:
URL:https://biblioteka.szemud.pl/index.php/event/warsztaty-rozwojowe-w-oparciu-o-porozumieniu-bez-przemocy-w-bibliotece-w-bojanie/
LOCATION:Biblioteka w Bojanie\, ul. J. Wybickiego 38\, Bojano
ATTACH;FMTTYPE=image/jpeg:https://biblioteka.szemud.pl/wp-content/uploads/2023/04/NVC-warsztaty-plakat.jpg
END:VEVENT
BEGIN:VEVENT
DTSTART;TZID=Europe/Warsaw:20230508T160000
DTEND;TZID=Europe/Warsaw:20230508T180000
DTSTAMP:20260420T051832
CREATED:20230427T102351Z
LAST-MODIFIED:20230427T102351Z
UID:31907-1683561600-1683568800@biblioteka.szemud.pl
SUMMARY:Warsztaty rozwojowe dla dorosłych NVC - Porozumienie bez przemocy w bibliotece w Bojanie
DESCRIPTION:
URL:https://biblioteka.szemud.pl/index.php/event/warsztaty-rozwojowe-dla-doroslych-nvc-porozumienie-bez-przemocy-w-bibliotece-w-bojanie/
LOCATION:Biblioteka w Bojanie\, ul. J. Wybickiego 38\, Bojano
ATTACH;FMTTYPE=image/png:https://biblioteka.szemud.pl/wp-content/uploads/2023/04/NVC-POROZUMIENIE-BEZ-PRZEMOCY.png
END:VEVENT
END:VCALENDAR