BEGIN:VCALENDAR
VERSION:2.0
PRODID:-//Biblioteka Publiczna Gminy Szemud - ECPv6.15.20//NONSGML v1.0//EN
CALSCALE:GREGORIAN
METHOD:PUBLISH
X-ORIGINAL-URL:https://biblioteka.szemud.pl
X-WR-CALDESC:Wydarzenia dla Biblioteka Publiczna Gminy Szemud
REFRESH-INTERVAL;VALUE=DURATION:PT1H
X-Robots-Tag:noindex
X-PUBLISHED-TTL:PT1H
BEGIN:VTIMEZONE
TZID:Europe/Warsaw
BEGIN:DAYLIGHT
TZOFFSETFROM:+0100
TZOFFSETTO:+0200
TZNAME:CEST
DTSTART:20210328T010000
END:DAYLIGHT
BEGIN:STANDARD
TZOFFSETFROM:+0200
TZOFFSETTO:+0100
TZNAME:CET
DTSTART:20211031T010000
END:STANDARD
BEGIN:DAYLIGHT
TZOFFSETFROM:+0100
TZOFFSETTO:+0200
TZNAME:CEST
DTSTART:20220327T010000
END:DAYLIGHT
BEGIN:STANDARD
TZOFFSETFROM:+0200
TZOFFSETTO:+0100
TZNAME:CET
DTSTART:20221030T010000
END:STANDARD
BEGIN:DAYLIGHT
TZOFFSETFROM:+0100
TZOFFSETTO:+0200
TZNAME:CEST
DTSTART:20230326T010000
END:DAYLIGHT
BEGIN:STANDARD
TZOFFSETFROM:+0200
TZOFFSETTO:+0100
TZNAME:CET
DTSTART:20231029T010000
END:STANDARD
END:VTIMEZONE
BEGIN:VEVENT
DTSTART;TZID=Europe/Warsaw:20220801T110000
DTEND;TZID=Europe/Warsaw:20220801T123000
DTSTAMP:20260420T203405
CREATED:20220722T114911Z
LAST-MODIFIED:20220722T123039Z
UID:24902-1659351600-1659357000@biblioteka.szemud.pl
SUMMARY:Warsztaty Świeczniki z masy solnej w Bibliotece w Kielnie
DESCRIPTION:
URL:https://biblioteka.szemud.pl/index.php/event/warsztaty-swieczniki-z-masy-solnej-w-bibliotece-w-kielnie/
LOCATION:Biblioteka w Kielnie\, ul. Oliwska 46\, Kielno
ATTACH;FMTTYPE=image/png:https://biblioteka.szemud.pl/wp-content/uploads/2022/07/Warsztaty-sierpien-2022-e1658492667267.png
END:VEVENT
BEGIN:VEVENT
DTSTART;TZID=Europe/Warsaw:20220801T130000
DTEND;TZID=Europe/Warsaw:20220801T140000
DTSTAMP:20260420T203405
CREATED:20220722T115725Z
LAST-MODIFIED:20220722T123112Z
UID:24904-1659358800-1659362400@biblioteka.szemud.pl
SUMMARY:Otwarte zajęcia gitarowe w Bibliotece w Kielnie
DESCRIPTION:
URL:https://biblioteka.szemud.pl/index.php/event/otwarte-zajecia-gitarowe-w-bibliotece-w-kielnie-6/
LOCATION:Biblioteka w Kielnie\, ul. Oliwska 46\, Kielno
ATTACH;FMTTYPE=image/png:https://biblioteka.szemud.pl/wp-content/uploads/2022/07/Warsztaty-sierpien-2022-e1658492667267.png
END:VEVENT
BEGIN:VEVENT
DTSTART;TZID=Europe/Warsaw:20220802T113000
DTEND;TZID=Europe/Warsaw:20220802T130000
DTSTAMP:20260420T203405
CREATED:20220722T121247Z
LAST-MODIFIED:20220722T123136Z
UID:24921-1659439800-1659445200@biblioteka.szemud.pl
SUMMARY:Warsztaty Świeczniki z masy solnej w Bibliotece w Bojanie
DESCRIPTION:
URL:https://biblioteka.szemud.pl/index.php/event/warsztaty-swieczniki-z-masy-solnej-w-bibliotece-w-bojanie/
LOCATION:Biblioteka w Bojanie\, ul. J. Wybickiego 38\, Bojano
ATTACH;FMTTYPE=image/png:https://biblioteka.szemud.pl/wp-content/uploads/2022/07/Warsztaty-sierpien-2022-e1658492667267.png
END:VEVENT
BEGIN:VEVENT
DTSTART;TZID=Europe/Warsaw:20220802T133000
DTEND;TZID=Europe/Warsaw:20220802T143000
DTSTAMP:20260420T203405
CREATED:20220722T121333Z
LAST-MODIFIED:20220722T123235Z
UID:24923-1659447000-1659450600@biblioteka.szemud.pl
SUMMARY:Otwarte zajęcia gitarowe w Bibliotece w Bojanie
DESCRIPTION:
URL:https://biblioteka.szemud.pl/index.php/event/otwarte-zajecia-gitarowe-w-bibliotece-w-bojanie/
LOCATION:Biblioteka w Bojanie\, ul. J. Wybickiego 38\, Bojano
ATTACH;FMTTYPE=image/png:https://biblioteka.szemud.pl/wp-content/uploads/2022/07/Warsztaty-sierpien-2022-e1658492667267.png
END:VEVENT
BEGIN:VEVENT
DTSTART;TZID=Europe/Warsaw:20220803T110000
DTEND;TZID=Europe/Warsaw:20220803T123000
DTSTAMP:20260420T203405
CREATED:20220722T123844Z
LAST-MODIFIED:20220722T123844Z
UID:24945-1659524400-1659529800@biblioteka.szemud.pl
SUMMARY:Warsztaty Świeczniki z masy solnej w Bibliotece w Szemudzie
DESCRIPTION:
URL:https://biblioteka.szemud.pl/index.php/event/warsztaty-swieczniki-z-masy-solnej-w-bibliotece-w-szemudzie/
LOCATION:Hala sportowa w Szemudzie\, Szkolna 4a\, Szemud\, pomorskie\, 84-217\, Polska
ATTACH;FMTTYPE=image/png:https://biblioteka.szemud.pl/wp-content/uploads/2022/07/Warsztaty-sierpien-2022-e1658492667267.png
END:VEVENT
BEGIN:VEVENT
DTSTART;TZID=Europe/Warsaw:20220803T130000
DTEND;TZID=Europe/Warsaw:20220803T140000
DTSTAMP:20260420T203405
CREATED:20220722T123943Z
LAST-MODIFIED:20220722T123943Z
UID:24947-1659531600-1659535200@biblioteka.szemud.pl
SUMMARY:Otwarte zajęcia gitarowe w Bibliotece w Szemudzie
DESCRIPTION:
URL:https://biblioteka.szemud.pl/index.php/event/otwarte-zajecia-gitarowe-w-bibliotece-w-szemudzie-5/
ATTACH;FMTTYPE=image/png:https://biblioteka.szemud.pl/wp-content/uploads/2022/07/Warsztaty-sierpien-2022-e1658492667267.png
END:VEVENT
BEGIN:VEVENT
DTSTART;TZID=Europe/Warsaw:20220804T100000
DTEND;TZID=Europe/Warsaw:20220804T103000
DTSTAMP:20260420T203405
CREATED:20220722T120920Z
LAST-MODIFIED:20220722T123300Z
UID:24913-1659607200-1659609000@biblioteka.szemud.pl
SUMMARY:Wakacyjne spotkanie z bajką w Bibliotece w Kielnie
DESCRIPTION:
URL:https://biblioteka.szemud.pl/index.php/event/wakacyjne-spotkanie-z-bajka-w-bibliotece-w-kielnie-5/
LOCATION:Biblioteka w Kielnie\, ul. Oliwska 46\, Kielno
ATTACH;FMTTYPE=image/png:https://biblioteka.szemud.pl/wp-content/uploads/2022/07/Warsztaty-sierpien-2022-e1658492667267.png
END:VEVENT
BEGIN:VEVENT
DTSTART;TZID=Europe/Warsaw:20220808T110000
DTEND;TZID=Europe/Warsaw:20220808T123000
DTSTAMP:20260420T203405
CREATED:20220722T115844Z
LAST-MODIFIED:20220722T123322Z
UID:24906-1659956400-1659961800@biblioteka.szemud.pl
SUMMARY:Warsztaty "Quilling - kwiaty" w Bibliotece w Kielnie
DESCRIPTION:
URL:https://biblioteka.szemud.pl/index.php/event/warsztaty-quilling-kwiaty-w-bibliotece-w-kielnie/
LOCATION:Biblioteka w Kielnie\, ul. Oliwska 46\, Kielno
ATTACH;FMTTYPE=image/png:https://biblioteka.szemud.pl/wp-content/uploads/2022/07/Warsztaty-sierpien-2022-e1658492667267.png
END:VEVENT
BEGIN:VEVENT
DTSTART;TZID=Europe/Warsaw:20220808T130000
DTEND;TZID=Europe/Warsaw:20220808T140000
DTSTAMP:20260420T203405
CREATED:20220722T120546Z
LAST-MODIFIED:20220722T123343Z
UID:24909-1659963600-1659967200@biblioteka.szemud.pl
SUMMARY:Otwarte zajęcia gitarowe w Bibliotece w Kielnie
DESCRIPTION:
URL:https://biblioteka.szemud.pl/index.php/event/otwarte-zajecia-gitarowe-w-bibliotece-w-kielnie-7/
LOCATION:Biblioteka w Kielnie\, ul. Oliwska 46\, Kielno
ATTACH;FMTTYPE=image/png:https://biblioteka.szemud.pl/wp-content/uploads/2022/07/Warsztaty-sierpien-2022-e1658492667267.png
END:VEVENT
BEGIN:VEVENT
DTSTART;TZID=Europe/Warsaw:20220809T110000
DTEND;TZID=Europe/Warsaw:20220809T120000
DTSTAMP:20260420T203405
CREATED:20220722T121434Z
LAST-MODIFIED:20220722T123407Z
UID:24925-1660042800-1660046400@biblioteka.szemud.pl
SUMMARY:Otwarte zajęcia gitarowe w Bibliotece w Bojanie
DESCRIPTION:
URL:https://biblioteka.szemud.pl/index.php/event/otwarte-zajecia-gitarowe-w-bibliotece-w-bojanie-2/
LOCATION:Biblioteka w Bojanie\, ul. J. Wybickiego 38\, Bojano
ATTACH;FMTTYPE=image/png:https://biblioteka.szemud.pl/wp-content/uploads/2022/07/Warsztaty-sierpien-2022-e1658492667267.png
END:VEVENT
BEGIN:VEVENT
DTSTART;TZID=Europe/Warsaw:20220809T123000
DTEND;TZID=Europe/Warsaw:20220809T140000
DTSTAMP:20260420T203405
CREATED:20220722T121544Z
LAST-MODIFIED:20220722T123438Z
UID:24927-1660048200-1660053600@biblioteka.szemud.pl
SUMMARY:Warsztaty “Quilling – kwiaty” w Bibliotece w Bojanie
DESCRIPTION:
URL:https://biblioteka.szemud.pl/index.php/event/warsztaty-quilling-kwiaty-w-bibliotece-w-bojanie/
LOCATION:Biblioteka w Bojanie\, ul. J. Wybickiego 38\, Bojano
ATTACH;FMTTYPE=image/png:https://biblioteka.szemud.pl/wp-content/uploads/2022/07/Warsztaty-sierpien-2022-e1658492667267.png
END:VEVENT
BEGIN:VEVENT
DTSTART;TZID=Europe/Warsaw:20220809T140000
DTEND;TZID=Europe/Warsaw:20220809T150000
DTSTAMP:20260420T203405
CREATED:20220722T121627Z
LAST-MODIFIED:20220722T123459Z
UID:24929-1660053600-1660057200@biblioteka.szemud.pl
SUMMARY:Planszomania w Bibliotece w Bojanie
DESCRIPTION:
URL:https://biblioteka.szemud.pl/index.php/event/planszomania-w-bibliotece-w-bojanie-6/
ATTACH;FMTTYPE=image/png:https://biblioteka.szemud.pl/wp-content/uploads/2022/07/Warsztaty-sierpien-2022-e1658492667267.png
END:VEVENT
BEGIN:VEVENT
DTSTART;TZID=Europe/Warsaw:20220810T110000
DTEND;TZID=Europe/Warsaw:20220810T123000
DTSTAMP:20260420T203405
CREATED:20220722T124033Z
LAST-MODIFIED:20220722T124033Z
UID:24949-1660129200-1660134600@biblioteka.szemud.pl
SUMMARY:Warsztaty “Quilling – kwiaty” w Bibliotece w Szemudzie
DESCRIPTION:
URL:https://biblioteka.szemud.pl/index.php/event/warsztaty-quilling-kwiaty-w-bibliotece-w-szemudzie/
LOCATION:Hala sportowa w Szemudzie\, Szkolna 4a\, Szemud\, pomorskie\, 84-217\, Polska
ATTACH;FMTTYPE=image/png:https://biblioteka.szemud.pl/wp-content/uploads/2022/07/Warsztaty-sierpien-2022-e1658492667267.png
END:VEVENT
BEGIN:VEVENT
DTSTART;TZID=Europe/Warsaw:20220810T130000
DTEND;TZID=Europe/Warsaw:20220810T140000
DTSTAMP:20260420T203405
CREATED:20220722T124132Z
LAST-MODIFIED:20220722T124132Z
UID:24951-1660136400-1660140000@biblioteka.szemud.pl
SUMMARY:Otwarte zajęcia gitarowe w Bibliotece w Szemudzie
DESCRIPTION:
URL:https://biblioteka.szemud.pl/index.php/event/otwarte-zajecia-gitarowe-w-bibliotece-w-szemudzie-6/
LOCATION:Hala sportowa w Szemudzie\, Szkolna 4a\, Szemud\, pomorskie\, 84-217\, Polska
ATTACH;FMTTYPE=image/png:https://biblioteka.szemud.pl/wp-content/uploads/2022/07/Warsztaty-sierpien-2022-e1658492667267.png
END:VEVENT
BEGIN:VEVENT
DTSTART;TZID=Europe/Warsaw:20220811T100000
DTEND;TZID=Europe/Warsaw:20220811T103000
DTSTAMP:20260420T203405
CREATED:20220722T120950Z
LAST-MODIFIED:20220722T123519Z
UID:24915-1660212000-1660213800@biblioteka.szemud.pl
SUMMARY:Wakacyjne spotkanie z bajką w Bibliotece w Kielnie
DESCRIPTION:
URL:https://biblioteka.szemud.pl/index.php/event/wakacyjne-spotkanie-z-bajka-w-bibliotece-w-kielnie-6/
LOCATION:Biblioteka w Kielnie\, ul. Oliwska 46\, Kielno
ATTACH;FMTTYPE=image/png:https://biblioteka.szemud.pl/wp-content/uploads/2022/07/Warsztaty-sierpien-2022-e1658492667267.png
END:VEVENT
BEGIN:VEVENT
DTSTART;TZID=Europe/Warsaw:20220811T110000
DTEND;TZID=Europe/Warsaw:20220811T123000
DTSTAMP:20260420T203405
CREATED:20220722T121718Z
LAST-MODIFIED:20220722T123540Z
UID:24931-1660215600-1660221000@biblioteka.szemud.pl
SUMMARY:Warsztaty “Quilling – kwiaty” w Bibliotece w Łebnie
DESCRIPTION:
URL:https://biblioteka.szemud.pl/index.php/event/warsztaty-quilling-kwiaty-w-bibliotece-w-lebnie/
LOCATION:Biblioteka w Łebnie\, ul. Kartuska 9\, Łebno
ATTACH;FMTTYPE=image/png:https://biblioteka.szemud.pl/wp-content/uploads/2022/07/Warsztaty-sierpien-2022-e1658492667267.png
END:VEVENT
BEGIN:VEVENT
DTSTART;TZID=Europe/Warsaw:20220811T130000
DTEND;TZID=Europe/Warsaw:20220811T140000
DTSTAMP:20260420T203405
CREATED:20220722T122453Z
LAST-MODIFIED:20220722T122453Z
UID:24933-1660222800-1660226400@biblioteka.szemud.pl
SUMMARY:Otwarte zajęcia gitarowe w Bibliotece w Łebnie
DESCRIPTION:
URL:https://biblioteka.szemud.pl/index.php/event/otwarte-zajecia-gitarowe-w-bibliotece-w-lebnie-4/
LOCATION:Biblioteka w Łebnie\, ul. Kartuska 9\, Łebno
ATTACH;FMTTYPE=image/png:https://biblioteka.szemud.pl/wp-content/uploads/2022/07/Warsztaty-sierpien-2022-e1658492667267.png
END:VEVENT
BEGIN:VEVENT
DTSTART;TZID=Europe/Warsaw:20220811T140000
DTEND;TZID=Europe/Warsaw:20220811T160000
DTSTAMP:20260420T203405
CREATED:20220722T120757Z
LAST-MODIFIED:20220815T085326Z
UID:24911-1660226400-1660233600@biblioteka.szemud.pl
SUMMARY:Kreatywnie i wesoło w bibliotece w Kielnie
DESCRIPTION:
URL:https://biblioteka.szemud.pl/index.php/event/kreatywnie-i-wesolo-w-bibliotece-w-bibliotece-w-kielnie/
LOCATION:Biblioteka w Kielnie\, ul. Oliwska 46\, Kielno
ATTACH;FMTTYPE=image/png:https://biblioteka.szemud.pl/wp-content/uploads/2022/07/Warsztaty-sierpien-2022-e1658492667267.png
END:VEVENT
BEGIN:VEVENT
DTSTART;TZID=Europe/Warsaw:20220812T090000
DTEND;TZID=Europe/Warsaw:20220812T110000
DTSTAMP:20260420T203405
CREATED:20220520T080021Z
LAST-MODIFIED:20220520T080021Z
UID:23114-1660294800-1660302000@biblioteka.szemud.pl
SUMMARY:Warsztaty ceramiczne "Kwiaty" - szkliwienie dla członków Stowarzyszenia Lesok
DESCRIPTION:
URL:https://biblioteka.szemud.pl/index.php/event/warsztaty-ceramiczne-kwiaty-szkliwienie-dla-czlonkow-stowarzyszenia-lesok/
LOCATION:Centrum Muzyczne w Kielnie\, ul. Oliwska 85\, Kielno\, pomorskie\, 84-208\, Poland
ATTACH;FMTTYPE=image/png:https://biblioteka.szemud.pl/wp-content/uploads/2022/05/warsztaty-dla-senorow-e1653033430828.png
END:VEVENT
BEGIN:VEVENT
DTSTART;TZID=Europe/Warsaw:20220812T120000
DTEND;TZID=Europe/Warsaw:20220812T140000
DTSTAMP:20260420T203405
CREATED:20220520T080242Z
LAST-MODIFIED:20220520T080242Z
UID:23116-1660305600-1660312800@biblioteka.szemud.pl
SUMMARY:Warsztaty ceramiczne "Kwiaty" - szkliwienie dla członków Stowarzyszenia Lesok
DESCRIPTION:
URL:https://biblioteka.szemud.pl/index.php/event/warsztaty-ceramiczne-kwiaty-szkliwienie-dla-czlonkow-stowarzyszenia-lesok-2/
LOCATION:Centrum Muzyczne w Kielnie\, ul. Oliwska 85\, Kielno\, pomorskie\, 84-208\, Poland
ATTACH;FMTTYPE=image/png:https://biblioteka.szemud.pl/wp-content/uploads/2022/05/warsztaty-dla-senorow-e1653033430828.png
END:VEVENT
BEGIN:VEVENT
DTSTART;TZID=Europe/Warsaw:20220818T100000
DTEND;TZID=Europe/Warsaw:20220818T103000
DTSTAMP:20260420T203405
CREATED:20220722T121042Z
LAST-MODIFIED:20220722T123630Z
UID:24917-1660816800-1660818600@biblioteka.szemud.pl
SUMMARY:Wakacyjne spotkanie z bajką w Bibliotece w Kielnie
DESCRIPTION:
URL:https://biblioteka.szemud.pl/index.php/event/wakacyjne-spotkanie-z-bajka-w-bibliotece-w-kielnie-7/
LOCATION:Biblioteka w Kielnie\, ul. Oliwska 46\, Kielno
ATTACH;FMTTYPE=image/png:https://biblioteka.szemud.pl/wp-content/uploads/2022/07/Warsztaty-sierpien-2022-e1658492667267.png
END:VEVENT
BEGIN:VEVENT
DTSTART;TZID=Europe/Warsaw:20220818T110000
DTEND;TZID=Europe/Warsaw:20220818T123000
DTSTAMP:20260420T203405
CREATED:20220722T122549Z
LAST-MODIFIED:20220722T122611Z
UID:24938-1660820400-1660825800@biblioteka.szemud.pl
SUMMARY:Warsztaty Świeczniki z masy solnej w Bibliotece w Łebnie
DESCRIPTION:
URL:https://biblioteka.szemud.pl/index.php/event/warsztaty-swieczniki-z-masy-solnej-w-bibliotece-w-kielnie-2/
LOCATION:Biblioteka w Łebnie\, ul. Kartuska 9\, Łebno
ATTACH;FMTTYPE=image/png:https://biblioteka.szemud.pl/wp-content/uploads/2022/07/Warsztaty-sierpien-2022-e1658492667267.png
END:VEVENT
BEGIN:VEVENT
DTSTART;TZID=Europe/Warsaw:20220818T130000
DTEND;TZID=Europe/Warsaw:20220818T140000
DTSTAMP:20260420T203405
CREATED:20220722T122700Z
LAST-MODIFIED:20220722T122700Z
UID:24941-1660827600-1660831200@biblioteka.szemud.pl
SUMMARY:Otwarte zajęcia gitarowe w Bibliotece w Łebnie
DESCRIPTION:
URL:https://biblioteka.szemud.pl/index.php/event/otwarte-zajecia-gitarowe-w-bibliotece-w-lebnie-5/
LOCATION:Biblioteka w Łebnie\, ul. Kartuska 9\, Łebno
ATTACH;FMTTYPE=image/png:https://biblioteka.szemud.pl/wp-content/uploads/2022/07/Warsztaty-sierpien-2022-e1658492667267.png
END:VEVENT
BEGIN:VEVENT
DTSTART;TZID=Europe/Warsaw:20220821T120000
DTEND;TZID=Europe/Warsaw:20220821T140000
DTSTAMP:20260420T203405
CREATED:20220811T113939Z
LAST-MODIFIED:20220811T113939Z
UID:25662-1661083200-1661090400@biblioteka.szemud.pl
SUMMARY:Sesja RPG dla młodzieży w Bibliotece w Bojanie
DESCRIPTION:
URL:https://biblioteka.szemud.pl/index.php/event/sesja-rpg-dla-mlodziezy-w-bibliotece-w-bojanie/
LOCATION:Biblioteka w Bojanie\, ul. J. Wybickiego 38\, Bojano
ATTACH;FMTTYPE=image/png:https://biblioteka.szemud.pl/wp-content/uploads/2022/08/RPG-PLAKAT-1-e1660217967540.png
END:VEVENT
BEGIN:VEVENT
DTSTART;TZID=Europe/Warsaw:20220823T160000
DTEND;TZID=Europe/Warsaw:20220823T180000
DTSTAMP:20260420T203405
CREATED:20220811T114529Z
LAST-MODIFIED:20220811T114529Z
UID:25667-1661270400-1661277600@biblioteka.szemud.pl
SUMMARY:Improwarsztaty w Bibliotece w Bojanie
DESCRIPTION:
URL:https://biblioteka.szemud.pl/index.php/event/improwarsztaty-w-bibliotece-w-bojanie/
LOCATION:Biblioteka w Bojanie\, ul. J. Wybickiego 38\, Bojano
ATTACH;FMTTYPE=image/png:https://biblioteka.szemud.pl/wp-content/uploads/2022/08/impro-23.08.png
END:VEVENT
BEGIN:VEVENT
DTSTART;TZID=Europe/Warsaw:20220825T100000
DTEND;TZID=Europe/Warsaw:20220825T103000
DTSTAMP:20260420T203405
CREATED:20220722T121131Z
LAST-MODIFIED:20220722T123753Z
UID:24919-1661421600-1661423400@biblioteka.szemud.pl
SUMMARY:Wakacyjne spotkanie z bajką w Bibliotece w Kielnie
DESCRIPTION:
URL:https://biblioteka.szemud.pl/index.php/event/wakacyjne-spotkanie-z-bajka-w-bibliotece-w-kielnie-8/
LOCATION:Biblioteka w Kielnie\, ul. Oliwska 46\, Kielno
ATTACH;FMTTYPE=image/png:https://biblioteka.szemud.pl/wp-content/uploads/2022/07/Warsztaty-sierpien-2022-e1658492667267.png
END:VEVENT
BEGIN:VEVENT
DTSTART;TZID=Europe/Warsaw:20220904T150000
DTEND;TZID=Europe/Warsaw:20220904T180000
DTSTAMP:20260420T203405
CREATED:20220808T081229Z
LAST-MODIFIED:20220808T081229Z
UID:25545-1662303600-1662314400@biblioteka.szemud.pl
SUMMARY:Narodowe Czytanie 2022 “Ballady i romanse”
DESCRIPTION:
URL:https://biblioteka.szemud.pl/index.php/event/narodowe-czytanie-2022-ballady-i-romanse/
LOCATION:Boisko gminne\, Sportowa\, Szemud\, 84-217\, Polska
ATTACH;FMTTYPE=image/png:https://biblioteka.szemud.pl/wp-content/uploads/2022/08/Narodowe-Czytanie-2022-e1659946306929.png
END:VEVENT
BEGIN:VEVENT
DTSTART;TZID=Europe/Warsaw:20220915T160000
DTEND;TZID=Europe/Warsaw:20220915T180000
DTSTAMP:20260420T203405
CREATED:20220901T132510Z
LAST-MODIFIED:20220901T132744Z
UID:25942-1663257600-1663264800@biblioteka.szemud.pl
SUMMARY:Spotkanie "Kiedy zioła nie działają - wstęp do ziołolecznictwa" w bibliotece w Bojanie
DESCRIPTION:
URL:https://biblioteka.szemud.pl/index.php/event/spotkanie-kiedy-ziola-nie-dzialaja-wstep-do-ziololecznictwa-w-bibliotece-w-bojanie/
ATTACH;FMTTYPE=image/jpeg:https://biblioteka.szemud.pl/wp-content/uploads/2022/09/Ziola-2022_proc-e1662038696391.jpg
END:VEVENT
BEGIN:VEVENT
DTSTART;TZID=Europe/Warsaw:20220922T160000
DTEND;TZID=Europe/Warsaw:20220922T180000
DTSTAMP:20260420T203405
CREATED:20220901T132918Z
LAST-MODIFIED:20220901T133047Z
UID:25945-1663862400-1663869600@biblioteka.szemud.pl
SUMMARY:Spotkanie "Kiedy zioła nie działają - wstęp do ziołolecznictwa" w bibliotece w Kielnie
DESCRIPTION:
URL:https://biblioteka.szemud.pl/index.php/event/spotkanie-kiedy-ziola-nie-dzialaja-wstep-do-ziololecznictwa-w-bibliotece-w-kielnie/
ATTACH;FMTTYPE=image/jpeg:https://biblioteka.szemud.pl/wp-content/uploads/2022/09/Ziola-2022_proc-e1662038696391.jpg
END:VEVENT
BEGIN:VEVENT
DTSTART;TZID=Europe/Warsaw:20220927T160000
DTEND;TZID=Europe/Warsaw:20220927T180000
DTSTAMP:20260420T203405
CREATED:20220912T131423Z
LAST-MODIFIED:20220912T131423Z
UID:26156-1664294400-1664301600@biblioteka.szemud.pl
SUMMARY:Warsztaty impro w Bibliotece w Bojanie
DESCRIPTION:
URL:https://biblioteka.szemud.pl/index.php/event/warsztaty-impro-w-bibliotece-w-bojanie/
LOCATION:Biblioteka w Bojanie\, ul. J. Wybickiego 38\, Bojano
ATTACH;FMTTYPE=image/png:https://biblioteka.szemud.pl/wp-content/uploads/2022/09/Biblioteka-Publiczna-w-Bojanie-zaprasza-1.png
END:VEVENT
END:VCALENDAR