BEGIN:VCALENDAR
VERSION:2.0
PRODID:-//Biblioteka Publiczna Gminy Szemud - ECPv6.15.20//NONSGML v1.0//EN
CALSCALE:GREGORIAN
METHOD:PUBLISH
X-ORIGINAL-URL:https://biblioteka.szemud.pl
X-WR-CALDESC:Wydarzenia dla Biblioteka Publiczna Gminy Szemud
REFRESH-INTERVAL;VALUE=DURATION:PT1H
X-Robots-Tag:noindex
X-PUBLISHED-TTL:PT1H
BEGIN:VTIMEZONE
TZID:Europe/Warsaw
BEGIN:DAYLIGHT
TZOFFSETFROM:+0100
TZOFFSETTO:+0200
TZNAME:CEST
DTSTART:20210328T010000
END:DAYLIGHT
BEGIN:STANDARD
TZOFFSETFROM:+0200
TZOFFSETTO:+0100
TZNAME:CET
DTSTART:20211031T010000
END:STANDARD
BEGIN:DAYLIGHT
TZOFFSETFROM:+0100
TZOFFSETTO:+0200
TZNAME:CEST
DTSTART:20220327T010000
END:DAYLIGHT
BEGIN:STANDARD
TZOFFSETFROM:+0200
TZOFFSETTO:+0100
TZNAME:CET
DTSTART:20221030T010000
END:STANDARD
BEGIN:DAYLIGHT
TZOFFSETFROM:+0100
TZOFFSETTO:+0200
TZNAME:CEST
DTSTART:20230326T010000
END:DAYLIGHT
BEGIN:STANDARD
TZOFFSETFROM:+0200
TZOFFSETTO:+0100
TZNAME:CET
DTSTART:20231029T010000
END:STANDARD
END:VTIMEZONE
BEGIN:VEVENT
DTSTART;TZID=Europe/Warsaw:20220216T100000
DTEND;TZID=Europe/Warsaw:20220216T120000
DTSTAMP:20260421T111653
CREATED:20220126T095805Z
LAST-MODIFIED:20220126T095805Z
UID:19297-1645005600-1645012800@biblioteka.szemud.pl
SUMMARY:Warsztaty z Lego Mindstorms w Bibliotece w Bojanie
DESCRIPTION:
URL:https://biblioteka.szemud.pl/index.php/event/warsztaty-z-lego-mindstorms-w-bibliotece-w-bojanie-2/
LOCATION:Biblioteka w Bojanie\, ul. J. Wybickiego 38\, Bojano
ATTACH;FMTTYPE=image/png:https://biblioteka.szemud.pl/wp-content/uploads/2022/01/obowiazuja-zapisy-e1643190990420.png
END:VEVENT
BEGIN:VEVENT
DTSTART;TZID=Europe/Warsaw:20220217T100000
DTEND;TZID=Europe/Warsaw:20220217T120000
DTSTAMP:20260421T111653
CREATED:20220126T094054Z
LAST-MODIFIED:20220203T135033Z
UID:19268-1645092000-1645099200@biblioteka.szemud.pl
SUMMARY:Warsztaty "Szkicujemy zwierzęta" w Bibliotece w Łebnie
DESCRIPTION:
URL:https://biblioteka.szemud.pl/index.php/event/warsztaty-szkicujemy-zwierzeta-w-bibliotece-w-lebnie/
LOCATION:Biblioteka w Łebnie\, ul. Kartuska 9\, Łebno
ATTACH;FMTTYPE=image/png:https://biblioteka.szemud.pl/wp-content/uploads/2022/02/Biblioteka-Publiczna-w-Lebnie-popr.-e1643896102794.png
END:VEVENT
BEGIN:VEVENT
DTSTART;TZID=Europe/Warsaw:20220217T100000
DTEND;TZID=Europe/Warsaw:20220217T120000
DTSTAMP:20260421T111653
CREATED:20220126T095157Z
LAST-MODIFIED:20220126T095157Z
UID:19286-1645092000-1645099200@biblioteka.szemud.pl
SUMMARY:Warsztaty z Lego Mindstorms w Bibliotece w Szemudzie
DESCRIPTION:
URL:https://biblioteka.szemud.pl/index.php/event/warsztaty-z-lego-mindstorms-w-bibliotece-w-szemudzie-5/
LOCATION:Hala sportowa w Szemudzie\, Szkolna 4a\, Szemud\, pomorskie\, 84-217\, Polska
ATTACH;FMTTYPE=image/png:https://biblioteka.szemud.pl/wp-content/uploads/2022/01/Biblioteka-w-Szemudzie-zaprasza-na-ferie-zimowe-e1643190628810.png
END:VEVENT
BEGIN:VEVENT
DTSTART;TZID=Europe/Warsaw:20220218T100000
DTEND;TZID=Europe/Warsaw:20220218T120000
DTSTAMP:20260421T111653
CREATED:20220126T094235Z
LAST-MODIFIED:20220203T135249Z
UID:19270-1645178400-1645185600@biblioteka.szemud.pl
SUMMARY:Zabawy z robotem Photon w Bibliotece w Łebnie
DESCRIPTION:
URL:https://biblioteka.szemud.pl/index.php/event/zabawy-z-robotem-photon-w-bibliotece-w-lebnie/
LOCATION:Biblioteka w Łebnie\, ul. Kartuska 9\, Łebno
ATTACH;FMTTYPE=image/png:https://biblioteka.szemud.pl/wp-content/uploads/2022/02/Biblioteka-Publiczna-w-Lebnie-popr.-e1643896102794.png
END:VEVENT
BEGIN:VEVENT
DTSTART;TZID=Europe/Warsaw:20220221T100000
DTEND;TZID=Europe/Warsaw:20220221T120000
DTSTAMP:20260421T111653
CREATED:20220126T094334Z
LAST-MODIFIED:20220203T135301Z
UID:19272-1645437600-1645444800@biblioteka.szemud.pl
SUMMARY:Warsztaty “Laleczka makramowa” w Bibliotece w Łebnie
DESCRIPTION:
URL:https://biblioteka.szemud.pl/index.php/event/warsztaty-laleczka-makramowe-w-bibliotece-w-lebnie/
LOCATION:Biblioteka w Łebnie\, ul. Kartuska 9\, Łebno
ATTACH;FMTTYPE=image/png:https://biblioteka.szemud.pl/wp-content/uploads/2022/02/Biblioteka-Publiczna-w-Lebnie-popr.-e1643896102794.png
END:VEVENT
BEGIN:VEVENT
DTSTART;TZID=Europe/Warsaw:20220221T100000
DTEND;TZID=Europe/Warsaw:20220221T120000
DTSTAMP:20260421T111653
CREATED:20220126T095252Z
LAST-MODIFIED:20220126T095252Z
UID:19288-1645437600-1645444800@biblioteka.szemud.pl
SUMMARY:Planszomania w Bibliotece w Szemudzie
DESCRIPTION:
URL:https://biblioteka.szemud.pl/index.php/event/planszomania-w-bibliotece-w-szemudzie-6/
LOCATION:Hala sportowa w Szemudzie\, Szkolna 4a\, Szemud\, pomorskie\, 84-217\, Polska
ATTACH;FMTTYPE=image/png:https://biblioteka.szemud.pl/wp-content/uploads/2022/01/Biblioteka-w-Szemudzie-zaprasza-na-ferie-zimowe-e1643190628810.png
END:VEVENT
BEGIN:VEVENT
DTSTART;TZID=Europe/Warsaw:20220221T110000
DTEND;TZID=Europe/Warsaw:20220221T123000
DTSTAMP:20260421T111653
CREATED:20220126T095901Z
LAST-MODIFIED:20220126T095901Z
UID:19299-1645441200-1645446600@biblioteka.szemud.pl
SUMMARY:Warsztaty "Rosnące farby" w Bibliotece w Bojanie
DESCRIPTION:
URL:https://biblioteka.szemud.pl/index.php/event/warsztaty-rosnace-farby-w-bibliotece-w-bojanie/
LOCATION:Biblioteka w Bojanie\, ul. J. Wybickiego 38\, Bojano
ATTACH;FMTTYPE=image/png:https://biblioteka.szemud.pl/wp-content/uploads/2022/01/obowiazuja-zapisy-e1643190990420.png
END:VEVENT
BEGIN:VEVENT
DTSTART;TZID=Europe/Warsaw:20220222T100000
DTEND;TZID=Europe/Warsaw:20220222T120000
DTSTAMP:20260421T111653
CREATED:20220126T094450Z
LAST-MODIFIED:20220203T134920Z
UID:19275-1645524000-1645531200@biblioteka.szemud.pl
SUMMARY:Warsztaty z Lego Mindstorms w Bibliotece w Łebnie
DESCRIPTION:
URL:https://biblioteka.szemud.pl/index.php/event/warsztaty-z-lego-mindstorms-w-bibliotece-w-lebnie-4/
LOCATION:Biblioteka w Łebnie\, ul. Kartuska 9\, Łebno
ATTACH;FMTTYPE=image/png:https://biblioteka.szemud.pl/wp-content/uploads/2022/02/Biblioteka-Publiczna-w-Lebnie-popr.-e1643896102794.png
END:VEVENT
BEGIN:VEVENT
DTSTART;TZID=Europe/Warsaw:20220222T110000
DTEND;TZID=Europe/Warsaw:20220222T130000
DTSTAMP:20260421T111653
CREATED:20220126T102627Z
LAST-MODIFIED:20220126T102627Z
UID:19312-1645527600-1645534800@biblioteka.szemud.pl
SUMMARY:Warsztaty "Makramowe aniołki w kole" w Bibliotece w Kielnie
DESCRIPTION:
URL:https://biblioteka.szemud.pl/index.php/event/warsztaty-makramowe-aniolki-w-kole-w-bibliotece-w-kielnie/
LOCATION:Biblioteka w Kielnie\, ul. Oliwska 46\, Kielno
ATTACH;FMTTYPE=image/png:https://biblioteka.szemud.pl/wp-content/uploads/2022/01/Biblioteka-Publiczna-w-Kielnie-z-Zaprasza-na-ferie-zimowe-e1643192586509.png
END:VEVENT
BEGIN:VEVENT
DTSTART;TZID=Europe/Warsaw:20220223T110000
DTEND;TZID=Europe/Warsaw:20220223T130000
DTSTAMP:20260421T111653
CREATED:20220126T102731Z
LAST-MODIFIED:20220126T102731Z
UID:19314-1645614000-1645621200@biblioteka.szemud.pl
SUMMARY:Warsztaty z robotyki w Bibliotece w Kielnie
DESCRIPTION:
URL:https://biblioteka.szemud.pl/index.php/event/warsztaty-z-robotyki-w-bibliotece-w-kielnie/
LOCATION:Biblioteka w Kielnie\, ul. Oliwska 46\, Kielno
ATTACH;FMTTYPE=image/png:https://biblioteka.szemud.pl/wp-content/uploads/2022/01/Biblioteka-Publiczna-w-Kielnie-z-Zaprasza-na-ferie-zimowe-e1643192586509.png
END:VEVENT
BEGIN:VEVENT
DTSTART;TZID=Europe/Warsaw:20220224T100000
DTEND;TZID=Europe/Warsaw:20220224T120000
DTSTAMP:20260421T111653
CREATED:20220126T094543Z
LAST-MODIFIED:20220203T134856Z
UID:19277-1645696800-1645704000@biblioteka.szemud.pl
SUMMARY:Warsztaty z origami w Bibliotece w Łebnie
DESCRIPTION:
URL:https://biblioteka.szemud.pl/index.php/event/warsztaty-z-origami-w-bibliotece-w-lebnie/
LOCATION:Biblioteka w Łebnie\, ul. Kartuska 9\, Łebno
ATTACH;FMTTYPE=image/png:https://biblioteka.szemud.pl/wp-content/uploads/2022/02/Biblioteka-Publiczna-w-Lebnie-popr.-e1643896102794.png
END:VEVENT
BEGIN:VEVENT
DTSTART;TZID=Europe/Warsaw:20220224T100000
DTEND;TZID=Europe/Warsaw:20220224T120000
DTSTAMP:20260421T111653
CREATED:20220126T095350Z
LAST-MODIFIED:20220126T095350Z
UID:19290-1645696800-1645704000@biblioteka.szemud.pl
SUMMARY:Warsztaty z teatrem Kamishibai w Bibliotece w Szemudzie
DESCRIPTION:
URL:https://biblioteka.szemud.pl/index.php/event/warsztaty-z-teatrem-kamishibai-w-bibliotece-w-szemudzie/
LOCATION:Hala sportowa w Szemudzie\, Szkolna 4a\, Szemud\, pomorskie\, 84-217\, Polska
ATTACH;FMTTYPE=image/png:https://biblioteka.szemud.pl/wp-content/uploads/2022/01/Biblioteka-w-Szemudzie-zaprasza-na-ferie-zimowe-e1643190628810.png
END:VEVENT
BEGIN:VEVENT
DTSTART;TZID=Europe/Warsaw:20220224T110000
DTEND;TZID=Europe/Warsaw:20220224T123000
DTSTAMP:20260421T111653
CREATED:20220126T100040Z
LAST-MODIFIED:20220126T100040Z
UID:19301-1645700400-1645705800@biblioteka.szemud.pl
SUMMARY:Planszomania w Bibliotece w Bojanie
DESCRIPTION:
URL:https://biblioteka.szemud.pl/index.php/event/planszomania-w-bibliotece-w-bojanie-5/
LOCATION:Biblioteka w Bojanie\, ul. J. Wybickiego 38\, Bojano
ATTACH;FMTTYPE=image/png:https://biblioteka.szemud.pl/wp-content/uploads/2022/01/obowiazuja-zapisy-e1643190990420.png
END:VEVENT
BEGIN:VEVENT
DTSTART;TZID=Europe/Warsaw:20220225T100000
DTEND;TZID=Europe/Warsaw:20220225T120000
DTSTAMP:20260421T111653
CREATED:20220126T094726Z
LAST-MODIFIED:20220203T134834Z
UID:19279-1645783200-1645790400@biblioteka.szemud.pl
SUMMARY:“Zajęcia kulinarne - gofry” w Bibliotece w Łebnie
DESCRIPTION:
URL:https://biblioteka.szemud.pl/index.php/event/zajecia-kulinarne-gofry-w-bibliotece-w-lebnie/
LOCATION:Biblioteka w Łebnie\, ul. Kartuska 9\, Łebno
ATTACH;FMTTYPE=image/png:https://biblioteka.szemud.pl/wp-content/uploads/2022/02/Biblioteka-Publiczna-w-Lebnie-popr.-e1643896102794.png
END:VEVENT
BEGIN:VEVENT
DTSTART;TZID=Europe/Warsaw:20220301T110000
DTEND;TZID=Europe/Warsaw:20220301T130000
DTSTAMP:20260421T111653
CREATED:20220217T064641Z
LAST-MODIFIED:20220217T064641Z
UID:20063-1646132400-1646139600@biblioteka.szemud.pl
SUMMARY:"Koncert chińskiej pieśni artystycznej" w Bibliotece w Kielnie
DESCRIPTION:
URL:https://biblioteka.szemud.pl/index.php/event/koncert-chinskiej-piesni-artystycznej-w-bibliotece-w-kielnie/
LOCATION:Biblioteka w Kielnie\, ul. Oliwska 46\, Kielno
ATTACH;FMTTYPE=image/jpeg:https://biblioteka.szemud.pl/wp-content/uploads/2022/02/koncert-Kielno-01.03.2022-page-001-scaled-e1645080372628.jpg
END:VEVENT
BEGIN:VEVENT
DTSTART;TZID=Europe/Warsaw:20220307T160000
DTEND;TZID=Europe/Warsaw:20220307T180000
DTSTAMP:20260421T111653
CREATED:20220225T080610Z
LAST-MODIFIED:20220225T080630Z
UID:20496-1646668800-1646676000@biblioteka.szemud.pl
SUMMARY:Warsztaty makijażu z okazji Dnia Kobiet w Bibliotece w Łebnie
DESCRIPTION:
URL:https://biblioteka.szemud.pl/index.php/event/warsztaty-makijazu-z-okazji-dnia-kobiet-w-bibliotece-w-lebnie/
LOCATION:Biblioteka w Łebnie\, ul. Kartuska 9\, Łebno
ATTACH;FMTTYPE=image/png:https://biblioteka.szemud.pl/wp-content/uploads/2022/02/Dzien-Kobiet-2022-e1645779103272.png
END:VEVENT
BEGIN:VEVENT
DTSTART;TZID=Europe/Warsaw:20220308T110000
DTEND;TZID=Europe/Warsaw:20220308T130000
DTSTAMP:20260421T111653
CREATED:20220225T085209Z
LAST-MODIFIED:20220225T085209Z
UID:20509-1646737200-1646744400@biblioteka.szemud.pl
SUMMARY:“Koncert chińskiej pieśni współczesnej” w Bibliotece w Łebnie
DESCRIPTION:
URL:https://biblioteka.szemud.pl/index.php/event/koncert-chinskiej-piesni-wspolczesnej-w-bibliotece-w-lebnie/
LOCATION:Biblioteka w Łebnie\, ul. Kartuska 9\, Łebno
ATTACH;FMTTYPE=image/jpeg:https://biblioteka.szemud.pl/wp-content/uploads/2022/02/koncert-Lebno-08.03.2022-page-001-e1645779087804.jpg
END:VEVENT
BEGIN:VEVENT
DTSTART;TZID=Europe/Warsaw:20220308T160000
DTEND;TZID=Europe/Warsaw:20220308T180000
DTSTAMP:20260421T111653
CREATED:20220225T081013Z
LAST-MODIFIED:20220225T081013Z
UID:20499-1646755200-1646762400@biblioteka.szemud.pl
SUMMARY:Warsztaty makijażu z okazji Dnia Kobiet w Bibliotece w Kielnie
DESCRIPTION:
URL:https://biblioteka.szemud.pl/index.php/event/warsztaty-makijazu-z-okazji-dnia-kobiet-w-bibliotece-w-kielnie/
LOCATION:Biblioteka w Kielnie\, ul. Oliwska 46\, Kielno
ATTACH;FMTTYPE=image/png:https://biblioteka.szemud.pl/wp-content/uploads/2022/02/Dzien-Kobiet-2022-e1645779103272.png
END:VEVENT
BEGIN:VEVENT
DTSTART;TZID=Europe/Warsaw:20220310T160000
DTEND;TZID=Europe/Warsaw:20220310T180000
DTSTAMP:20260421T111653
CREATED:20220225T081131Z
LAST-MODIFIED:20220225T081131Z
UID:20501-1646928000-1646935200@biblioteka.szemud.pl
SUMMARY:Warsztaty makijażu z okazji Dnia Kobiet w Bibliotece w Bojanie
DESCRIPTION:
URL:https://biblioteka.szemud.pl/index.php/event/warsztaty-makijazu-z-okazji-dnia-kobiet-w-bibliotece-w-bojanie/
LOCATION:Biblioteka w Bojanie\, ul. J. Wybickiego 38\, Bojano
ATTACH;FMTTYPE=image/png:https://biblioteka.szemud.pl/wp-content/uploads/2022/02/Dzien-Kobiet-2022-e1645779103272.png
END:VEVENT
BEGIN:VEVENT
DTSTART;TZID=Europe/Warsaw:20220314T090000
DTEND;TZID=Europe/Warsaw:20220314T120000
DTSTAMP:20260421T111653
CREATED:20220304T073414Z
LAST-MODIFIED:20220304T073414Z
UID:20769-1647248400-1647259200@biblioteka.szemud.pl
SUMMARY:Warsztaty czytelnicze w Bibliotece w Łebnie
DESCRIPTION:
URL:https://biblioteka.szemud.pl/index.php/event/warsztaty-czytelnicze-w-bibliotece-w-lebnie-8/
LOCATION:Biblioteka w Łebnie\, ul. Kartuska 9\, Łebno
ATTACH;FMTTYPE=image/png:https://biblioteka.szemud.pl/wp-content/uploads/2022/03/warsztaty-czytelnicze--e1646379196920.png
END:VEVENT
BEGIN:VEVENT
DTSTART;TZID=Europe/Warsaw:20220314T160000
DTEND;TZID=Europe/Warsaw:20220314T180000
DTSTAMP:20260421T111653
CREATED:20220225T081351Z
LAST-MODIFIED:20220225T081351Z
UID:20503-1647273600-1647280800@biblioteka.szemud.pl
SUMMARY:Warsztaty makijażu z okazji Dnia Kobiet w Bibliotece w Szemudzie
DESCRIPTION:
URL:https://biblioteka.szemud.pl/index.php/event/warsztaty-makijazu-z-okazji-dnia-kobiet-w-bibliotece-w-szemudzie/
LOCATION:Hala sportowa w Szemudzie\, Szkolna 4a\, Szemud\, pomorskie\, 84-217\, Polska
ATTACH;FMTTYPE=image/png:https://biblioteka.szemud.pl/wp-content/uploads/2022/02/Dzien-Kobiet-2022-e1645779103272.png
END:VEVENT
BEGIN:VEVENT
DTSTART;TZID=Europe/Warsaw:20220315T090000
DTEND;TZID=Europe/Warsaw:20220315T120000
DTSTAMP:20260421T111653
CREATED:20220304T073501Z
LAST-MODIFIED:20220304T073744Z
UID:20771-1647334800-1647345600@biblioteka.szemud.pl
SUMMARY:Warsztaty czytelnicze w Bibliotece w Kielnie
DESCRIPTION:
URL:https://biblioteka.szemud.pl/index.php/event/warsztaty-czytelnicze-w-bibliotece-w-kielnie-8/
LOCATION:Biblioteka w Kielnie\, ul. Oliwska 46\, Kielno
ATTACH;FMTTYPE=image/png:https://biblioteka.szemud.pl/wp-content/uploads/2022/03/warsztaty-czytelnicze--e1646379196920.png
END:VEVENT
BEGIN:VEVENT
DTSTART;TZID=Europe/Warsaw:20220315T110000
DTEND;TZID=Europe/Warsaw:20220315T130000
DTSTAMP:20260421T111653
CREATED:20220307T080012Z
LAST-MODIFIED:20220307T080012Z
UID:20783-1647342000-1647349200@biblioteka.szemud.pl
SUMMARY:“Koncert muzyki polskiej” w Bibliotece w Kielnie
DESCRIPTION:
URL:https://biblioteka.szemud.pl/index.php/event/koncert-muzyki-polskiej-w-bibliotece-w-kielnie/
LOCATION:Biblioteka w Kielnie\, ul. Oliwska 46\, Kielno
ATTACH;FMTTYPE=image/jpeg:https://biblioteka.szemud.pl/wp-content/uploads/2022/03/Koncerty-15-i-22.03.-page-001-e1646639745543.jpg
END:VEVENT
BEGIN:VEVENT
DTSTART;TZID=Europe/Warsaw:20220316T090000
DTEND;TZID=Europe/Warsaw:20220316T120000
DTSTAMP:20260421T111653
CREATED:20220304T073559Z
LAST-MODIFIED:20220304T073803Z
UID:20773-1647421200-1647432000@biblioteka.szemud.pl
SUMMARY:Warsztaty czytelnicze w Bibliotece w Bojanie
DESCRIPTION:
URL:https://biblioteka.szemud.pl/index.php/event/warsztaty-czytelnicze-w-bibliotece-w-bojanie-7/
LOCATION:Biblioteka w Bojanie\, ul. J. Wybickiego 38\, Bojano
ATTACH;FMTTYPE=image/png:https://biblioteka.szemud.pl/wp-content/uploads/2022/03/warsztaty-czytelnicze--e1646379196920.png
END:VEVENT
BEGIN:VEVENT
DTSTART;TZID=Europe/Warsaw:20220317T090000
DTEND;TZID=Europe/Warsaw:20220317T120000
DTSTAMP:20260421T111653
CREATED:20220304T073900Z
LAST-MODIFIED:20220304T073900Z
UID:20775-1647507600-1647518400@biblioteka.szemud.pl
SUMMARY:Warsztaty czytelnicze w Bibliotece w Szemudzie
DESCRIPTION:
URL:https://biblioteka.szemud.pl/index.php/event/warsztaty-czytelnicze-w-bibliotece-w-szemudzie-7/
LOCATION:Biblioteka w Szemudzie\, Samorządowa 1\, Szemud
ATTACH;FMTTYPE=image/png:https://biblioteka.szemud.pl/wp-content/uploads/2022/03/warsztaty-czytelnicze--e1646379196920.png
END:VEVENT
BEGIN:VEVENT
DTSTART;TZID=Europe/Warsaw:20220321T130000
DTEND;TZID=Europe/Warsaw:20220321T150000
DTSTAMP:20260421T111653
CREATED:20220317T075531Z
LAST-MODIFIED:20220317T075531Z
UID:21168-1647867600-1647874800@biblioteka.szemud.pl
SUMMARY:Warsztaty z Lego Mindstorms w Bibliotece w Łebnie
DESCRIPTION:
URL:https://biblioteka.szemud.pl/index.php/event/warsztaty-z-lego-mindstorms-w-bibliotece-w-lebnie-5/
LOCATION:Biblioteka w Łebnie\, ul. Kartuska 9\, Łebno
ATTACH;FMTTYPE=image/png:https://biblioteka.szemud.pl/wp-content/uploads/2022/03/Lego-20213-e1647503704441.png
END:VEVENT
BEGIN:VEVENT
DTSTART;TZID=Europe/Warsaw:20220321T133000
DTEND;TZID=Europe/Warsaw:20220321T153000
DTSTAMP:20260421T111653
CREATED:20220307T081230Z
LAST-MODIFIED:20220307T081412Z
UID:20790-1647869400-1647876600@biblioteka.szemud.pl
SUMMARY:Warsztaty z Lego Mindstorms w Bibliotece w Szemudzie
DESCRIPTION:
URL:https://biblioteka.szemud.pl/index.php/event/warsztaty-z-lego-mindstorms-w-bibliotece-w-szemudzie-6/
LOCATION:Biblioteka w Szemudzie\, Samorządowa 1\, Szemud
ATTACH;FMTTYPE=image/png:https://biblioteka.szemud.pl/wp-content/uploads/2022/03/Lego-2022-Szemud-1-e1646640728196.png
END:VEVENT
BEGIN:VEVENT
DTSTART;TZID=Europe/Warsaw:20220328T140000
DTEND;TZID=Europe/Warsaw:20220328T150000
DTSTAMP:20260421T111653
CREATED:20220317T075715Z
LAST-MODIFIED:20220317T075715Z
UID:21170-1648476000-1648479600@biblioteka.szemud.pl
SUMMARY:Warsztaty z robotem Photon w Bibliotece w Łebnie
DESCRIPTION:
URL:https://biblioteka.szemud.pl/index.php/event/warsztaty-z-robotem-photon-w-bibliotece-w-lebnie/
LOCATION:Biblioteka w Łebnie\, ul. Kartuska 9\, Łebno
ATTACH;FMTTYPE=image/png:https://biblioteka.szemud.pl/wp-content/uploads/2022/03/Lego-20212-e1647503795871.png
END:VEVENT
BEGIN:VEVENT
DTSTART;TZID=Europe/Warsaw:20220404T090000
DTEND;TZID=Europe/Warsaw:20220404T120000
DTSTAMP:20260421T111653
CREATED:20220331T080304Z
LAST-MODIFIED:20220331T080304Z
UID:21522-1649062800-1649073600@biblioteka.szemud.pl
SUMMARY:Warsztaty czytelnicze w Bibliotece w Kielnie
DESCRIPTION:
URL:https://biblioteka.szemud.pl/index.php/event/warsztaty-czytelnicze-w-bibliotece-w-kielnie-9/
LOCATION:Biblioteka w Kielnie\, ul. Oliwska 46\, Kielno
ATTACH;FMTTYPE=image/png:https://biblioteka.szemud.pl/wp-content/uploads/2022/03/warsztaty-czytelnicze-1-1-e1648713756469.png
END:VEVENT
BEGIN:VEVENT
DTSTART;TZID=Europe/Warsaw:20220404T150000
DTEND;TZID=Europe/Warsaw:20220404T170000
DTSTAMP:20260421T111653
CREATED:20220328T093925Z
LAST-MODIFIED:20220328T093925Z
UID:21453-1649084400-1649091600@biblioteka.szemud.pl
SUMMARY:Warsztaty "Palma wielkanocna" w Bibliotece w Łebnie
DESCRIPTION:
URL:https://biblioteka.szemud.pl/index.php/event/warsztaty-palma-wielkanocna-w-bibliotece-w-lebnie/
ATTACH;FMTTYPE=image/png:https://biblioteka.szemud.pl/wp-content/uploads/2022/03/Biblioteka-Publiczna-oraz-Wiejski-Osrodek-Kultury-w-Lebnie-e1648460344162.png
END:VEVENT
END:VCALENDAR