BEGIN:VCALENDAR
VERSION:2.0
PRODID:-//Biblioteka Publiczna Gminy Szemud - ECPv6.15.20//NONSGML v1.0//EN
CALSCALE:GREGORIAN
METHOD:PUBLISH
X-ORIGINAL-URL:https://biblioteka.szemud.pl
X-WR-CALDESC:Wydarzenia dla Biblioteka Publiczna Gminy Szemud
REFRESH-INTERVAL;VALUE=DURATION:PT1H
X-Robots-Tag:noindex
X-PUBLISHED-TTL:PT1H
BEGIN:VTIMEZONE
TZID:Europe/Warsaw
BEGIN:DAYLIGHT
TZOFFSETFROM:+0100
TZOFFSETTO:+0200
TZNAME:CEST
DTSTART:20200329T010000
END:DAYLIGHT
BEGIN:STANDARD
TZOFFSETFROM:+0200
TZOFFSETTO:+0100
TZNAME:CET
DTSTART:20201025T010000
END:STANDARD
BEGIN:DAYLIGHT
TZOFFSETFROM:+0100
TZOFFSETTO:+0200
TZNAME:CEST
DTSTART:20210328T010000
END:DAYLIGHT
BEGIN:STANDARD
TZOFFSETFROM:+0200
TZOFFSETTO:+0100
TZNAME:CET
DTSTART:20211031T010000
END:STANDARD
BEGIN:DAYLIGHT
TZOFFSETFROM:+0100
TZOFFSETTO:+0200
TZNAME:CEST
DTSTART:20220327T010000
END:DAYLIGHT
BEGIN:STANDARD
TZOFFSETFROM:+0200
TZOFFSETTO:+0100
TZNAME:CET
DTSTART:20221030T010000
END:STANDARD
END:VTIMEZONE
BEGIN:VEVENT
DTSTART;TZID=Europe/Warsaw:20210706T100000
DTEND;TZID=Europe/Warsaw:20210706T113000
DTSTAMP:20260421T214037
CREATED:20210621T103333Z
LAST-MODIFIED:20210621T103333Z
UID:15868-1625565600-1625571000@biblioteka.szemud.pl
SUMMARY:Warsztaty z robotem Photon w Bibliotece w Szemudzie
DESCRIPTION:
URL:https://biblioteka.szemud.pl/index.php/event/warsztaty-z-robotem-photon-w-bibliotece-w-szemudzie-2/
LOCATION:Hala sportowa w Szemudzie\, Szkolna 4a\, Szemud\, pomorskie\, 84-217\, Polska
ATTACH;FMTTYPE=image/png:https://biblioteka.szemud.pl/wp-content/uploads/2021/06/wakacje-warsztaty.png
END:VEVENT
BEGIN:VEVENT
DTSTART;TZID=Europe/Warsaw:20210707T120000
DTEND;TZID=Europe/Warsaw:20210707T133000
DTSTAMP:20260421T214037
CREATED:20210621T104854Z
LAST-MODIFIED:20210621T104854Z
UID:15881-1625659200-1625664600@biblioteka.szemud.pl
SUMMARY:Warsztaty z robotem Photon w Bibliotece w Bojanie
DESCRIPTION:
URL:https://biblioteka.szemud.pl/index.php/event/warsztaty-z-robotem-photon-w-bibliotece-w-bojanie-2/
LOCATION:Biblioteka w Bojanie\, ul. J. Wybickiego 38\, Bojano
ATTACH;FMTTYPE=image/png:https://biblioteka.szemud.pl/wp-content/uploads/2021/06/wakacje-warsztaty.png
END:VEVENT
BEGIN:VEVENT
DTSTART;TZID=Europe/Warsaw:20210708T093000
DTEND;TZID=Europe/Warsaw:20210708T120000
DTSTAMP:20260421T214037
CREATED:20210621T104207Z
LAST-MODIFIED:20210621T104225Z
UID:15872-1625736600-1625745600@biblioteka.szemud.pl
SUMMARY:Warsztaty z Lego Mindstorms w Bibliotece w Częstkowie
DESCRIPTION:
URL:https://biblioteka.szemud.pl/index.php/event/warsztaty-z-lego-mindstorms-w-bibliotece-w-szemudzie-3/
LOCATION:Biblioteka w Częstkowie\, ul. Szkolna 9\, Czestkowo
ATTACH;FMTTYPE=image/png:https://biblioteka.szemud.pl/wp-content/uploads/2021/06/wakacje-warsztaty.png
END:VEVENT
BEGIN:VEVENT
DTSTART;TZID=Europe/Warsaw:20210709T093000
DTEND;TZID=Europe/Warsaw:20210709T120000
DTSTAMP:20260421T214037
CREATED:20210621T104009Z
LAST-MODIFIED:20210621T104009Z
UID:15870-1625823000-1625832000@biblioteka.szemud.pl
SUMMARY:Warsztaty z Lego Mindstorms w Bibliotece w Szemudzie
DESCRIPTION:
URL:https://biblioteka.szemud.pl/index.php/event/warsztaty-z-lego-mindstorms-w-bibliotece-w-szemudzie-2/
LOCATION:Hala sportowa w Szemudzie\, Szkolna 4a\, Szemud\, pomorskie\, 84-217\, Polska
ATTACH;FMTTYPE=image/png:https://biblioteka.szemud.pl/wp-content/uploads/2021/06/wakacje-warsztaty.png
END:VEVENT
BEGIN:VEVENT
DTSTART;TZID=Europe/Warsaw:20210713T100000
DTEND;TZID=Europe/Warsaw:20210713T113000
DTSTAMP:20260421T214037
CREATED:20210621T104326Z
LAST-MODIFIED:20210621T104326Z
UID:15875-1626170400-1626175800@biblioteka.szemud.pl
SUMMARY:Warsztaty z robotem Photon w Bibliotece w Częstkowie
DESCRIPTION:
URL:https://biblioteka.szemud.pl/index.php/event/warsztaty-z-robotem-photon-w-bibliotece-w-czestkowie/
LOCATION:Biblioteka w Częstkowie\, ul. Szkolna 9\, Czestkowo
ATTACH;FMTTYPE=image/png:https://biblioteka.szemud.pl/wp-content/uploads/2021/06/wakacje-warsztaty.png
END:VEVENT
BEGIN:VEVENT
DTSTART;TZID=Europe/Warsaw:20210714T093000
DTEND;TZID=Europe/Warsaw:20210714T120000
DTSTAMP:20260421T214037
CREATED:20210621T104527Z
LAST-MODIFIED:20210621T104527Z
UID:15877-1626255000-1626264000@biblioteka.szemud.pl
SUMMARY:Warsztaty z Lego Mindstorms w Bibliotece w Kielnie
DESCRIPTION:
URL:https://biblioteka.szemud.pl/index.php/event/warsztaty-z-lego-mindstorms-w-bibliotece-w-kielnie/
LOCATION:Biblioteka w Kielnie\, ul. Oliwska 46\, Kielno
ATTACH;FMTTYPE=image/png:https://biblioteka.szemud.pl/wp-content/uploads/2021/06/wakacje-warsztaty.png
END:VEVENT
BEGIN:VEVENT
DTSTART;TZID=Europe/Warsaw:20210726T110000
DTEND;TZID=Europe/Warsaw:20210726T130000
DTSTAMP:20260421T214037
CREATED:20210712T073741Z
LAST-MODIFIED:20210712T074939Z
UID:15966-1627297200-1627304400@biblioteka.szemud.pl
SUMMARY:Warsztaty "Tworzenie komiksu" w Bibliotece w Kielnie
DESCRIPTION:
URL:https://biblioteka.szemud.pl/index.php/event/warsztaty-tworzenie-komiksu-w-bibliotece-w-kielnie/
LOCATION:Biblioteka w Kielnie\, ul. Oliwska 46\, Kielno
ATTACH;FMTTYPE=image/png:https://biblioteka.szemud.pl/wp-content/uploads/2021/07/Warsztaty-wakacje-2021-e1626077926205.png
END:VEVENT
BEGIN:VEVENT
DTSTART;TZID=Europe/Warsaw:20210726T140000
DTEND;TZID=Europe/Warsaw:20210726T150000
DTSTAMP:20260421T214037
CREATED:20210712T083635Z
LAST-MODIFIED:20210712T084140Z
UID:15991-1627308000-1627311600@biblioteka.szemud.pl
SUMMARY:Otwarte zajęcia gitarowe w Bibliotece w Kielnie
DESCRIPTION:
URL:https://biblioteka.szemud.pl/index.php/event/otwarte-zajecia-gitarowe-w-bibliotece-w-kielnie-2/
LOCATION:Biblioteka w Kielnie\, ul. Oliwska 46\, Kielno
ATTACH;FMTTYPE=image/png:https://biblioteka.szemud.pl/wp-content/uploads/2021/07/Gitara-08.2021-e1626079415883.png
END:VEVENT
BEGIN:VEVENT
DTSTART;TZID=Europe/Warsaw:20210727T110000
DTEND;TZID=Europe/Warsaw:20210727T130000
DTSTAMP:20260421T214037
CREATED:20210712T075618Z
LAST-MODIFIED:20210712T075618Z
UID:15974-1627383600-1627390800@biblioteka.szemud.pl
SUMMARY:Warsztaty “Tworzenie komiksu” w Bibliotece w Bojanie
DESCRIPTION:
URL:https://biblioteka.szemud.pl/index.php/event/warsztaty-tworzenie-komiksu-w-bibliotece-w-bojanie/
LOCATION:Biblioteka w Bojanie\, ul. J. Wybickiego 38\, Bojano
ATTACH;FMTTYPE=image/png:https://biblioteka.szemud.pl/wp-content/uploads/2021/07/Warsztaty-wakacje-2021-e1626077926205.png
END:VEVENT
BEGIN:VEVENT
DTSTART;TZID=Europe/Warsaw:20210727T143000
DTEND;TZID=Europe/Warsaw:20210727T153000
DTSTAMP:20260421T214037
CREATED:20210712T084429Z
LAST-MODIFIED:20210712T084853Z
UID:15997-1627396200-1627399800@biblioteka.szemud.pl
SUMMARY:Otwarte zajęcia gitarowe w Bibliotece w Łebnie
DESCRIPTION:
URL:https://biblioteka.szemud.pl/index.php/event/otwarte-zajecia-gitarowe-w-bibliotece-w-lebnie/
LOCATION:Biblioteka w Łebnie\, ul. Kartuska 9\, Łebno
ATTACH;FMTTYPE=image/png:https://biblioteka.szemud.pl/wp-content/uploads/2021/07/Gitara-08.2021-e1626079415883.png
END:VEVENT
BEGIN:VEVENT
DTSTART;TZID=Europe/Warsaw:20210728T110000
DTEND;TZID=Europe/Warsaw:20210728T130000
DTSTAMP:20260421T214037
CREATED:20210712T080814Z
LAST-MODIFIED:20210712T080814Z
UID:15981-1627470000-1627477200@biblioteka.szemud.pl
SUMMARY:Warsztaty “Tworzenie komiksu” w Bibliotece w Szemudzie
DESCRIPTION:
URL:https://biblioteka.szemud.pl/index.php/event/warsztaty-tworzenie-komiksu-w-bibliotece-w-szemudzie/
LOCATION:Hala sportowa w Szemudzie\, Szkolna 4a\, Szemud\, pomorskie\, 84-217\, Polska
ATTACH;FMTTYPE=image/png:https://biblioteka.szemud.pl/wp-content/uploads/2021/07/Warsztaty-wakacje-2021-e1626077926205.png
END:VEVENT
BEGIN:VEVENT
DTSTART;TZID=Europe/Warsaw:20210728T140000
DTEND;TZID=Europe/Warsaw:20210728T150000
DTSTAMP:20260421T214037
CREATED:20210712T085520Z
LAST-MODIFIED:20210712T090102Z
UID:16003-1627480800-1627484400@biblioteka.szemud.pl
SUMMARY:Otwarte zajęcia gitarowe w Bibliotece w Szemudzie
DESCRIPTION:
URL:https://biblioteka.szemud.pl/index.php/event/otwarte-zajecia-gitarowe-w-bibliotece-w-szemudzie-2/
LOCATION:Hala sportowa w Szemudzie\, Szkolna 4a\, Szemud\, pomorskie\, 84-217\, Polska
ATTACH;FMTTYPE=image/png:https://biblioteka.szemud.pl/wp-content/uploads/2021/07/Gitara-08.2021-e1626079415883.png
END:VEVENT
BEGIN:VEVENT
DTSTART;TZID=Europe/Warsaw:20210802T110000
DTEND;TZID=Europe/Warsaw:20210802T130000
DTSTAMP:20260421T214037
CREATED:20210712T074723Z
LAST-MODIFIED:20210712T082145Z
UID:15968-1627902000-1627909200@biblioteka.szemud.pl
SUMMARY:Warsztaty "Martwa natura" w Bibliotece w Kielnie
DESCRIPTION:
URL:https://biblioteka.szemud.pl/index.php/event/warsztaty-martwa-natura-w-bibliotece-w-kielnie/
LOCATION:Biblioteka w Kielnie\, ul. Oliwska 46\, Kielno
ATTACH;FMTTYPE=image/png:https://biblioteka.szemud.pl/wp-content/uploads/2021/07/Warsztaty-wakacje-2021-e1626077926205.png
END:VEVENT
BEGIN:VEVENT
DTSTART;TZID=Europe/Warsaw:20210802T140000
DTEND;TZID=Europe/Warsaw:20210802T150000
DTSTAMP:20260421T214037
CREATED:20210712T083748Z
LAST-MODIFIED:20210712T083748Z
UID:15993-1627912800-1627916400@biblioteka.szemud.pl
SUMMARY:Otwarte zajęcia gitarowe w Bibliotece w Kielnie
DESCRIPTION:
URL:https://biblioteka.szemud.pl/index.php/event/otwarte-zajecia-gitarowe-w-bibliotece-w-kielnie-3/
LOCATION:Biblioteka w Kielnie\, ul. Oliwska 46\, Kielno
ATTACH;FMTTYPE=image/png:https://biblioteka.szemud.pl/wp-content/uploads/2021/07/Warsztaty-wakacje-2021-e1626077926205.png
END:VEVENT
BEGIN:VEVENT
DTSTART;TZID=Europe/Warsaw:20210802T140000
DTEND;TZID=Europe/Warsaw:20210802T150000
DTSTAMP:20260421T214037
CREATED:20210712T090152Z
LAST-MODIFIED:20210712T090152Z
UID:16009-1627912800-1627916400@biblioteka.szemud.pl
SUMMARY:Otwarte zajęcia gitarowe w Bibliotece w Kielnie
DESCRIPTION:
URL:https://biblioteka.szemud.pl/index.php/event/otwarte-zajecia-gitarowe-w-bibliotece-w-kielnie-5/
LOCATION:Biblioteka w Kielnie\, ul. Oliwska 46\, Kielno
ATTACH;FMTTYPE=image/png:https://biblioteka.szemud.pl/wp-content/uploads/2021/07/Gitara-08.2021-e1626079415883.png
END:VEVENT
BEGIN:VEVENT
DTSTART;TZID=Europe/Warsaw:20210803T110000
DTEND;TZID=Europe/Warsaw:20210803T130000
DTSTAMP:20260421T214037
CREATED:20210712T075725Z
LAST-MODIFIED:20210712T080140Z
UID:15976-1627988400-1627995600@biblioteka.szemud.pl
SUMMARY:Warsztaty "Martwa natura” w Bibliotece w Bojanie
DESCRIPTION:
URL:https://biblioteka.szemud.pl/index.php/event/warsztaty-martwa-natura-w-bibliotece-w-bojanie/
LOCATION:Biblioteka w Bojanie\, ul. J. Wybickiego 38\, Bojano
ATTACH;FMTTYPE=image/png:https://biblioteka.szemud.pl/wp-content/uploads/2021/07/Warsztaty-wakacje-2021-e1626077926205.png
END:VEVENT
BEGIN:VEVENT
DTSTART;TZID=Europe/Warsaw:20210803T143000
DTEND;TZID=Europe/Warsaw:20210803T153000
DTSTAMP:20260421T214037
CREATED:20210712T084946Z
LAST-MODIFIED:20210712T085020Z
UID:15999-1628001000-1628004600@biblioteka.szemud.pl
SUMMARY:Otwarte zajęcia gitarowe w Bibliotece w Łebnie
DESCRIPTION:
URL:https://biblioteka.szemud.pl/index.php/event/otwarte-zajecia-gitarowe-w-bibliotece-w-lebnie-2/
LOCATION:Biblioteka w Łebnie\, ul. Kartuska 9\, Łebno
ATTACH;FMTTYPE=image/png:https://biblioteka.szemud.pl/wp-content/uploads/2021/07/Gitara-08.2021-e1626079415883.png
END:VEVENT
BEGIN:VEVENT
DTSTART;TZID=Europe/Warsaw:20210804T110000
DTEND;TZID=Europe/Warsaw:20210804T130000
DTSTAMP:20260421T214037
CREATED:20210712T080939Z
LAST-MODIFIED:20210712T080939Z
UID:15983-1628074800-1628082000@biblioteka.szemud.pl
SUMMARY:Warsztaty “Martwa natura” w Bibliotece w Szemudzie
DESCRIPTION:
URL:https://biblioteka.szemud.pl/index.php/event/warsztaty-martwa-natura-w-bibliotece-w-szemudzie/
LOCATION:Hala sportowa w Szemudzie\, Szkolna 4a\, Szemud\, pomorskie\, 84-217\, Polska
ATTACH;FMTTYPE=image/png:https://biblioteka.szemud.pl/wp-content/uploads/2021/07/Warsztaty-wakacje-2021-e1626077926205.png
END:VEVENT
BEGIN:VEVENT
DTSTART;TZID=Europe/Warsaw:20210804T140000
DTEND;TZID=Europe/Warsaw:20210804T150000
DTSTAMP:20260421T214037
CREATED:20210712T085625Z
LAST-MODIFIED:20210712T085625Z
UID:16005-1628085600-1628089200@biblioteka.szemud.pl
SUMMARY:Otwarte zajęcia gitarowe w Bibliotece w Szemudzie
DESCRIPTION:
URL:https://biblioteka.szemud.pl/index.php/event/otwarte-zajecia-gitarowe-w-bibliotece-w-szemudzie-3/
LOCATION:Hala sportowa w Szemudzie\, Szkolna 4a\, Szemud\, pomorskie\, 84-217\, Polska
ATTACH;FMTTYPE=image/png:https://biblioteka.szemud.pl/wp-content/uploads/2021/07/Gitara-08.2021-e1626079415883.png
END:VEVENT
BEGIN:VEVENT
DTSTART;TZID=Europe/Warsaw:20210809T110000
DTEND;TZID=Europe/Warsaw:20210809T130000
DTSTAMP:20260421T214037
CREATED:20210712T075327Z
LAST-MODIFIED:20210712T075327Z
UID:15972-1628506800-1628514000@biblioteka.szemud.pl
SUMMARY:Warsztaty "Kubraczek na telefon z filcu" w Bibliotece w Kielnie
DESCRIPTION:
URL:https://biblioteka.szemud.pl/index.php/event/warsztaty-kubraczek-na-telefon-z-filcu-w-bibliotece-w-kielnie/
LOCATION:Biblioteka w Kielnie\, ul. Oliwska 46\, Kielno
ATTACH;FMTTYPE=image/png:https://biblioteka.szemud.pl/wp-content/uploads/2021/07/Warsztaty-wakacje-2021-e1626077926205.png
END:VEVENT
BEGIN:VEVENT
DTSTART;TZID=Europe/Warsaw:20210809T140000
DTEND;TZID=Europe/Warsaw:20210809T150000
DTSTAMP:20260421T214037
CREATED:20210712T083858Z
LAST-MODIFIED:20210712T083858Z
UID:15995-1628517600-1628521200@biblioteka.szemud.pl
SUMMARY:Otwarte zajęcia gitarowe w Bibliotece w Kielnie
DESCRIPTION:
URL:https://biblioteka.szemud.pl/index.php/event/otwarte-zajecia-gitarowe-w-bibliotece-w-kielnie-4/
LOCATION:Biblioteka w Kielnie\, ul. Oliwska 46\, Kielno
ATTACH;FMTTYPE=image/png:https://biblioteka.szemud.pl/wp-content/uploads/2021/07/Gitara-08.2021-e1626079415883.png
END:VEVENT
BEGIN:VEVENT
DTSTART;TZID=Europe/Warsaw:20210810T100000
DTEND;TZID=Europe/Warsaw:20210810T110000
DTSTAMP:20260421T214037
CREATED:20210712T081108Z
LAST-MODIFIED:20210712T081252Z
UID:15985-1628589600-1628593200@biblioteka.szemud.pl
SUMMARY:Warsztaty z robotem Photon w Bibliotece w Szemudzie
DESCRIPTION:
URL:https://biblioteka.szemud.pl/index.php/event/warsztaty-z-robotem-photon-w-bibliotece-w-szemudzie-3/
LOCATION:Hala sportowa w Szemudzie\, Szkolna 4a\, Szemud\, pomorskie\, 84-217\, Polska
ATTACH;FMTTYPE=image/png:https://biblioteka.szemud.pl/wp-content/uploads/2021/07/Warsztaty-wakacje-2021-e1626077926205.png
END:VEVENT
BEGIN:VEVENT
DTSTART;TZID=Europe/Warsaw:20210810T143000
DTEND;TZID=Europe/Warsaw:20210810T153000
DTSTAMP:20260421T214037
CREATED:20210712T085107Z
LAST-MODIFIED:20210712T085107Z
UID:16001-1628605800-1628609400@biblioteka.szemud.pl
SUMMARY:Otwarte zajęcia gitarowe w Bibliotece w Łebnie
DESCRIPTION:
URL:https://biblioteka.szemud.pl/index.php/event/otwarte-zajecia-gitarowe-w-bibliotece-w-lebnie-3/
LOCATION:Biblioteka w Łebnie\, ul. Kartuska 9\, Łebno
ATTACH;FMTTYPE=image/png:https://biblioteka.szemud.pl/wp-content/uploads/2021/07/Gitara-08.2021-e1626079415883.png
END:VEVENT
BEGIN:VEVENT
DTSTART;TZID=Europe/Warsaw:20210811T110000
DTEND;TZID=Europe/Warsaw:20210811T130000
DTSTAMP:20260421T214037
CREATED:20210712T081431Z
LAST-MODIFIED:20210712T081431Z
UID:15987-1628679600-1628686800@biblioteka.szemud.pl
SUMMARY:Warsztaty “Kubraczek na telefon z filcu” w Bibliotece w Szemudzie
DESCRIPTION:
URL:https://biblioteka.szemud.pl/index.php/event/warsztaty-kubraczek-na-telefon-z-filcu-w-bibliotece-w-szemudzie/
LOCATION:Hala sportowa w Szemudzie\, Szkolna 4a\, Szemud\, pomorskie\, 84-217\, Polska
ATTACH;FMTTYPE=image/png:https://biblioteka.szemud.pl/wp-content/uploads/2021/07/Warsztaty-wakacje-2021-e1626077926205.png
END:VEVENT
BEGIN:VEVENT
DTSTART;TZID=Europe/Warsaw:20210811T140000
DTEND;TZID=Europe/Warsaw:20210811T150000
DTSTAMP:20260421T214037
CREATED:20210712T085754Z
LAST-MODIFIED:20210712T085754Z
UID:16007-1628690400-1628694000@biblioteka.szemud.pl
SUMMARY:Otwarte zajęcia gitarowe w Bibliotece w Szemudzie
DESCRIPTION:
URL:https://biblioteka.szemud.pl/index.php/event/otwarte-zajecia-gitarowe-w-bibliotece-w-szemudzie-4/
LOCATION:Biblioteka w Szemudzie\, Samorządowa 1\, Szemud
ATTACH;FMTTYPE=image/png:https://biblioteka.szemud.pl/wp-content/uploads/2021/07/Gitara-08.2021-e1626079415883.png
END:VEVENT
BEGIN:VEVENT
DTSTART;TZID=Europe/Warsaw:20210817T100000
DTEND;TZID=Europe/Warsaw:20210817T110000
DTSTAMP:20260421T214037
CREATED:20210712T082600Z
LAST-MODIFIED:20210712T082600Z
UID:15989-1629194400-1629198000@biblioteka.szemud.pl
SUMMARY:Warsztaty z robotem Photon w Bibliotece w Częstkowie
DESCRIPTION:
URL:https://biblioteka.szemud.pl/index.php/event/warsztaty-z-robotem-photon-w-bibliotece-w-czestkowie-2/
LOCATION:Biblioteka w Częstkowie\, ul. Szkolna 9\, Czestkowo
ATTACH;FMTTYPE=image/png:https://biblioteka.szemud.pl/wp-content/uploads/2021/07/Warsztaty-wakacje-2021-e1626077926205.png
END:VEVENT
BEGIN:VEVENT
DTSTART;TZID=Europe/Warsaw:20210818T093000
DTEND;TZID=Europe/Warsaw:20210818T120000
DTSTAMP:20260421T214037
CREATED:20210712T080353Z
LAST-MODIFIED:20210712T080353Z
UID:15978-1629279000-1629288000@biblioteka.szemud.pl
SUMMARY:Warsztaty z Lego Mindstorms w Bibliotece w Łebnie
DESCRIPTION:
URL:https://biblioteka.szemud.pl/index.php/event/warsztaty-z-lego-mindstorms-w-bibliotece-w-lebnie/
LOCATION:Biblioteka w Łebnie\, ul. Kartuska 9\, Łebno
ATTACH;FMTTYPE=image/png:https://biblioteka.szemud.pl/wp-content/uploads/2021/07/Warsztaty-wakacje-2021-e1626077926205.png
END:VEVENT
BEGIN:VEVENT
DTSTART;TZID=Europe/Warsaw:20210901T080000
DTEND;TZID=Europe/Warsaw:20210901T120000
DTSTAMP:20260421T214037
CREATED:20210826T083207Z
LAST-MODIFIED:20210826T083207Z
UID:16191-1630483200-1630497600@biblioteka.szemud.pl
SUMMARY:Otwarcie filii Biblioteki Publicznej w Łebnie im. Jana Piepki
DESCRIPTION:
URL:https://biblioteka.szemud.pl/index.php/event/otwarcie-filii-biblioteki-publicznej-w-lebnie-im-jana-piepki/
LOCATION:Biblioteka w Łebnie\, ul. Kartuska 9\, Łebno
ATTACH;FMTTYPE=image/jpeg:https://biblioteka.szemud.pl/wp-content/uploads/2021/08/otwarcie-biblioteki-e1629966986623.jpg
END:VEVENT
BEGIN:VEVENT
DTSTART;TZID=Europe/Warsaw:20210905T090000
DTEND;TZID=Europe/Warsaw:20210905T130000
DTSTAMP:20260421T214037
CREATED:20210826T083501Z
LAST-MODIFIED:20210826T083501Z
UID:16193-1630832400-1630846800@biblioteka.szemud.pl
SUMMARY:Dzień otwarty nowego lokalu filii Biblioteki Publicznej w Łebnie im. Jana Piepki
DESCRIPTION:
URL:https://biblioteka.szemud.pl/index.php/event/dzien-otwarty-nowego-lokalu-filii-biblioteki-publicznej-w-lebnie-im-jana-piepki/
LOCATION:Biblioteka w Łebnie\, ul. Kartuska 9\, Łebno
ATTACH;FMTTYPE=image/jpeg:https://biblioteka.szemud.pl/wp-content/uploads/2021/08/otwarcie-biblioteki-e1629966986623.jpg
END:VEVENT
BEGIN:VEVENT
DTSTART;TZID=Europe/Warsaw:20210905T150000
DTEND;TZID=Europe/Warsaw:20210905T190000
DTSTAMP:20260421T214037
CREATED:20210827T093059Z
LAST-MODIFIED:20210827T105928Z
UID:16200-1630854000-1630868400@biblioteka.szemud.pl
SUMMARY:Narodowe Czytanie 2021 "Moralność Pani Dulskiej"
DESCRIPTION:
URL:https://biblioteka.szemud.pl/index.php/event/narodowe-czytanie-2021-moralnosc-pani-dulskiej/
LOCATION:Boisko gminne\, Sportowa\, Szemud\, 84-217\, Polska
ATTACH;FMTTYPE=image/png:https://biblioteka.szemud.pl/wp-content/uploads/2021/08/Narodowe-Czytanie-2021-e1630056649418.png
END:VEVENT
END:VCALENDAR