BEGIN:VCALENDAR
VERSION:2.0
PRODID:-//Biblioteka Publiczna Gminy Szemud - ECPv6.15.20//NONSGML v1.0//EN
CALSCALE:GREGORIAN
METHOD:PUBLISH
X-ORIGINAL-URL:https://biblioteka.szemud.pl
X-WR-CALDESC:Wydarzenia dla Biblioteka Publiczna Gminy Szemud
REFRESH-INTERVAL;VALUE=DURATION:PT1H
X-Robots-Tag:noindex
X-PUBLISHED-TTL:PT1H
BEGIN:VTIMEZONE
TZID:Europe/Warsaw
BEGIN:DAYLIGHT
TZOFFSETFROM:+0100
TZOFFSETTO:+0200
TZNAME:CEST
DTSTART:20180325T010000
END:DAYLIGHT
BEGIN:STANDARD
TZOFFSETFROM:+0200
TZOFFSETTO:+0100
TZNAME:CET
DTSTART:20181028T010000
END:STANDARD
BEGIN:DAYLIGHT
TZOFFSETFROM:+0100
TZOFFSETTO:+0200
TZNAME:CEST
DTSTART:20190331T010000
END:DAYLIGHT
BEGIN:STANDARD
TZOFFSETFROM:+0200
TZOFFSETTO:+0100
TZNAME:CET
DTSTART:20191027T010000
END:STANDARD
BEGIN:DAYLIGHT
TZOFFSETFROM:+0100
TZOFFSETTO:+0200
TZNAME:CEST
DTSTART:20200329T010000
END:DAYLIGHT
BEGIN:STANDARD
TZOFFSETFROM:+0200
TZOFFSETTO:+0100
TZNAME:CET
DTSTART:20201025T010000
END:STANDARD
END:VTIMEZONE
BEGIN:VEVENT
DTSTART;TZID=Europe/Warsaw:20190110T160000
DTEND;TZID=Europe/Warsaw:20190110T173000
DTSTAMP:20260424T005229
CREATED:20190102T125045Z
LAST-MODIFIED:20190102T125109Z
UID:3969-1547136000-1547141400@biblioteka.szemud.pl
SUMMARY:Warsztaty "Kartki dla babci i dziadka" w Bibliotece w Częstkowie
DESCRIPTION:
URL:https://biblioteka.szemud.pl/index.php/event/warsztaty-kartki-dla-babci-i-dziadka-w-bibliotece-w-czestkowie/
LOCATION:Biblioteka w Częstkowie\, ul. Szkolna 9\, Czestkowo
ATTACH;FMTTYPE=image/jpeg:https://biblioteka.szemud.pl/wp-content/uploads/2016/10/Warsztaty-Częstkowo1.jpg
END:VEVENT
BEGIN:VEVENT
DTSTART;TZID=Europe/Warsaw:20190114T160000
DTEND;TZID=Europe/Warsaw:20190114T180000
DTSTAMP:20260424T005229
CREATED:20190102T130752Z
LAST-MODIFIED:20190102T130752Z
UID:3978-1547481600-1547488800@biblioteka.szemud.pl
SUMMARY:Warsztaty kreatywne w Bibliotece w Szemudzie
DESCRIPTION:
URL:https://biblioteka.szemud.pl/index.php/event/warsztaty-kreatywne-w-bibliotece-w-szemudzie-5/
LOCATION:Biblioteka w Szemudzie\, Samorządowa 1\, Szemud
ATTACH;FMTTYPE=image/jpeg:https://biblioteka.szemud.pl/wp-content/uploads/2016/10/warsztaty-dzień-babci-i-dziadka.jpg
END:VEVENT
BEGIN:VEVENT
DTSTART;TZID=Europe/Warsaw:20190115T160000
DTEND;TZID=Europe/Warsaw:20190115T173000
DTSTAMP:20260424T005229
CREATED:20190102T132726Z
LAST-MODIFIED:20190102T132726Z
UID:3988-1547568000-1547573400@biblioteka.szemud.pl
SUMMARY:Warsztaty "Serce" metodą decoupage w Bibliotece w Kielnie
DESCRIPTION:
URL:https://biblioteka.szemud.pl/index.php/event/warsztaty-serce-metoda-decoupage-w-bibliotece-w-kielnie/
LOCATION:Biblioteka w Kielnie\, ul. Oliwska 46\, Kielno
ATTACH;FMTTYPE=image/jpeg:https://biblioteka.szemud.pl/wp-content/uploads/2016/10/Biblioteki-publiczne.jpg
END:VEVENT
BEGIN:VEVENT
DTSTART;TZID=Europe/Warsaw:20190116T140000
DTEND;TZID=Europe/Warsaw:20190116T153000
DTSTAMP:20260424T005229
CREATED:20190102T132601Z
LAST-MODIFIED:20190102T132601Z
UID:3986-1547647200-1547652600@biblioteka.szemud.pl
SUMMARY:Warsztaty "Serce" metodą decoupage w Bibliotece w Bojanie
DESCRIPTION:
URL:https://biblioteka.szemud.pl/index.php/event/warsztaty-serce-metoda-decoupage-w-bibliotece-w-bojanie/
LOCATION:Biblioteka w Bojanie\, ul. J. Wybickiego 38\, Bojano
ATTACH;FMTTYPE=image/jpeg:https://biblioteka.szemud.pl/wp-content/uploads/2016/10/Biblioteki-publiczne.jpg
END:VEVENT
BEGIN:VEVENT
DTSTART;TZID=Europe/Warsaw:20190117T160000
DTEND;TZID=Europe/Warsaw:20190117T173000
DTSTAMP:20260424T005229
CREATED:20190102T125938Z
LAST-MODIFIED:20190102T125938Z
UID:3972-1547740800-1547746200@biblioteka.szemud.pl
SUMMARY:Warsztaty „Serca z wikliny papierowej” w Bibliotece w Częstkowie
DESCRIPTION:
URL:https://biblioteka.szemud.pl/index.php/event/warsztaty-serca-z-wikliny-papierowej-w-bibliotece-w-czestkowie/
LOCATION:Biblioteka w Częstkowie\, ul. Szkolna 9\, Czestkowo
ATTACH;FMTTYPE=image/jpeg:https://biblioteka.szemud.pl/wp-content/uploads/2016/10/Warsztaty-Częstkowo1.jpg
END:VEVENT
BEGIN:VEVENT
DTSTART;TZID=Europe/Warsaw:20190124T160000
DTEND;TZID=Europe/Warsaw:20190124T180000
DTSTAMP:20260424T005229
CREATED:20190102T132316Z
LAST-MODIFIED:20190102T132316Z
UID:3982-1548345600-1548352800@biblioteka.szemud.pl
SUMMARY:Warsztaty "Kosmetyki handmade" w Bibliotece w Bojanie
DESCRIPTION:
URL:https://biblioteka.szemud.pl/index.php/event/warsztaty-kosmetyki-handmade-w-bibliotece-w-bojanie/
LOCATION:Biblioteka w Bojanie\, ul. J. Wybickiego 38\, Bojano
ATTACH;FMTTYPE=image/jpeg:https://biblioteka.szemud.pl/wp-content/uploads/2016/10/Biblioteki-publiczne.jpg
END:VEVENT
BEGIN:VEVENT
DTSTART;TZID=Europe/Warsaw:20190125T170000
DTEND;TZID=Europe/Warsaw:20190125T190000
DTSTAMP:20260424T005229
CREATED:20190117T135555Z
LAST-MODIFIED:20190121T153211Z
UID:4006-1548435600-1548442800@biblioteka.szemud.pl
SUMMARY:"Kolędy świata" w Bibliotece w Szemudzie
DESCRIPTION:
URL:https://biblioteka.szemud.pl/index.php/event/koledy-swiata-w-bibliotece-w-szemudzie/
LOCATION:Biblioteka w Szemudzie\, Samorządowa 1\, Szemud
ATTACH;FMTTYPE=image/jpeg:https://biblioteka.szemud.pl/wp-content/uploads/2016/10/Winslow-Homeowners-Association.jpg
END:VEVENT
BEGIN:VEVENT
DTSTART;TZID=Europe/Warsaw:20190129T160000
DTEND;TZID=Europe/Warsaw:20190129T173000
DTSTAMP:20260424T005229
CREATED:20190102T132433Z
LAST-MODIFIED:20190102T132433Z
UID:3984-1548777600-1548783000@biblioteka.szemud.pl
SUMMARY:Warsztaty "Kosmetyki handmade" w Bibliotece w Kielnie
DESCRIPTION:
URL:https://biblioteka.szemud.pl/index.php/event/warsztaty-kosmetyki-handmade-w-bibliotece-w-kielnie/
ATTACH;FMTTYPE=image/jpeg:https://biblioteka.szemud.pl/wp-content/uploads/2016/10/Biblioteki-publiczne.jpg
END:VEVENT
BEGIN:VEVENT
DTSTART;TZID=Europe/Warsaw:20190211T100000
DTEND;TZID=Europe/Warsaw:20190211T113000
DTSTAMP:20260424T005229
CREATED:20190124T125231Z
LAST-MODIFIED:20190124T125231Z
UID:4019-1549879200-1549884600@biblioteka.szemud.pl
SUMMARY:Zajęcia praktyczne w drewnie w Bibliotece i WOK Łebno
DESCRIPTION:
URL:https://biblioteka.szemud.pl/index.php/event/zajecia-praktyczne-w-drewnie-w-bibliotece-i-wok-lebno/
LOCATION:Biblioteka w Łebnie\, ul. Kartuska 9\, Łebno
ATTACH;FMTTYPE=image/jpeg:https://biblioteka.szemud.pl/wp-content/uploads/2016/10/Ferie-Łebno-WOK-i-Biblioteka-page-001.jpg
END:VEVENT
BEGIN:VEVENT
DTSTART;TZID=Europe/Warsaw:20190211T113000
DTEND;TZID=Europe/Warsaw:20190211T123000
DTSTAMP:20260424T005229
CREATED:20190124T125446Z
LAST-MODIFIED:20190124T125446Z
UID:4021-1549884600-1549888200@biblioteka.szemud.pl
SUMMARY:Szachy...i inne gry stolikowe w Bibliotece i WOK Łebno
DESCRIPTION:
URL:https://biblioteka.szemud.pl/index.php/event/szachy-i-inne-gry-stolikowe-w-bibliotece-i-wok-lebno/
LOCATION:Biblioteka w Łebnie\, ul. Kartuska 9\, Łebno
ATTACH;FMTTYPE=image/jpeg:https://biblioteka.szemud.pl/wp-content/uploads/2016/10/Ferie-Łebno-WOK-i-Biblioteka-page-001.jpg
END:VEVENT
BEGIN:VEVENT
DTSTART;TZID=Europe/Warsaw:20190211T120000
DTEND;TZID=Europe/Warsaw:20190211T140000
DTSTAMP:20260424T005229
CREATED:20190124T132152Z
LAST-MODIFIED:20190124T132152Z
UID:4058-1549886400-1549893600@biblioteka.szemud.pl
SUMMARY:Planszomania w Bibliotece w Szemudzie
DESCRIPTION:
URL:https://biblioteka.szemud.pl/index.php/event/planszomania-w-bibliotece-w-szemudzie/
LOCATION:Biblioteka w Szemudzie\, Samorządowa 1\, Szemud
ATTACH;FMTTYPE=image/jpeg:https://biblioteka.szemud.pl/wp-content/uploads/2016/10/Szemud-ferie-2019.jpg
END:VEVENT
BEGIN:VEVENT
DTSTART;TZID=Europe/Warsaw:20190212T100000
DTEND;TZID=Europe/Warsaw:20190212T120000
DTSTAMP:20260424T005229
CREATED:20190124T135451Z
LAST-MODIFIED:20190124T135451Z
UID:4089-1549965600-1549972800@biblioteka.szemud.pl
SUMMARY:Warsztaty z ceramiki cz. I w Bibliotece w Częstkowie
DESCRIPTION:
URL:https://biblioteka.szemud.pl/index.php/event/warsztaty-z-ceramiki-cz-i-w-bibliotece-w-czestkowie/
LOCATION:Biblioteka w Częstkowie\, ul. Szkolna 9\, Czestkowo
ATTACH;FMTTYPE=image/jpeg:https://biblioteka.szemud.pl/wp-content/uploads/2016/10/Ferie-Częstkowo.jpg
END:VEVENT
BEGIN:VEVENT
DTSTART;TZID=Europe/Warsaw:20190212T103000
DTEND;TZID=Europe/Warsaw:20190212T120000
DTSTAMP:20260424T005229
CREATED:20190124T140606Z
LAST-MODIFIED:20190221T091212Z
UID:4104-1549967400-1549972800@biblioteka.szemud.pl
SUMMARY:Warsztaty "Lampiony świętego Walentego" w Bibliotece w Kielnie
DESCRIPTION:
URL:https://biblioteka.szemud.pl/index.php/event/warsztaty-lampiony-swietego-walentego-w-bibliotece-w-w-kielnie/
LOCATION:Biblioteka w Kielnie\, ul. Oliwska 46\, Kielno
ATTACH;FMTTYPE=image/jpeg:https://biblioteka.szemud.pl/wp-content/uploads/2016/10/Ferie-Kielno.jpg
END:VEVENT
BEGIN:VEVENT
DTSTART;TZID=Europe/Warsaw:20190212T110000
DTEND;TZID=Europe/Warsaw:20190212T120000
DTSTAMP:20260424T005229
CREATED:20190124T125615Z
LAST-MODIFIED:20190124T125634Z
UID:4024-1549969200-1549972800@biblioteka.szemud.pl
SUMMARY:Warsztaty "Kukiełki" w Bibliotece i WOK Łebno
DESCRIPTION:
URL:https://biblioteka.szemud.pl/index.php/event/warsztaty-kukielki-w-bibliotece-i-wok-lebno/
LOCATION:Biblioteka w Łebnie\, ul. Kartuska 9\, Łebno
ATTACH;FMTTYPE=image/jpeg:https://biblioteka.szemud.pl/wp-content/uploads/2016/10/Ferie-Łebno-WOK-i-Biblioteka-page-001.jpg
END:VEVENT
BEGIN:VEVENT
DTSTART;TZID=Europe/Warsaw:20190212T120000
DTEND;TZID=Europe/Warsaw:20190212T130000
DTSTAMP:20260424T005229
CREATED:20190124T142941Z
LAST-MODIFIED:20190124T142941Z
UID:4124-1549972800-1549976400@biblioteka.szemud.pl
SUMMARY:Warsztaty „Biżuteria z modeliny” w Bibliotece w Bojanie
DESCRIPTION:
URL:https://biblioteka.szemud.pl/index.php/event/warsztaty-bizuteria-z-modeliny-w-bibliotece-w-bojanie/
LOCATION:Biblioteka w Bojanie\, ul. J. Wybickiego 38\, Bojano
ATTACH;FMTTYPE=image/jpeg:https://biblioteka.szemud.pl/wp-content/uploads/2016/10/Ferie-Bojano.jpg
END:VEVENT
BEGIN:VEVENT
DTSTART;TZID=Europe/Warsaw:20190212T123000
DTEND;TZID=Europe/Warsaw:20190212T143000
DTSTAMP:20260424T005229
CREATED:20190124T125744Z
LAST-MODIFIED:20190124T125744Z
UID:4027-1549974600-1549981800@biblioteka.szemud.pl
SUMMARY:Warsztaty z ceramiki cz. I w Bibliotece i WOK Łebno
DESCRIPTION:
URL:https://biblioteka.szemud.pl/index.php/event/warsztaty-z-ceramiki-cz-i-w-bibliotece-i-wok-lebno/
LOCATION:Biblioteka w Łebnie\, ul. Kartuska 9\, Łebno
ATTACH;FMTTYPE=image/jpeg:https://biblioteka.szemud.pl/wp-content/uploads/2016/10/Ferie-Łebno-WOK-i-Biblioteka-page-001.jpg
END:VEVENT
BEGIN:VEVENT
DTSTART;TZID=Europe/Warsaw:20190212T140000
DTEND;TZID=Europe/Warsaw:20190212T150000
DTSTAMP:20260424T005230
CREATED:20190124T132719Z
LAST-MODIFIED:20190124T132719Z
UID:4061-1549980000-1549983600@biblioteka.szemud.pl
SUMMARY:Warsztaty "Biżuteria z modeliny" w Bibliotece w Szemudzie
DESCRIPTION:
URL:https://biblioteka.szemud.pl/index.php/event/warsztaty-bizuteria-z-modeliny-w-bibliotece-w-szemudzie/
LOCATION:Biblioteka w Szemudzie\, Samorządowa 1\, Szemud
ATTACH;FMTTYPE=image/jpeg:https://biblioteka.szemud.pl/wp-content/uploads/2016/10/Szemud-ferie-2019.jpg
END:VEVENT
BEGIN:VEVENT
DTSTART;TZID=Europe/Warsaw:20190212T150000
DTEND;TZID=Europe/Warsaw:20190212T170000
DTSTAMP:20260424T005230
CREATED:20190124T132901Z
LAST-MODIFIED:20190124T132901Z
UID:4063-1549983600-1549990800@biblioteka.szemud.pl
SUMMARY:Warsztaty z ceramiki cz. I w Bibliotece w Szemudzie
DESCRIPTION:
URL:https://biblioteka.szemud.pl/index.php/event/warsztaty-z-ceramiki-cz-i-w-bibliotece-w-szemudzie/
LOCATION:Biblioteka w Szemudzie\, Samorządowa 1\, Szemud
ATTACH;FMTTYPE=image/jpeg:https://biblioteka.szemud.pl/wp-content/uploads/2016/10/Szemud-ferie-2019.jpg
END:VEVENT
BEGIN:VEVENT
DTSTART;TZID=Europe/Warsaw:20190212T153000
DTEND;TZID=Europe/Warsaw:20190212T170000
DTSTAMP:20260424T005230
CREATED:20190124T133013Z
LAST-MODIFIED:20190124T133024Z
UID:4065-1549985400-1549990800@biblioteka.szemud.pl
SUMMARY:Otwarte warsztaty gitarowe w Bibliotece w Szemudzie
DESCRIPTION:
URL:https://biblioteka.szemud.pl/index.php/event/otwarte-warsztaty-gitarowe-w-bibliotece-w-szemudzie/
LOCATION:Biblioteka w Szemudzie\, Samorządowa 1\, Szemud
ATTACH;FMTTYPE=image/jpeg:https://biblioteka.szemud.pl/wp-content/uploads/2016/10/Szemud-ferie-2019.jpg
END:VEVENT
BEGIN:VEVENT
DTSTART;TZID=Europe/Warsaw:20190213T100000
DTEND;TZID=Europe/Warsaw:20190213T120000
DTSTAMP:20260424T005230
CREATED:20190124T140740Z
LAST-MODIFIED:20190213T091825Z
UID:4106-1550052000-1550059200@biblioteka.szemud.pl
SUMMARY:Warsztaty z ceramiki cz. I w Bibliotece w Kielnie
DESCRIPTION:
URL:https://biblioteka.szemud.pl/index.php/event/warsztaty-z-ceramiki-cz-i-w-bibliotece-w-w-kielnie/
LOCATION:Biblioteka w Kielnie\, ul. Oliwska 46\, Kielno
ATTACH;FMTTYPE=image/jpeg:https://biblioteka.szemud.pl/wp-content/uploads/2016/10/Ferie-Kielno.jpg
END:VEVENT
BEGIN:VEVENT
DTSTART;TZID=Europe/Warsaw:20190213T110000
DTEND;TZID=Europe/Warsaw:20190213T120000
DTSTAMP:20260424T005230
CREATED:20190124T125856Z
LAST-MODIFIED:20190124T125856Z
UID:4030-1550055600-1550059200@biblioteka.szemud.pl
SUMMARY:Warsztaty "Biżuteria z modeliny" w Bibliotece i WOK Łebno
DESCRIPTION:
URL:https://biblioteka.szemud.pl/index.php/event/warsztaty-bizuteria-z-modeliny-w-bibliotece-i-wok-lebno/
LOCATION:Biblioteka w Łebnie\, ul. Kartuska 9\, Łebno
ATTACH;FMTTYPE=image/jpeg:https://biblioteka.szemud.pl/wp-content/uploads/2016/10/Ferie-Łebno-WOK-i-Biblioteka-page-001.jpg
END:VEVENT
BEGIN:VEVENT
DTSTART;TZID=Europe/Warsaw:20190213T110000
DTEND;TZID=Europe/Warsaw:20190213T130000
DTSTAMP:20260424T005230
CREATED:20190124T135551Z
LAST-MODIFIED:20190124T135551Z
UID:4092-1550055600-1550062800@biblioteka.szemud.pl
SUMMARY:Warsztaty "Walentynkowe szaleństwo" w Bibliotece w Częstkowie
DESCRIPTION:
URL:https://biblioteka.szemud.pl/index.php/event/warsztaty-walentynkowe-szalenstwo-w-bibliotece-w-czestkowie/
LOCATION:Biblioteka w Częstkowie\, ul. Szkolna 9\, Czestkowo
ATTACH;FMTTYPE=image/jpeg:https://biblioteka.szemud.pl/wp-content/uploads/2016/10/Ferie-Częstkowo.jpg
END:VEVENT
BEGIN:VEVENT
DTSTART;TZID=Europe/Warsaw:20190213T120000
DTEND;TZID=Europe/Warsaw:20190213T130000
DTSTAMP:20260424T005230
CREATED:20190124T130002Z
LAST-MODIFIED:20190124T130002Z
UID:4032-1550059200-1550062800@biblioteka.szemud.pl
SUMMARY:Muzykowanie z gitarą w Bibliotece i WOK Łebno
DESCRIPTION:
URL:https://biblioteka.szemud.pl/index.php/event/muzykowanie-z-gitara-w-bibliotece-i-wok-lebno/
LOCATION:Biblioteka w Łebnie\, ul. Kartuska 9\, Łebno
ATTACH;FMTTYPE=image/jpeg:https://biblioteka.szemud.pl/wp-content/uploads/2016/10/Ferie-Łebno-WOK-i-Biblioteka-page-001.jpg
END:VEVENT
BEGIN:VEVENT
DTSTART;TZID=Europe/Warsaw:20190213T120000
DTEND;TZID=Europe/Warsaw:20190213T133000
DTSTAMP:20260424T005230
CREATED:20190124T133146Z
LAST-MODIFIED:20190124T133146Z
UID:4067-1550059200-1550064600@biblioteka.szemud.pl
SUMMARY:Warsztaty "Walentynkowe zdrapki" w Bibliotece w Szemudzie
DESCRIPTION:
URL:https://biblioteka.szemud.pl/index.php/event/warsztaty-walentynkowe-zdrapki-w-bibliotece-w-szemudzie/
LOCATION:Biblioteka w Szemudzie\, Samorządowa 1\, Szemud
ATTACH;FMTTYPE=image/jpeg:https://biblioteka.szemud.pl/wp-content/uploads/2016/10/Szemud-ferie-2019.jpg
END:VEVENT
BEGIN:VEVENT
DTSTART;TZID=Europe/Warsaw:20190213T133000
DTEND;TZID=Europe/Warsaw:20190213T143000
DTSTAMP:20260424T005230
CREATED:20190124T145438Z
LAST-MODIFIED:20190124T145700Z
UID:4126-1550064600-1550068200@biblioteka.szemud.pl
SUMMARY:Warsztaty z ceramiki cz. I w Bibliotece w Bojanie
DESCRIPTION:
URL:https://biblioteka.szemud.pl/index.php/event/warsztaty-z-ceramiki-cz-i-w-bibliotece-w-bojanie/
LOCATION:Biblioteka w Bojanie\, ul. J. Wybickiego 38\, Bojano
ATTACH;FMTTYPE=image/jpeg:https://biblioteka.szemud.pl/wp-content/uploads/2016/10/Ferie-Bojano.jpg
END:VEVENT
BEGIN:VEVENT
DTSTART;TZID=Europe/Warsaw:20190214T100000
DTEND;TZID=Europe/Warsaw:20190214T120000
DTSTAMP:20260424T005230
CREATED:20190124T140847Z
LAST-MODIFIED:20190124T141649Z
UID:4108-1550138400-1550145600@biblioteka.szemud.pl
SUMMARY:Planszomania w Bibliotece w Kielnie
DESCRIPTION:
URL:https://biblioteka.szemud.pl/index.php/event/planszomania-w-bibliotece-w-w-kielnie/
LOCATION:Biblioteka w Kielnie\, ul. Oliwska 46\, Kielno
ATTACH;FMTTYPE=image/jpeg:https://biblioteka.szemud.pl/wp-content/uploads/2016/10/Ferie-Kielno.jpg
END:VEVENT
BEGIN:VEVENT
DTSTART;TZID=Europe/Warsaw:20190214T110000
DTEND;TZID=Europe/Warsaw:20190214T123000
DTSTAMP:20260424T005230
CREATED:20190124T130104Z
LAST-MODIFIED:20190124T130104Z
UID:4034-1550142000-1550147400@biblioteka.szemud.pl
SUMMARY:Warsztaty walentynkowe w Bibliotece i WOK Łebno
DESCRIPTION:
URL:https://biblioteka.szemud.pl/index.php/event/warsztaty-walentynkowe-w-bibliotece-i-wok-lebno/
LOCATION:Biblioteka w Łebnie\, ul. Kartuska 9\, Łebno
ATTACH;FMTTYPE=image/jpeg:https://biblioteka.szemud.pl/wp-content/uploads/2016/10/Ferie-Łebno-WOK-i-Biblioteka-page-001.jpg
END:VEVENT
BEGIN:VEVENT
DTSTART;TZID=Europe/Warsaw:20190214T110000
DTEND;TZID=Europe/Warsaw:20190214T130000
DTSTAMP:20260424T005230
CREATED:20190124T135726Z
LAST-MODIFIED:20190124T135726Z
UID:4094-1550142000-1550149200@biblioteka.szemud.pl
SUMMARY:Warsztaty "Ozdobne mydełko - decoupage" w Bibliotece w Częstkowie
DESCRIPTION:
URL:https://biblioteka.szemud.pl/index.php/event/warsztaty-ozdobne-mydelko-decoupage-w-bibliotece-w-czestkowie/
LOCATION:Biblioteka w Częstkowie\, ul. Szkolna 9\, Czestkowo
ATTACH;FMTTYPE=image/jpeg:https://biblioteka.szemud.pl/wp-content/uploads/2016/10/Ferie-Częstkowo.jpg
END:VEVENT
BEGIN:VEVENT
DTSTART;TZID=Europe/Warsaw:20190214T120000
DTEND;TZID=Europe/Warsaw:20190214T150000
DTSTAMP:20260424T005230
CREATED:20190124T133457Z
LAST-MODIFIED:20190124T133914Z
UID:4069-1550145600-1550156400@biblioteka.szemud.pl
SUMMARY:Warsztaty z Lego Mindstorms w Bibliotece w Szemudzie
DESCRIPTION:
URL:https://biblioteka.szemud.pl/index.php/event/warsztaty-z-lego-mindstorms-w-bibliotece-w-szemudzie/
LOCATION:Biblioteka w Szemudzie\, Samorządowa 1\, Szemud
ATTACH;FMTTYPE=image/jpeg:https://biblioteka.szemud.pl/wp-content/uploads/2016/10/Szemud-ferie-2019.jpg
END:VEVENT
BEGIN:VEVENT
DTSTART;TZID=Europe/Warsaw:20190214T130000
DTEND;TZID=Europe/Warsaw:20190214T143000
DTSTAMP:20260424T005230
CREATED:20190124T145617Z
LAST-MODIFIED:20190124T145617Z
UID:4128-1550149200-1550154600@biblioteka.szemud.pl
SUMMARY:Warsztaty "Lampiony świętego Walentego" w Bibliotece w Bojanie
DESCRIPTION:
URL:https://biblioteka.szemud.pl/index.php/event/warsztaty-lampiony-swietego-walentego-w-bibliotece-w-bojanie/
LOCATION:Biblioteka w Bojanie\, ul. J. Wybickiego 38\, Bojano
ATTACH;FMTTYPE=image/jpeg:https://biblioteka.szemud.pl/wp-content/uploads/2016/10/Ferie-Bojano.jpg
END:VEVENT
END:VCALENDAR