BEGIN:VCALENDAR
VERSION:2.0
PRODID:-//Biblioteka Publiczna Gminy Szemud - ECPv6.15.20//NONSGML v1.0//EN
CALSCALE:GREGORIAN
METHOD:PUBLISH
X-ORIGINAL-URL:https://biblioteka.szemud.pl
X-WR-CALDESC:Wydarzenia dla Biblioteka Publiczna Gminy Szemud
REFRESH-INTERVAL;VALUE=DURATION:PT1H
X-Robots-Tag:noindex
X-PUBLISHED-TTL:PT1H
BEGIN:VTIMEZONE
TZID:Europe/Warsaw
BEGIN:DAYLIGHT
TZOFFSETFROM:+0100
TZOFFSETTO:+0200
TZNAME:CEST
DTSTART:20170326T010000
END:DAYLIGHT
BEGIN:STANDARD
TZOFFSETFROM:+0200
TZOFFSETTO:+0100
TZNAME:CET
DTSTART:20171029T010000
END:STANDARD
BEGIN:DAYLIGHT
TZOFFSETFROM:+0100
TZOFFSETTO:+0200
TZNAME:CEST
DTSTART:20180325T010000
END:DAYLIGHT
BEGIN:STANDARD
TZOFFSETFROM:+0200
TZOFFSETTO:+0100
TZNAME:CET
DTSTART:20181028T010000
END:STANDARD
BEGIN:DAYLIGHT
TZOFFSETFROM:+0100
TZOFFSETTO:+0200
TZNAME:CEST
DTSTART:20190331T010000
END:DAYLIGHT
BEGIN:STANDARD
TZOFFSETFROM:+0200
TZOFFSETTO:+0100
TZNAME:CET
DTSTART:20191027T010000
END:STANDARD
END:VTIMEZONE
BEGIN:VEVENT
DTSTART;TZID=Europe/Warsaw:20181112T170000
DTEND;TZID=Europe/Warsaw:20181112T190000
DTSTAMP:20260424T015619
CREATED:20181019T083149Z
LAST-MODIFIED:20181026T113620Z
UID:3570-1542042000-1542049200@biblioteka.szemud.pl
SUMMARY:Spotkanie autorskie z p. Tanią Valko w Bibliotece w Szemudzie
DESCRIPTION:
URL:https://biblioteka.szemud.pl/index.php/event/spotkanie-autorskie-z-p-tania-valko-w-bibliotece-w-szemudzie/
LOCATION:Biblioteka w Szemudzie\, Samorządowa 1\, Szemud
ATTACH;FMTTYPE=image/jpeg:https://biblioteka.szemud.pl/wp-content/uploads/2016/10/Sp.-T.-Valko.jpg
END:VEVENT
BEGIN:VEVENT
DTSTART;TZID=Europe/Warsaw:20181114T090000
DTEND;TZID=Europe/Warsaw:20181114T113000
DTSTAMP:20260424T015619
CREATED:20181107T094331Z
LAST-MODIFIED:20181107T120939Z
UID:3667-1542186000-1542195000@biblioteka.szemud.pl
SUMMARY:"Dzień w Świecie Baśni" w Bibliotece w Szemudzie
DESCRIPTION:
URL:https://biblioteka.szemud.pl/index.php/event/dzien-w-swiecie-basni-w-bibliotece-w-szemudzie/
LOCATION:Biblioteka w Szemudzie\, Samorządowa 1\, Szemud
ATTACH;FMTTYPE=image/jpeg:https://biblioteka.szemud.pl/wp-content/uploads/2016/10/Dzień-w-świecie-basni-Szemud.jpg
END:VEVENT
BEGIN:VEVENT
DTSTART;TZID=Europe/Warsaw:20181115T103000
DTEND;TZID=Europe/Warsaw:20181115T123000
DTSTAMP:20260424T015619
CREATED:20181107T101149Z
LAST-MODIFIED:20181107T101149Z
UID:3671-1542277800-1542285000@biblioteka.szemud.pl
SUMMARY:Warsztaty „Rozmaitości szydełkowe” w Bibliotece w Kielnie
DESCRIPTION:
URL:https://biblioteka.szemud.pl/index.php/event/warsztaty-rozmaitosci-szydelkowe-w-bibliotece-w-kielnie-3/
LOCATION:Biblioteka w Kielnie\, ul. Oliwska 46\, Kielno
ATTACH;FMTTYPE=image/jpeg:https://biblioteka.szemud.pl/wp-content/uploads/2016/10/szydełkowanie-Kielno.jpg
END:VEVENT
BEGIN:VEVENT
DTSTART;TZID=Europe/Warsaw:20181120T160000
DTEND;TZID=Europe/Warsaw:20181120T180000
DTSTAMP:20260424T015619
CREATED:20181107T101512Z
LAST-MODIFIED:20181107T101512Z
UID:3675-1542729600-1542736800@biblioteka.szemud.pl
SUMMARY:Warsztaty "Anioły z masy solnej" w Bibliotece w Bojanie
DESCRIPTION:
URL:https://biblioteka.szemud.pl/index.php/event/warsztaty-anioly-z-masy-solnej-w-bibliotece-w-bojanie/
LOCATION:Biblioteka w Bojanie\, ul. J. Wybickiego 38\, Bojano
ATTACH;FMTTYPE=image/jpeg:https://biblioteka.szemud.pl/wp-content/uploads/2016/10/warsztaty-Bojano.jpg
END:VEVENT
BEGIN:VEVENT
DTSTART;TZID=Europe/Warsaw:20181120T170000
DTEND;TZID=Europe/Warsaw:20181120T190000
DTSTAMP:20260424T015619
CREATED:20181107T102010Z
LAST-MODIFIED:20181107T102010Z
UID:3681-1542733200-1542740400@biblioteka.szemud.pl
SUMMARY:Warsztaty „Jesienne sowy - breloczek” w Bibliotece w Szemudzie
DESCRIPTION:
URL:https://biblioteka.szemud.pl/index.php/event/warsztaty-jesienne-sowy-breloczek-w-bibliotece-w-szemudzie/
ATTACH;FMTTYPE=image/png:https://biblioteka.szemud.pl/wp-content/uploads/2016/10/breloczek-Szemud.png
END:VEVENT
BEGIN:VEVENT
DTSTART;TZID=Europe/Warsaw:20181121T140000
DTEND;TZID=Europe/Warsaw:20181121T150000
DTSTAMP:20260424T015619
CREATED:20181107T101621Z
LAST-MODIFIED:20181107T102916Z
UID:3677-1542808800-1542812400@biblioteka.szemud.pl
SUMMARY:Warsztaty „Jesienne pejzaże” w Bibliotece w Bojanie
DESCRIPTION:
URL:https://biblioteka.szemud.pl/index.php/event/warsztaty-jesienne-pejzaze-w-bibliotece-w-bojanie/
LOCATION:Biblioteka w Bojanie\, ul. J. Wybickiego 38\, Bojano
ATTACH;FMTTYPE=image/jpeg:https://biblioteka.szemud.pl/wp-content/uploads/2016/10/warsztaty-Bojano.jpg
END:VEVENT
BEGIN:VEVENT
DTSTART;TZID=Europe/Warsaw:20181122T093000
DTEND;TZID=Europe/Warsaw:20181122T113000
DTSTAMP:20260424T015619
CREATED:20181116T101927Z
LAST-MODIFIED:20181116T102252Z
UID:3707-1542879000-1542886200@biblioteka.szemud.pl
SUMMARY:Wykład "Jak pielęgnować swój organizm od wewnątrz" w Bibliotece w Kielnie
DESCRIPTION:
URL:https://biblioteka.szemud.pl/index.php/event/wyklad-jak-pielegnowac-swoj-organizm-od-wewnatrz-w-bibliotece-w-kielnie/
LOCATION:Biblioteka w Kielnie\, ul. Oliwska 46\, Kielno
ATTACH;FMTTYPE=image/jpeg:https://biblioteka.szemud.pl/wp-content/uploads/2016/10/aloes.jpg
END:VEVENT
BEGIN:VEVENT
DTSTART;TZID=Europe/Warsaw:20181122T130000
DTEND;TZID=Europe/Warsaw:20181122T150000
DTSTAMP:20260424T015619
CREATED:20181116T102218Z
LAST-MODIFIED:20181116T102218Z
UID:3710-1542891600-1542898800@biblioteka.szemud.pl
SUMMARY:Wykład "Jak pielęgnować swój organizm od wewnątrz" w Bibliotece w Bojanie
DESCRIPTION:
URL:https://biblioteka.szemud.pl/index.php/event/wyklad-jak-pielegnowac-swoj-organizm-od-wewnatrz-w-bibliotece-w-bojanie/
LOCATION:Biblioteka w Bojanie\, ul. J. Wybickiego 38\, Bojano
ATTACH;FMTTYPE=image/jpeg:https://biblioteka.szemud.pl/wp-content/uploads/2016/10/aloes.jpg
END:VEVENT
BEGIN:VEVENT
DTSTART;TZID=Europe/Warsaw:20181122T160000
DTEND;TZID=Europe/Warsaw:20181122T180000
DTSTAMP:20260424T015619
CREATED:20181107T102341Z
LAST-MODIFIED:20181107T102749Z
UID:3686-1542902400-1542909600@biblioteka.szemud.pl
SUMMARY:Warsztaty „Rozmaitości szydełkowe” w Bibliotece w Bojanie
DESCRIPTION:
URL:https://biblioteka.szemud.pl/index.php/event/warsztaty-rozmaitosci-szydelkowe-w-bibliotece-w-bojanie-4/
LOCATION:Biblioteka w Bojanie\, ul. J. Wybickiego 38\, Bojano
ATTACH;FMTTYPE=image/jpeg:https://biblioteka.szemud.pl/wp-content/uploads/2016/10/szydełkowanie-Bojano-1.jpg
END:VEVENT
BEGIN:VEVENT
DTSTART;TZID=Europe/Warsaw:20181123T110000
DTEND;TZID=Europe/Warsaw:20181123T130000
DTSTAMP:20260424T015619
CREATED:20181116T102329Z
LAST-MODIFIED:20181116T102329Z
UID:3713-1542970800-1542978000@biblioteka.szemud.pl
SUMMARY:Wykład "Jak pielęgnować swój organizm od wewnątrz" w Bibliotece w Szemudzie
DESCRIPTION:
URL:https://biblioteka.szemud.pl/index.php/event/wyklad-jak-pielegnowac-swoj-organizm-od-wewnatrz-w-bibliotece-w-szemudzie/
LOCATION:Biblioteka w Szemudzie\, Samorządowa 1\, Szemud
ATTACH;FMTTYPE=image/jpeg:https://biblioteka.szemud.pl/wp-content/uploads/2016/10/aloes.jpg
END:VEVENT
BEGIN:VEVENT
DTSTART;TZID=Europe/Warsaw:20181127T090000
DTEND;TZID=Europe/Warsaw:20181127T103000
DTSTAMP:20260424T015619
CREATED:20181116T102657Z
LAST-MODIFIED:20181116T102657Z
UID:3717-1543309200-1543314600@biblioteka.szemud.pl
SUMMARY:Spotkanie "Jak zostać podróżnikiem?" w Bibliotece w Bojanie
DESCRIPTION:
URL:https://biblioteka.szemud.pl/index.php/event/spotkanie-jak-zostac-podroznikiem-w-bibliotece-w-bojanie/
LOCATION:Biblioteka w Bojanie\, ul. J. Wybickiego 38\, Bojano
ATTACH;FMTTYPE=image/jpeg:https://biblioteka.szemud.pl/wp-content/uploads/2016/10/National-Geographic.jpg
END:VEVENT
BEGIN:VEVENT
DTSTART;TZID=Europe/Warsaw:20181127T110000
DTEND;TZID=Europe/Warsaw:20181127T123000
DTSTAMP:20260424T015619
CREATED:20181116T102952Z
LAST-MODIFIED:20181116T102952Z
UID:3719-1543316400-1543321800@biblioteka.szemud.pl
SUMMARY:Spotkanie "Jak zostać podróżnikiem?" w Bibliotece w Kielnie
DESCRIPTION:
URL:https://biblioteka.szemud.pl/index.php/event/spotkanie-jak-zostac-podroznikiem-w-bibliotece-w-kielnie/
LOCATION:Biblioteka w Kielnie\, ul. Oliwska 46\, Kielno
ATTACH;FMTTYPE=image/jpeg:https://biblioteka.szemud.pl/wp-content/uploads/2016/10/National-Geographic.jpg
END:VEVENT
BEGIN:VEVENT
DTSTART;TZID=Europe/Warsaw:20181127T153000
DTEND;TZID=Europe/Warsaw:20181127T170000
DTSTAMP:20260424T015619
CREATED:20181116T105120Z
LAST-MODIFIED:20181116T105120Z
UID:3729-1543332600-1543338000@biblioteka.szemud.pl
SUMMARY:Zajęcia manualne dla dzieci "Ozdoby adwentowe" w Bibliotece w Kielnie
DESCRIPTION:
URL:https://biblioteka.szemud.pl/index.php/event/zajecia-manualne-dla-dzieci-ozdoby-adwentowe-w-bibliotece-w-kielnie/
LOCATION:Biblioteka w Kielnie\, ul. Oliwska 46\, Kielno
ATTACH;FMTTYPE=image/jpeg:https://biblioteka.szemud.pl/wp-content/uploads/2016/10/ozdoby-adwentowe-Kielno.jpg
END:VEVENT
BEGIN:VEVENT
DTSTART;TZID=Europe/Warsaw:20181128T080000
DTEND;TZID=Europe/Warsaw:20181128T093000
DTSTAMP:20260424T015619
CREATED:20181116T103119Z
LAST-MODIFIED:20181116T103119Z
UID:3721-1543392000-1543397400@biblioteka.szemud.pl
SUMMARY:Spotkanie "Jak zostać podróżnikiem?" w Bibliotece w Częstkowie
DESCRIPTION:
URL:https://biblioteka.szemud.pl/index.php/event/spotkanie-jak-zostac-podroznikiem-w-bibliotece-w-czestkowie/
LOCATION:Biblioteka w Częstkowie\, ul. Szkolna 9\, Czestkowo
ATTACH;FMTTYPE=image/jpeg:https://biblioteka.szemud.pl/wp-content/uploads/2016/10/National-Geographic.jpg
END:VEVENT
BEGIN:VEVENT
DTSTART;TZID=Europe/Warsaw:20181128T100000
DTEND;TZID=Europe/Warsaw:20181128T113000
DTSTAMP:20260424T015619
CREATED:20181116T103319Z
LAST-MODIFIED:20181116T103319Z
UID:3723-1543399200-1543404600@biblioteka.szemud.pl
SUMMARY:Spotkanie "Jak zostać podróżnikiem?" w Bibliotece w Łebnie
DESCRIPTION:
URL:https://biblioteka.szemud.pl/index.php/event/spotkanie-jak-zostac-podroznikiem-w-bibliotece-w-lebnie/
LOCATION:Biblioteka w Łebnie\, ul. Kartuska 9\, Łebno
ATTACH;FMTTYPE=image/jpeg:https://biblioteka.szemud.pl/wp-content/uploads/2016/10/National-Geographic.jpg
END:VEVENT
BEGIN:VEVENT
DTSTART;TZID=Europe/Warsaw:20181128T120000
DTEND;TZID=Europe/Warsaw:20181128T133000
DTSTAMP:20260424T015619
CREATED:20181116T103425Z
LAST-MODIFIED:20181116T104748Z
UID:3725-1543406400-1543411800@biblioteka.szemud.pl
SUMMARY:Spotkanie "Jak zostać podróżnikiem?" w Bibliotece w Szemudzie
DESCRIPTION:
URL:https://biblioteka.szemud.pl/index.php/event/spotkanie-jak-zostac-podroznikiem-w-bibliotece-w-szemudzie/
LOCATION:Biblioteka w Szemudzie\, Samorządowa 1\, Szemud
ATTACH;FMTTYPE=image/jpeg:https://biblioteka.szemud.pl/wp-content/uploads/2016/10/National-Geographic.jpg
END:VEVENT
BEGIN:VEVENT
DTSTART;TZID=Europe/Warsaw:20181129T120000
DTEND;TZID=Europe/Warsaw:20181129T133000
DTSTAMP:20260424T015619
CREATED:20181116T105245Z
LAST-MODIFIED:20181116T105245Z
UID:3731-1543492800-1543498200@biblioteka.szemud.pl
SUMMARY:Zajęcia manualne dla dorosłych „Ozdoby adwentowe” w Bibliotece w Kielnie
DESCRIPTION:
URL:https://biblioteka.szemud.pl/index.php/event/zajecia-manualne-dla-doroslych-ozdoby-adwentowe-w-bibliotece-w-kielnie/
LOCATION:Biblioteka w Kielnie\, ul. Oliwska 46\, Kielno
ATTACH;FMTTYPE=image/jpeg:https://biblioteka.szemud.pl/wp-content/uploads/2016/10/ozdoby-adwentowe-Kielno.jpg
END:VEVENT
BEGIN:VEVENT
DTSTART;TZID=Europe/Warsaw:20181129T160000
DTEND;TZID=Europe/Warsaw:20181129T173000
DTSTAMP:20260424T015619
CREATED:20181116T105439Z
LAST-MODIFIED:20181116T105801Z
UID:3733-1543507200-1543512600@biblioteka.szemud.pl
SUMMARY:Zajęcia manualne „Stroik adwentowy” w Bibliotece w Częstkowie
DESCRIPTION:
URL:https://biblioteka.szemud.pl/index.php/event/zajecia-manualne-stroik-adwentowy-w-bibliotece-w-czestkowie/
ATTACH;FMTTYPE=image/jpeg:https://biblioteka.szemud.pl/wp-content/uploads/2018/11/stroik-Częstkowo.jpg
END:VEVENT
BEGIN:VEVENT
DTSTART;TZID=Europe/Warsaw:20181203T150000
DTEND;TZID=Europe/Warsaw:20181203T170000
DTSTAMP:20260424T015619
CREATED:20181126T093542Z
LAST-MODIFIED:20181126T093542Z
UID:3851-1543849200-1543856400@biblioteka.szemud.pl
SUMMARY:Warsztaty świąteczne "Magiczne gwiazdki" w Bibliotece w Częstkowie
DESCRIPTION:
URL:https://biblioteka.szemud.pl/index.php/event/warsztaty-swiateczne-magiczne-gwiazdki-w-bibliotece-w-czestkowie/
LOCATION:Biblioteka w Częstkowie\, ul. Szkolna 9\, Czestkowo
ATTACH;FMTTYPE=image/jpeg:https://biblioteka.szemud.pl/wp-content/uploads/2016/10/Warsztaty-Częstkowo.jpg
END:VEVENT
BEGIN:VEVENT
DTSTART;TZID=Europe/Warsaw:20181204T160000
DTEND;TZID=Europe/Warsaw:20181204T180000
DTSTAMP:20260424T015619
CREATED:20181126T094457Z
LAST-MODIFIED:20181126T094457Z
UID:3857-1543939200-1543946400@biblioteka.szemud.pl
SUMMARY:Warsztaty świąteczne „Wieniec” w Bibliotece w Bojanie
DESCRIPTION:
URL:https://biblioteka.szemud.pl/index.php/event/warsztaty-swiateczne-wieniec-w-bibliotece-w-bojanie/
LOCATION:Biblioteka w Bojanie\, ul. J. Wybickiego 38\, Bojano
ATTACH;FMTTYPE=image/jpeg:https://biblioteka.szemud.pl/wp-content/uploads/2016/10/Warsztaty-Bojano.jpg
END:VEVENT
BEGIN:VEVENT
DTSTART;TZID=Europe/Warsaw:20181205T140000
DTEND;TZID=Europe/Warsaw:20181205T153000
DTSTAMP:20260424T015619
CREATED:20181126T094638Z
LAST-MODIFIED:20181126T094638Z
UID:3859-1544018400-1544023800@biblioteka.szemud.pl
SUMMARY:Warsztaty świąteczne „Bombki” w Bibliotece w Bojanie
DESCRIPTION:
URL:https://biblioteka.szemud.pl/index.php/event/warsztaty-swiateczne-bombki-w-bibliotece-w-bojanie/
LOCATION:Biblioteka w Bojanie\, ul. J. Wybickiego 38\, Bojano
ATTACH;FMTTYPE=image/jpeg:https://biblioteka.szemud.pl/wp-content/uploads/2016/10/Warsztaty-Bojano.jpg
END:VEVENT
BEGIN:VEVENT
DTSTART;TZID=Europe/Warsaw:20181206T083000
DTEND;TZID=Europe/Warsaw:20181206T093000
DTSTAMP:20260424T015619
CREATED:20181126T095129Z
LAST-MODIFIED:20181126T095201Z
UID:3863-1544085000-1544088600@biblioteka.szemud.pl
SUMMARY:Teatrzyk mikołajkowy "Nadchodzące Święta każdy zapamięta" w Bibliotece w Częstkowie
DESCRIPTION:
URL:https://biblioteka.szemud.pl/index.php/event/teatrzyk-mikolajkowy-nadchodzace-swieta-kazdy-zapamieta/
LOCATION:Biblioteka w Częstkowie\, ul. Szkolna 9\, Czestkowo
ATTACH;FMTTYPE=image/jpeg:https://biblioteka.szemud.pl/wp-content/uploads/2016/10/teatrzyk-mikołajkowy.jpg
END:VEVENT
BEGIN:VEVENT
DTSTART;TZID=Europe/Warsaw:20181206T112000
DTEND;TZID=Europe/Warsaw:20181206T122000
DTSTAMP:20260424T015619
CREATED:20181126T095325Z
LAST-MODIFIED:20181126T095325Z
UID:3868-1544095200-1544098800@biblioteka.szemud.pl
SUMMARY:Teatrzyk mikołajkowy "Nadchodzące Święta każdy zapamięta" w Bibliotece w Szemudzie
DESCRIPTION:
URL:https://biblioteka.szemud.pl/index.php/event/teatrzyk-mikolajkowy-nadchodzace-swieta-kazdy-zapamieta-w-bibliotece-w-szemudzie/
LOCATION:Biblioteka w Szemudzie\, Samorządowa 1\, Szemud
ATTACH;FMTTYPE=image/jpeg:https://biblioteka.szemud.pl/wp-content/uploads/2016/10/teatrzyk-mikołajkowy.jpg
END:VEVENT
BEGIN:VEVENT
DTSTART;TZID=Europe/Warsaw:20181206T123000
DTEND;TZID=Europe/Warsaw:20181206T133000
DTSTAMP:20260424T015619
CREATED:20181126T095421Z
LAST-MODIFIED:20181126T095421Z
UID:3870-1544099400-1544103000@biblioteka.szemud.pl
SUMMARY:Teatrzyk mikołajkowy "Nadchodzące Święta każdy zapamięta" w Bibliotece w Łebnie
DESCRIPTION:
URL:https://biblioteka.szemud.pl/index.php/event/teatrzyk-mikolajkowy-nadchodzace-swieta-kazdy-zapamieta-w-bibliotece-w-lebnie/
LOCATION:Biblioteka w Łebnie\, ul. Kartuska 9\, Łebno
ATTACH;FMTTYPE=image/jpeg:https://biblioteka.szemud.pl/wp-content/uploads/2016/10/teatrzyk-mikołajkowy.jpg
END:VEVENT
BEGIN:VEVENT
DTSTART;TZID=Europe/Warsaw:20181210T170000
DTEND;TZID=Europe/Warsaw:20181210T190000
DTSTAMP:20260424T015619
CREATED:20181126T100111Z
LAST-MODIFIED:20181126T100111Z
UID:3879-1544461200-1544468400@biblioteka.szemud.pl
SUMMARY:Warsztaty świąteczne „Bombki - zdobienie metodą decoupage” w Bibliotece w Szemudzie
DESCRIPTION:
URL:https://biblioteka.szemud.pl/index.php/event/warsztaty-swiateczne-bombki-zdobienie-metoda-decoupage-w-bibliotece-w-szemudzie/
LOCATION:Biblioteka w Szemudzie\, Samorządowa 1\, Szemud
ATTACH;FMTTYPE=image/jpeg:https://biblioteka.szemud.pl/wp-content/uploads/2016/10/warsztaty-świąteczne-Szemud.jpg
END:VEVENT
BEGIN:VEVENT
DTSTART;TZID=Europe/Warsaw:20181211T160000
DTEND;TZID=Europe/Warsaw:20181211T170000
DTSTAMP:20260424T015619
CREATED:20181126T100507Z
LAST-MODIFIED:20181126T100546Z
UID:3885-1544544000-1544547600@biblioteka.szemud.pl
SUMMARY:Warsztaty świąteczne „Ozdoby choinkowe” w Bibliotece w Kielnie
DESCRIPTION:
URL:https://biblioteka.szemud.pl/index.php/event/warsztaty-swiateczne-ozdoby-choinkowe-w-bibliotece-w-kielnie/
LOCATION:Biblioteka w Kielnie\, ul. Oliwska 46\, Kielno
ATTACH;FMTTYPE=image/jpeg:https://biblioteka.szemud.pl/wp-content/uploads/2016/10/Warsztaty-Kielno.jpg
END:VEVENT
BEGIN:VEVENT
DTSTART;TZID=Europe/Warsaw:20181213T120000
DTEND;TZID=Europe/Warsaw:20181213T130000
DTSTAMP:20260424T015619
CREATED:20181126T095517Z
LAST-MODIFIED:20181126T095517Z
UID:3872-1544702400-1544706000@biblioteka.szemud.pl
SUMMARY:Teatrzyk mikołajkowy "Nadchodzące Święta każdy zapamięta" w Bibliotece w Kielnie
DESCRIPTION:
URL:https://biblioteka.szemud.pl/index.php/event/teatrzyk-mikolajkowy-nadchodzace-swieta-kazdy-zapamieta-w-bibliotece-w-kielnie/
LOCATION:Biblioteka w Kielnie\, ul. Oliwska 46\, Kielno
ATTACH;FMTTYPE=image/jpeg:https://biblioteka.szemud.pl/wp-content/uploads/2016/10/teatrzyk-mikołajkowy.jpg
END:VEVENT
BEGIN:VEVENT
DTSTART;TZID=Europe/Warsaw:20181213T133000
DTEND;TZID=Europe/Warsaw:20181213T143000
DTSTAMP:20260424T015619
CREATED:20181126T095610Z
LAST-MODIFIED:20181126T095610Z
UID:3874-1544707800-1544711400@biblioteka.szemud.pl
SUMMARY:Teatrzyk mikołajkowy "Nadchodzące Święta każdy zapamięta" w Bibliotece w Bojanie
DESCRIPTION:
URL:https://biblioteka.szemud.pl/index.php/event/teatrzyk-mikolajkowy-nadchodzace-swieta-kazdy-zapamieta-w-bibliotece-w-bojanie/
LOCATION:Biblioteka w Bojanie\, ul. J. Wybickiego 38\, Bojano
ATTACH;FMTTYPE=image/jpeg:https://biblioteka.szemud.pl/wp-content/uploads/2016/10/teatrzyk-mikołajkowy.jpg
END:VEVENT
BEGIN:VEVENT
DTSTART;TZID=Europe/Warsaw:20181213T160000
DTEND;TZID=Europe/Warsaw:20181213T173000
DTSTAMP:20260424T015619
CREATED:20181126T093720Z
LAST-MODIFIED:20181126T094056Z
UID:3853-1544716800-1544722200@biblioteka.szemud.pl
SUMMARY:Warsztaty świąteczne "Bombki z decoupage" w Bibliotece w Częstkowie
DESCRIPTION:
URL:https://biblioteka.szemud.pl/index.php/event/warsztaty-swiateczne-bombki-z-decoupage-w-bibliotece-w-czestkowie/
LOCATION:Biblioteka w Częstkowie\, ul. Szkolna 9\, Czestkowo
ATTACH;FMTTYPE=image/jpeg:https://biblioteka.szemud.pl/wp-content/uploads/2016/10/Warsztaty-Częstkowo.jpg
END:VEVENT
BEGIN:VEVENT
DTSTART;TZID=Europe/Warsaw:20181213T190000
DTEND;TZID=Europe/Warsaw:20181213T210000
DTSTAMP:20260424T015619
CREATED:20181203T113818Z
LAST-MODIFIED:20181203T113828Z
UID:3898-1544727600-1544734800@biblioteka.szemud.pl
SUMMARY:Koncert patriotyczny w Bibliotece w Szemudzie
DESCRIPTION:
URL:https://biblioteka.szemud.pl/index.php/event/koncert-patriotyczny-w-bibliotece-w-szemudzie/
LOCATION:Biblioteka w Szemudzie\, Samorządowa 1\, Szemud
ATTACH;FMTTYPE=image/jpeg:https://biblioteka.szemud.pl/wp-content/uploads/2016/10/koncert-Szemud.jpg
END:VEVENT
END:VCALENDAR