BEGIN:VCALENDAR
VERSION:2.0
PRODID:-//Biblioteka Publiczna Gminy Szemud - ECPv6.15.20//NONSGML v1.0//EN
CALSCALE:GREGORIAN
METHOD:PUBLISH
X-ORIGINAL-URL:https://biblioteka.szemud.pl
X-WR-CALDESC:Wydarzenia dla Biblioteka Publiczna Gminy Szemud
REFRESH-INTERVAL;VALUE=DURATION:PT1H
X-Robots-Tag:noindex
X-PUBLISHED-TTL:PT1H
BEGIN:VTIMEZONE
TZID:Europe/Warsaw
BEGIN:DAYLIGHT
TZOFFSETFROM:+0100
TZOFFSETTO:+0200
TZNAME:CEST
DTSTART:20170326T010000
END:DAYLIGHT
BEGIN:STANDARD
TZOFFSETFROM:+0200
TZOFFSETTO:+0100
TZNAME:CET
DTSTART:20171029T010000
END:STANDARD
BEGIN:DAYLIGHT
TZOFFSETFROM:+0100
TZOFFSETTO:+0200
TZNAME:CEST
DTSTART:20180325T010000
END:DAYLIGHT
BEGIN:STANDARD
TZOFFSETFROM:+0200
TZOFFSETTO:+0100
TZNAME:CET
DTSTART:20181028T010000
END:STANDARD
BEGIN:DAYLIGHT
TZOFFSETFROM:+0100
TZOFFSETTO:+0200
TZNAME:CEST
DTSTART:20190331T010000
END:DAYLIGHT
BEGIN:STANDARD
TZOFFSETFROM:+0200
TZOFFSETTO:+0100
TZNAME:CET
DTSTART:20191027T010000
END:STANDARD
END:VTIMEZONE
BEGIN:VEVENT
DTSTART;TZID=Europe/Warsaw:20180919T140000
DTEND;TZID=Europe/Warsaw:20180919T153000
DTSTAMP:20260424T042604
CREATED:20180912T130014Z
LAST-MODIFIED:20180912T130014Z
UID:3414-1537365600-1537371000@biblioteka.szemud.pl
SUMMARY:Warsztaty "Kaktusy" w Bibliotece w Bojanie
DESCRIPTION:
URL:https://biblioteka.szemud.pl/index.php/event/warsztaty-kaktusy-w-bibliotece-w-bojanie/
LOCATION:Biblioteka w Bojanie\, ul. J. Wybickiego 38\, Bojano
ATTACH;FMTTYPE=image/jpeg:https://biblioteka.szemud.pl/wp-content/uploads/2016/10/kaktusy.jpg
END:VEVENT
BEGIN:VEVENT
DTSTART;TZID=Europe/Warsaw:20180927T100000
DTEND;TZID=Europe/Warsaw:20180927T120000
DTSTAMP:20260424T042604
CREATED:20180831T103814Z
LAST-MODIFIED:20180831T103814Z
UID:3371-1538042400-1538049600@biblioteka.szemud.pl
SUMMARY:Przegląd Polskiej Piosenki w Bibliotece w Szemudzie
DESCRIPTION:
URL:https://biblioteka.szemud.pl/index.php/event/przeglad-polskiej-piosenki-w-bibliotece-w-szemudzie/
LOCATION:Biblioteka w Szemudzie\, Samorządowa 1\, Szemud
ATTACH;FMTTYPE=image/jpeg:https://biblioteka.szemud.pl/wp-content/uploads/2016/10/przegląd-polskiej-piosenki.jpg
END:VEVENT
BEGIN:VEVENT
DTSTART;TZID=Europe/Warsaw:20181002T170000
DTEND;TZID=Europe/Warsaw:20181002T190000
DTSTAMP:20260424T042604
CREATED:20180831T104252Z
LAST-MODIFIED:20181026T092419Z
UID:3376-1538499600-1538506800@biblioteka.szemud.pl
SUMMARY:"Belny wic" w Bibliotece w Szemudzie
DESCRIPTION:
URL:https://biblioteka.szemud.pl/index.php/event/konkurs-belny-wic-w-bibliotece-w-szemudzie/
LOCATION:Biblioteka w Szemudzie\, Samorządowa 1\, Szemud
ATTACH;FMTTYPE=image/jpeg:https://biblioteka.szemud.pl/wp-content/uploads/2016/10/Belny-wic.jpg
END:VEVENT
BEGIN:VEVENT
DTSTART;TZID=Europe/Warsaw:20181004T120000
DTEND;TZID=Europe/Warsaw:20181004T140000
DTSTAMP:20260424T042604
CREATED:20180926T131756Z
LAST-MODIFIED:20180926T131756Z
UID:3481-1538654400-1538661600@biblioteka.szemud.pl
SUMMARY:Warsztaty „Rozmaitości szydełkowe” w Bibliotece w Kielnie
DESCRIPTION:
URL:https://biblioteka.szemud.pl/index.php/event/warsztaty-rozmaitosci-szydelkowe-w-bibliotece-w-kielnie-2/
LOCATION:Biblioteka w Kielnie\, ul. Oliwska 46\, Kielno
ATTACH;FMTTYPE=image/png:https://biblioteka.szemud.pl/wp-content/uploads/2016/10/Szydełkowanie-Kielno.png
END:VEVENT
BEGIN:VEVENT
DTSTART;TZID=Europe/Warsaw:20181009T153000
DTEND;TZID=Europe/Warsaw:20181009T170000
DTSTAMP:20260424T042604
CREATED:20180927T114413Z
LAST-MODIFIED:20180927T114553Z
UID:3486-1539099000-1539104400@biblioteka.szemud.pl
SUMMARY:Zajęcia manualne "Breloczek do kluczy" w Bibliotece w Kielnie
DESCRIPTION:
URL:https://biblioteka.szemud.pl/index.php/event/zajecia-manualne-breloczek-do-kluczy-w-bibliotece-w-kielnie/
LOCATION:Biblioteka w Kielnie\, ul. Oliwska 46\, Kielno
ATTACH;FMTTYPE=image/png:https://biblioteka.szemud.pl/wp-content/uploads/2016/10/breloczki-Kielno.png
END:VEVENT
BEGIN:VEVENT
DTSTART;TZID=Europe/Warsaw:20181009T160000
DTEND;TZID=Europe/Warsaw:20181009T180000
DTSTAMP:20260424T042604
CREATED:20180928T112029Z
LAST-MODIFIED:20180928T112029Z
UID:3492-1539100800-1539108000@biblioteka.szemud.pl
SUMMARY:Warsztaty "Łapacze snów" dla dorosłych w Bibliotece w Bojanie
DESCRIPTION:
URL:https://biblioteka.szemud.pl/index.php/event/warsztaty-lapacze-snow-dla-doroslych-w-bibliotece-w-bojanie/
LOCATION:Biblioteka w Bojanie\, ul. J. Wybickiego 38\, Bojano
ATTACH;FMTTYPE=image/jpeg:https://biblioteka.szemud.pl/wp-content/uploads/2016/10/Łapacze-snów-Bojano.jpg
END:VEVENT
BEGIN:VEVENT
DTSTART;TZID=Europe/Warsaw:20181009T170000
DTEND;TZID=Europe/Warsaw:20181009T183000
DTSTAMP:20260424T042604
CREATED:20180928T112712Z
LAST-MODIFIED:20180928T112712Z
UID:3498-1539104400-1539109800@biblioteka.szemud.pl
SUMMARY:Warsztaty "Lampiony" w Bibliotece w Szemudzie
DESCRIPTION:
URL:https://biblioteka.szemud.pl/index.php/event/warsztaty-lampiony-w-bibliotece-w-szemudzie/
LOCATION:Biblioteka w Szemudzie\, Samorządowa 1\, Szemud
ATTACH;FMTTYPE=image/jpeg:https://biblioteka.szemud.pl/wp-content/uploads/2016/10/lampiony.jpg
END:VEVENT
BEGIN:VEVENT
DTSTART;TZID=Europe/Warsaw:20181010T140000
DTEND;TZID=Europe/Warsaw:20181010T160000
DTSTAMP:20260424T042604
CREATED:20180928T112140Z
LAST-MODIFIED:20180928T112140Z
UID:3494-1539180000-1539187200@biblioteka.szemud.pl
SUMMARY:Warsztaty „Łapacze snów” dla dzieci w Bibliotece w Bojanie
DESCRIPTION:
URL:https://biblioteka.szemud.pl/index.php/event/warsztaty-lapacze-snow-dla-dzieci-w-bibliotece-w-bojanie/
LOCATION:Biblioteka w Bojanie\, ul. J. Wybickiego 38\, Bojano
ATTACH;FMTTYPE=image/jpeg:https://biblioteka.szemud.pl/wp-content/uploads/2016/10/Łapacze-snów-Bojano.jpg
END:VEVENT
BEGIN:VEVENT
DTSTART;TZID=Europe/Warsaw:20181011T090000
DTEND;TZID=Europe/Warsaw:20181011T103000
DTSTAMP:20260424T042604
CREATED:20181004T134321Z
LAST-MODIFIED:20181004T134541Z
UID:3504-1539248400-1539253800@biblioteka.szemud.pl
SUMMARY:Warsztaty patriotyczne w Bibliotece w Kielnie
DESCRIPTION:
URL:https://biblioteka.szemud.pl/index.php/event/warsztaty-patriotyczne-w-bibliotece-w-kielnie/
LOCATION:Biblioteka w Kielnie\, ul. Oliwska 46\, Kielno
ATTACH;FMTTYPE=image/png:https://biblioteka.szemud.pl/wp-content/uploads/2016/10/warsztaty-patriotyczne.png
END:VEVENT
BEGIN:VEVENT
DTSTART;TZID=Europe/Warsaw:20181011T111500
DTEND;TZID=Europe/Warsaw:20181011T124500
DTSTAMP:20260424T042604
CREATED:20181004T134644Z
LAST-MODIFIED:20181004T134644Z
UID:3507-1539256500-1539261900@biblioteka.szemud.pl
SUMMARY:Warsztaty patriotyczne w Bibliotece w Bojanie
DESCRIPTION:
URL:https://biblioteka.szemud.pl/index.php/event/warsztaty-patriotyczne-w-bibliotece-w-bojanie/
LOCATION:Biblioteka w Bojanie\, ul. J. Wybickiego 38\, Bojano
ATTACH;FMTTYPE=image/png:https://biblioteka.szemud.pl/wp-content/uploads/2016/10/warsztaty-patriotyczne.png
END:VEVENT
BEGIN:VEVENT
DTSTART;TZID=Europe/Warsaw:20181012T080000
DTEND;TZID=Europe/Warsaw:20181012T093000
DTSTAMP:20260424T042604
CREATED:20181004T134804Z
LAST-MODIFIED:20181004T134804Z
UID:3510-1539331200-1539336600@biblioteka.szemud.pl
SUMMARY:Warsztaty patriotyczne w Bibliotece w Częstkowie
DESCRIPTION:
URL:https://biblioteka.szemud.pl/index.php/event/warsztaty-patriotyczne-w-bibliotece-w-czestkowie/
LOCATION:Biblioteka w Częstkowie\, ul. Szkolna 9\, Czestkowo
ATTACH;FMTTYPE=image/png:https://biblioteka.szemud.pl/wp-content/uploads/2016/10/warsztaty-patriotyczne.png
END:VEVENT
BEGIN:VEVENT
DTSTART;TZID=Europe/Warsaw:20181012T101500
DTEND;TZID=Europe/Warsaw:20181012T114500
DTSTAMP:20260424T042604
CREATED:20181004T134911Z
LAST-MODIFIED:20181004T134911Z
UID:3513-1539339300-1539344700@biblioteka.szemud.pl
SUMMARY:Warsztaty patriotyczne w Bibliotece w Łebnie
DESCRIPTION:
URL:https://biblioteka.szemud.pl/index.php/event/warsztaty-patriotyczne-w-bibliotece-w-lebnie/
LOCATION:Biblioteka w Łebnie\, ul. Kartuska 9\, Łebno
ATTACH;FMTTYPE=image/png:https://biblioteka.szemud.pl/wp-content/uploads/2016/10/warsztaty-patriotyczne.png
END:VEVENT
BEGIN:VEVENT
DTSTART;TZID=Europe/Warsaw:20181012T121500
DTEND;TZID=Europe/Warsaw:20181012T134500
DTSTAMP:20260424T042604
CREATED:20181004T135019Z
LAST-MODIFIED:20181004T140155Z
UID:3516-1539346500-1539351900@biblioteka.szemud.pl
SUMMARY:Warsztaty patriotyczne w Bibliotece w Szemudzie
DESCRIPTION:
URL:https://biblioteka.szemud.pl/index.php/event/warsztaty-patriotyczne-w-bibliotece-w-szemudzie/
LOCATION:Biblioteka w Szemudzie\, Samorządowa 1\, Szemud
ATTACH;FMTTYPE=image/png:https://biblioteka.szemud.pl/wp-content/uploads/2016/10/warsztaty-patriotyczne.png
END:VEVENT
BEGIN:VEVENT
DTSTART;TZID=Europe/Warsaw:20181017T160000
DTEND;TZID=Europe/Warsaw:20181017T173000
DTSTAMP:20260424T042604
CREATED:20181005T082717Z
LAST-MODIFIED:20181016T090052Z
UID:3522-1539792000-1539797400@biblioteka.szemud.pl
SUMMARY:Warsztaty "Frotaż z liści" w Bibliotece w Częstkowie
DESCRIPTION:
URL:https://biblioteka.szemud.pl/index.php/event/warsztaty-frotaz-z-lisci-w-bibliotece-w-kielnie/
LOCATION:Biblioteka w Kielnie\, ul. Oliwska 46\, Kielno
ATTACH;FMTTYPE=image/png:https://biblioteka.szemud.pl/wp-content/uploads/2016/10/frotaż-Kielno.png
END:VEVENT
BEGIN:VEVENT
DTSTART;TZID=Europe/Warsaw:20181018T160000
DTEND;TZID=Europe/Warsaw:20181018T180000
DTSTAMP:20260424T042604
CREATED:20181005T082823Z
LAST-MODIFIED:20181005T083025Z
UID:3526-1539878400-1539885600@biblioteka.szemud.pl
SUMMARY:Warsztaty „Rozmaitości szydełkowe” w Bibliotece w Bojanie
DESCRIPTION:
URL:https://biblioteka.szemud.pl/index.php/event/warsztaty-rozmaitosci-szydelkowe-w-bibliotece-w-bojanie-3/
LOCATION:Biblioteka w Bojanie\, ul. J. Wybickiego 38\, Bojano
ATTACH;FMTTYPE=image/jpeg:https://biblioteka.szemud.pl/wp-content/uploads/2016/10/szydełkowanie-Bojano.jpg
END:VEVENT
BEGIN:VEVENT
DTSTART;TZID=Europe/Warsaw:20181019T170000
DTEND;TZID=Europe/Warsaw:20181019T180000
DTSTAMP:20260424T042604
CREATED:20181010T122238Z
LAST-MODIFIED:20181010T122238Z
UID:3553-1539968400-1539972000@biblioteka.szemud.pl
SUMMARY:Wykład pt. "Podróże do miejsc świętych - polskie sanktuaria" w Bibliotece w Szemudzie
DESCRIPTION:
URL:https://biblioteka.szemud.pl/index.php/event/wyklad-pt-podroze-do-miejsc-swietych-polskie-sanktuaria-w-bibliotece-w-szemudzie/
LOCATION:Biblioteka w Szemudzie\, Samorządowa 1\, Szemud
ATTACH;FMTTYPE=image/jpeg:https://biblioteka.szemud.pl/wp-content/uploads/2016/10/Podróże-do-miejsc-świętych-polskie-sanktuaria-Szemud.jpg
END:VEVENT
BEGIN:VEVENT
DTSTART;TZID=Europe/Warsaw:20181025T170000
DTEND;TZID=Europe/Warsaw:20181025T180000
DTSTAMP:20260424T042604
CREATED:20180920T102550Z
LAST-MODIFIED:20181026T084539Z
UID:3452-1540486800-1540490400@biblioteka.szemud.pl
SUMMARY:Uroczyste podsumowanie konkursu fotograficznego "Wspomnienie z wakacji" w Bibliotece w Szemudzie
DESCRIPTION:
URL:https://biblioteka.szemud.pl/index.php/event/uroczyste-podsumowanie-konkursu-fotograficznego-w-bibliotece-w-szemudzie/
LOCATION:Biblioteka w Szemudzie\, Samorządowa 1\, Szemud
ATTACH;FMTTYPE=image/jpeg:https://biblioteka.szemud.pl/wp-content/uploads/2016/10/konkurs-fotograficzny.jpg
END:VEVENT
BEGIN:VEVENT
DTSTART;TZID=Europe/Warsaw:20181026T170000
DTEND;TZID=Europe/Warsaw:20181026T183000
DTSTAMP:20260424T042604
CREATED:20181012T092318Z
LAST-MODIFIED:20181012T092318Z
UID:3557-1540573200-1540578600@biblioteka.szemud.pl
SUMMARY:Warsztaty "Kaszubski anioł" w Bibliotece w Szemudzie
DESCRIPTION:
URL:https://biblioteka.szemud.pl/index.php/event/warsztaty-kaszubski-aniol-w-bibliotece-w-szemudzie/
LOCATION:Biblioteka w Szemudzie\, Samorządowa 1\, Szemud
ATTACH;FMTTYPE=image/jpeg:https://biblioteka.szemud.pl/wp-content/uploads/2016/10/Warsztaty-Anioły-Szemud.jpg
END:VEVENT
BEGIN:VEVENT
DTSTART;TZID=Europe/Warsaw:20181112T170000
DTEND;TZID=Europe/Warsaw:20181112T190000
DTSTAMP:20260424T042604
CREATED:20181019T083149Z
LAST-MODIFIED:20181026T113620Z
UID:3570-1542042000-1542049200@biblioteka.szemud.pl
SUMMARY:Spotkanie autorskie z p. Tanią Valko w Bibliotece w Szemudzie
DESCRIPTION:
URL:https://biblioteka.szemud.pl/index.php/event/spotkanie-autorskie-z-p-tania-valko-w-bibliotece-w-szemudzie/
LOCATION:Biblioteka w Szemudzie\, Samorządowa 1\, Szemud
ATTACH;FMTTYPE=image/jpeg:https://biblioteka.szemud.pl/wp-content/uploads/2016/10/Sp.-T.-Valko.jpg
END:VEVENT
BEGIN:VEVENT
DTSTART;TZID=Europe/Warsaw:20181114T090000
DTEND;TZID=Europe/Warsaw:20181114T113000
DTSTAMP:20260424T042604
CREATED:20181107T094331Z
LAST-MODIFIED:20181107T120939Z
UID:3667-1542186000-1542195000@biblioteka.szemud.pl
SUMMARY:"Dzień w Świecie Baśni" w Bibliotece w Szemudzie
DESCRIPTION:
URL:https://biblioteka.szemud.pl/index.php/event/dzien-w-swiecie-basni-w-bibliotece-w-szemudzie/
LOCATION:Biblioteka w Szemudzie\, Samorządowa 1\, Szemud
ATTACH;FMTTYPE=image/jpeg:https://biblioteka.szemud.pl/wp-content/uploads/2016/10/Dzień-w-świecie-basni-Szemud.jpg
END:VEVENT
BEGIN:VEVENT
DTSTART;TZID=Europe/Warsaw:20181115T103000
DTEND;TZID=Europe/Warsaw:20181115T123000
DTSTAMP:20260424T042604
CREATED:20181107T101149Z
LAST-MODIFIED:20181107T101149Z
UID:3671-1542277800-1542285000@biblioteka.szemud.pl
SUMMARY:Warsztaty „Rozmaitości szydełkowe” w Bibliotece w Kielnie
DESCRIPTION:
URL:https://biblioteka.szemud.pl/index.php/event/warsztaty-rozmaitosci-szydelkowe-w-bibliotece-w-kielnie-3/
LOCATION:Biblioteka w Kielnie\, ul. Oliwska 46\, Kielno
ATTACH;FMTTYPE=image/jpeg:https://biblioteka.szemud.pl/wp-content/uploads/2016/10/szydełkowanie-Kielno.jpg
END:VEVENT
BEGIN:VEVENT
DTSTART;TZID=Europe/Warsaw:20181120T160000
DTEND;TZID=Europe/Warsaw:20181120T180000
DTSTAMP:20260424T042604
CREATED:20181107T101512Z
LAST-MODIFIED:20181107T101512Z
UID:3675-1542729600-1542736800@biblioteka.szemud.pl
SUMMARY:Warsztaty "Anioły z masy solnej" w Bibliotece w Bojanie
DESCRIPTION:
URL:https://biblioteka.szemud.pl/index.php/event/warsztaty-anioly-z-masy-solnej-w-bibliotece-w-bojanie/
LOCATION:Biblioteka w Bojanie\, ul. J. Wybickiego 38\, Bojano
ATTACH;FMTTYPE=image/jpeg:https://biblioteka.szemud.pl/wp-content/uploads/2016/10/warsztaty-Bojano.jpg
END:VEVENT
BEGIN:VEVENT
DTSTART;TZID=Europe/Warsaw:20181120T170000
DTEND;TZID=Europe/Warsaw:20181120T190000
DTSTAMP:20260424T042604
CREATED:20181107T102010Z
LAST-MODIFIED:20181107T102010Z
UID:3681-1542733200-1542740400@biblioteka.szemud.pl
SUMMARY:Warsztaty „Jesienne sowy - breloczek” w Bibliotece w Szemudzie
DESCRIPTION:
URL:https://biblioteka.szemud.pl/index.php/event/warsztaty-jesienne-sowy-breloczek-w-bibliotece-w-szemudzie/
ATTACH;FMTTYPE=image/png:https://biblioteka.szemud.pl/wp-content/uploads/2016/10/breloczek-Szemud.png
END:VEVENT
BEGIN:VEVENT
DTSTART;TZID=Europe/Warsaw:20181121T140000
DTEND;TZID=Europe/Warsaw:20181121T150000
DTSTAMP:20260424T042604
CREATED:20181107T101621Z
LAST-MODIFIED:20181107T102916Z
UID:3677-1542808800-1542812400@biblioteka.szemud.pl
SUMMARY:Warsztaty „Jesienne pejzaże” w Bibliotece w Bojanie
DESCRIPTION:
URL:https://biblioteka.szemud.pl/index.php/event/warsztaty-jesienne-pejzaze-w-bibliotece-w-bojanie/
LOCATION:Biblioteka w Bojanie\, ul. J. Wybickiego 38\, Bojano
ATTACH;FMTTYPE=image/jpeg:https://biblioteka.szemud.pl/wp-content/uploads/2016/10/warsztaty-Bojano.jpg
END:VEVENT
BEGIN:VEVENT
DTSTART;TZID=Europe/Warsaw:20181122T093000
DTEND;TZID=Europe/Warsaw:20181122T113000
DTSTAMP:20260424T042604
CREATED:20181116T101927Z
LAST-MODIFIED:20181116T102252Z
UID:3707-1542879000-1542886200@biblioteka.szemud.pl
SUMMARY:Wykład "Jak pielęgnować swój organizm od wewnątrz" w Bibliotece w Kielnie
DESCRIPTION:
URL:https://biblioteka.szemud.pl/index.php/event/wyklad-jak-pielegnowac-swoj-organizm-od-wewnatrz-w-bibliotece-w-kielnie/
LOCATION:Biblioteka w Kielnie\, ul. Oliwska 46\, Kielno
ATTACH;FMTTYPE=image/jpeg:https://biblioteka.szemud.pl/wp-content/uploads/2016/10/aloes.jpg
END:VEVENT
BEGIN:VEVENT
DTSTART;TZID=Europe/Warsaw:20181122T130000
DTEND;TZID=Europe/Warsaw:20181122T150000
DTSTAMP:20260424T042604
CREATED:20181116T102218Z
LAST-MODIFIED:20181116T102218Z
UID:3710-1542891600-1542898800@biblioteka.szemud.pl
SUMMARY:Wykład "Jak pielęgnować swój organizm od wewnątrz" w Bibliotece w Bojanie
DESCRIPTION:
URL:https://biblioteka.szemud.pl/index.php/event/wyklad-jak-pielegnowac-swoj-organizm-od-wewnatrz-w-bibliotece-w-bojanie/
LOCATION:Biblioteka w Bojanie\, ul. J. Wybickiego 38\, Bojano
ATTACH;FMTTYPE=image/jpeg:https://biblioteka.szemud.pl/wp-content/uploads/2016/10/aloes.jpg
END:VEVENT
BEGIN:VEVENT
DTSTART;TZID=Europe/Warsaw:20181122T160000
DTEND;TZID=Europe/Warsaw:20181122T180000
DTSTAMP:20260424T042604
CREATED:20181107T102341Z
LAST-MODIFIED:20181107T102749Z
UID:3686-1542902400-1542909600@biblioteka.szemud.pl
SUMMARY:Warsztaty „Rozmaitości szydełkowe” w Bibliotece w Bojanie
DESCRIPTION:
URL:https://biblioteka.szemud.pl/index.php/event/warsztaty-rozmaitosci-szydelkowe-w-bibliotece-w-bojanie-4/
LOCATION:Biblioteka w Bojanie\, ul. J. Wybickiego 38\, Bojano
ATTACH;FMTTYPE=image/jpeg:https://biblioteka.szemud.pl/wp-content/uploads/2016/10/szydełkowanie-Bojano-1.jpg
END:VEVENT
BEGIN:VEVENT
DTSTART;TZID=Europe/Warsaw:20181123T110000
DTEND;TZID=Europe/Warsaw:20181123T130000
DTSTAMP:20260424T042604
CREATED:20181116T102329Z
LAST-MODIFIED:20181116T102329Z
UID:3713-1542970800-1542978000@biblioteka.szemud.pl
SUMMARY:Wykład "Jak pielęgnować swój organizm od wewnątrz" w Bibliotece w Szemudzie
DESCRIPTION:
URL:https://biblioteka.szemud.pl/index.php/event/wyklad-jak-pielegnowac-swoj-organizm-od-wewnatrz-w-bibliotece-w-szemudzie/
LOCATION:Biblioteka w Szemudzie\, Samorządowa 1\, Szemud
ATTACH;FMTTYPE=image/jpeg:https://biblioteka.szemud.pl/wp-content/uploads/2016/10/aloes.jpg
END:VEVENT
BEGIN:VEVENT
DTSTART;TZID=Europe/Warsaw:20181127T090000
DTEND;TZID=Europe/Warsaw:20181127T103000
DTSTAMP:20260424T042604
CREATED:20181116T102657Z
LAST-MODIFIED:20181116T102657Z
UID:3717-1543309200-1543314600@biblioteka.szemud.pl
SUMMARY:Spotkanie "Jak zostać podróżnikiem?" w Bibliotece w Bojanie
DESCRIPTION:
URL:https://biblioteka.szemud.pl/index.php/event/spotkanie-jak-zostac-podroznikiem-w-bibliotece-w-bojanie/
LOCATION:Biblioteka w Bojanie\, ul. J. Wybickiego 38\, Bojano
ATTACH;FMTTYPE=image/jpeg:https://biblioteka.szemud.pl/wp-content/uploads/2016/10/National-Geographic.jpg
END:VEVENT
BEGIN:VEVENT
DTSTART;TZID=Europe/Warsaw:20181127T110000
DTEND;TZID=Europe/Warsaw:20181127T123000
DTSTAMP:20260424T042604
CREATED:20181116T102952Z
LAST-MODIFIED:20181116T102952Z
UID:3719-1543316400-1543321800@biblioteka.szemud.pl
SUMMARY:Spotkanie "Jak zostać podróżnikiem?" w Bibliotece w Kielnie
DESCRIPTION:
URL:https://biblioteka.szemud.pl/index.php/event/spotkanie-jak-zostac-podroznikiem-w-bibliotece-w-kielnie/
LOCATION:Biblioteka w Kielnie\, ul. Oliwska 46\, Kielno
ATTACH;FMTTYPE=image/jpeg:https://biblioteka.szemud.pl/wp-content/uploads/2016/10/National-Geographic.jpg
END:VEVENT
END:VCALENDAR