BEGIN:VCALENDAR
VERSION:2.0
PRODID:-//Biblioteka Publiczna Gminy Szemud - ECPv6.15.20//NONSGML v1.0//EN
CALSCALE:GREGORIAN
METHOD:PUBLISH
X-ORIGINAL-URL:https://biblioteka.szemud.pl
X-WR-CALDESC:Wydarzenia dla Biblioteka Publiczna Gminy Szemud
REFRESH-INTERVAL;VALUE=DURATION:PT1H
X-Robots-Tag:noindex
X-PUBLISHED-TTL:PT1H
BEGIN:VTIMEZONE
TZID:Europe/Warsaw
BEGIN:DAYLIGHT
TZOFFSETFROM:+0100
TZOFFSETTO:+0200
TZNAME:CEST
DTSTART:20170326T010000
END:DAYLIGHT
BEGIN:STANDARD
TZOFFSETFROM:+0200
TZOFFSETTO:+0100
TZNAME:CET
DTSTART:20171029T010000
END:STANDARD
BEGIN:DAYLIGHT
TZOFFSETFROM:+0100
TZOFFSETTO:+0200
TZNAME:CEST
DTSTART:20180325T010000
END:DAYLIGHT
BEGIN:STANDARD
TZOFFSETFROM:+0200
TZOFFSETTO:+0100
TZNAME:CET
DTSTART:20181028T010000
END:STANDARD
BEGIN:DAYLIGHT
TZOFFSETFROM:+0100
TZOFFSETTO:+0200
TZNAME:CEST
DTSTART:20190331T010000
END:DAYLIGHT
BEGIN:STANDARD
TZOFFSETFROM:+0200
TZOFFSETTO:+0100
TZNAME:CET
DTSTART:20191027T010000
END:STANDARD
END:VTIMEZONE
BEGIN:VEVENT
DTSTART;TZID=Europe/Warsaw:20180321T103000
DTEND;TZID=Europe/Warsaw:20180321T120000
DTSTAMP:20260424T174332
CREATED:20180305T132354Z
LAST-MODIFIED:20180305T140858Z
UID:2530-1521628200-1521633600@biblioteka.szemud.pl
SUMMARY:Warsztaty wielkanocne z kurczaczkiem w Bibliotece w Kielnie
DESCRIPTION:
URL:https://biblioteka.szemud.pl/index.php/event/warsztaty-wielkanocne-dla-dzieci-z-kurczaczkiem-w-bibliotece-w-kielnie/
LOCATION:Biblioteka w Kielnie\, ul. Oliwska 46\, Kielno
ATTACH;FMTTYPE=image/jpeg:https://biblioteka.szemud.pl/wp-content/uploads/2016/10/Biblioteka-i-Ośrodek-Kultury-zapraszają-na.jpg
END:VEVENT
BEGIN:VEVENT
DTSTART;TZID=Europe/Warsaw:20180321T140000
DTEND;TZID=Europe/Warsaw:20180321T160000
DTSTAMP:20260424T174332
CREATED:20180305T141124Z
LAST-MODIFIED:20180305T141124Z
UID:2563-1521640800-1521648000@biblioteka.szemud.pl
SUMMARY:Warsztaty "Quilling" w Bibliotece w Bojanie
DESCRIPTION:
URL:https://biblioteka.szemud.pl/index.php/event/warsztaty-quilling-w-bibliotece-w-bojanie/
LOCATION:Biblioteka w Bojanie\, ul. J. Wybickiego 38\, Bojano
ATTACH;FMTTYPE=image/png:https://biblioteka.szemud.pl/wp-content/uploads/2016/10/Wielkanoc-Bojano.png
END:VEVENT
BEGIN:VEVENT
DTSTART;TZID=Europe/Warsaw:20180321T160000
DTEND;TZID=Europe/Warsaw:20180321T180000
DTSTAMP:20260424T174332
CREATED:20180322T133225Z
LAST-MODIFIED:20180322T142208Z
UID:2598-1521648000-1521655200@biblioteka.szemud.pl
SUMMARY:Spotkanie z zajączkiem w WOK i Bibliotece w Łebnie
DESCRIPTION:
URL:https://biblioteka.szemud.pl/index.php/event/spotkanie-z-zajaczkiem-w-wok-i-bibliotece-w-lebnie/
LOCATION:Biblioteka w Łebnie\, ul. Kartuska 9\, Łebno
ATTACH;FMTTYPE=image/jpeg:https://biblioteka.szemud.pl/wp-content/uploads/2018/03/Wielkanoc-Łebno.jpg
END:VEVENT
BEGIN:VEVENT
DTSTART;TZID=Europe/Warsaw:20180322T170000
DTEND;TZID=Europe/Warsaw:20180322T180000
DTSTAMP:20260424T174332
CREATED:20180305T132512Z
LAST-MODIFIED:20180305T140822Z
UID:2534-1521738000-1521741600@biblioteka.szemud.pl
SUMMARY:Warsztaty wielkanocne z zajączkiem w Bibliotece w Kielnie
DESCRIPTION:
URL:https://biblioteka.szemud.pl/index.php/event/warsztaty-wielkanocne-dla-dzieci-z-zajaczkiem-w-bibliotece-w-kielnie/
LOCATION:Biblioteka w Kielnie\, ul. Oliwska 46\, Kielno
ATTACH;FMTTYPE=image/jpeg:https://biblioteka.szemud.pl/wp-content/uploads/2016/10/Biblioteka-i-Ośrodek-Kultury-zapraszają-na.jpg
END:VEVENT
BEGIN:VEVENT
DTSTART;TZID=Europe/Warsaw:20180322T170000
DTEND;TZID=Europe/Warsaw:20180322T190000
DTSTAMP:20260424T174332
CREATED:20180305T142916Z
LAST-MODIFIED:20180305T142916Z
UID:2575-1521738000-1521745200@biblioteka.szemud.pl
SUMMARY:Warsztaty "Szydełkowy koszyk" w Bibliotece w Szemudzie
DESCRIPTION:
URL:https://biblioteka.szemud.pl/index.php/event/warsztaty-szydelkowy-koszyk-w-bibliotece-w-szemudzie/
LOCATION:Biblioteka w Szemudzie\, Samorządowa 1\, Szemud
ATTACH;FMTTYPE=image/jpeg:https://biblioteka.szemud.pl/wp-content/uploads/2018/03/Wielkanoc-Szemud-1.jpg
END:VEVENT
BEGIN:VEVENT
DTSTART;TZID=Europe/Warsaw:20180323T150000
DTEND;TZID=Europe/Warsaw:20180323T163000
DTSTAMP:20260424T174332
CREATED:20180305T132637Z
LAST-MODIFIED:20180305T140809Z
UID:2536-1521817200-1521822600@biblioteka.szemud.pl
SUMMARY:Warsztaty wielkanocne z jajkiem w Bibliotece w Kielnie
DESCRIPTION:
URL:https://biblioteka.szemud.pl/index.php/event/warsztaty-wielkanocne-dla-dzieci-z-jajkiem-w-bibliotece-w-kielnie/
LOCATION:Biblioteka w Kielnie\, ul. Oliwska 46\, Kielno
ATTACH;FMTTYPE=image/jpeg:https://biblioteka.szemud.pl/wp-content/uploads/2016/10/Biblioteka-i-Ośrodek-Kultury-zapraszają-na.jpg
END:VEVENT
BEGIN:VEVENT
DTSTART;TZID=Europe/Warsaw:20180326T120000
DTEND;TZID=Europe/Warsaw:20180326T140000
DTSTAMP:20260424T174332
CREATED:20180212T105648Z
LAST-MODIFIED:20180212T110235Z
UID:2420-1522065600-1522072800@biblioteka.szemud.pl
SUMMARY:Spotkanie "Jama ustna - barometr zdrowia organizmu" w Bibliotece w Częstkowie
DESCRIPTION:
URL:https://biblioteka.szemud.pl/index.php/event/spotkanie-jama-ustna-barometr-zdrowia-organizmu-w-bibliotece-w-czestkowie/
LOCATION:Biblioteka w Częstkowie\, ul. Szkolna 9\, Czestkowo
ATTACH;FMTTYPE=image/jpeg:https://biblioteka.szemud.pl/wp-content/uploads/2016/10/p.-Zajt.jpg
END:VEVENT
BEGIN:VEVENT
DTSTART;TZID=Europe/Warsaw:20180326T150000
DTEND;TZID=Europe/Warsaw:20180326T180000
DTSTAMP:20260424T174332
CREATED:20180305T142816Z
LAST-MODIFIED:20180305T142816Z
UID:2573-1522076400-1522087200@biblioteka.szemud.pl
SUMMARY:Warsztaty "Ozdoby na patyku" w Bibliotece w Szemudzie
DESCRIPTION:
URL:https://biblioteka.szemud.pl/index.php/event/warsztaty-ozdoby-na-patyku-w-bibliotece-w-szemudzie/
LOCATION:Biblioteka w Szemudzie\, Samorządowa 1\, Szemud
ATTACH;FMTTYPE=image/jpeg:https://biblioteka.szemud.pl/wp-content/uploads/2018/03/Wielkanoc-Szemud-1.jpg
END:VEVENT
BEGIN:VEVENT
DTSTART;TZID=Europe/Warsaw:20180327T080000
DTEND;TZID=Europe/Warsaw:20180327T093000
DTSTAMP:20260424T174332
CREATED:20180319T113555Z
LAST-MODIFIED:20180319T113731Z
UID:2586-1522137600-1522143000@biblioteka.szemud.pl
SUMMARY:Spotkanie z Michałem Zawadką w Łebnie
DESCRIPTION:
URL:https://biblioteka.szemud.pl/index.php/event/spotkanie-z-michalem-zawadka-w-lebnie/
LOCATION:Szkoła Podstawowa w Łebnie\, Szkolna 1\, Łebno\, pomorskie\, 84-217\, Polska
ATTACH;FMTTYPE=image/jpeg:https://biblioteka.szemud.pl/wp-content/uploads/2016/10/spotkanie-z-p.-Zawadką-1.jpg
END:VEVENT
BEGIN:VEVENT
DTSTART;TZID=Europe/Warsaw:20180327T103000
DTEND;TZID=Europe/Warsaw:20180327T120000
DTSTAMP:20260424T174332
CREATED:20180319T113711Z
LAST-MODIFIED:20180319T113711Z
UID:2590-1522146600-1522152000@biblioteka.szemud.pl
SUMMARY:Spotkanie z Michałem Zawadką w Szemudzie
DESCRIPTION:
URL:https://biblioteka.szemud.pl/index.php/event/spotkanie-z-michalem-zawadka-w-szemudzie/
LOCATION:Hala sportowa w Szemudzie\, Szkolna 4a\, Szemud\, pomorskie\, 84-217\, Polska
ATTACH;FMTTYPE=image/jpeg:https://biblioteka.szemud.pl/wp-content/uploads/2016/10/spotkanie-z-p.-Zawadką-1.jpg
END:VEVENT
BEGIN:VEVENT
DTSTART;TZID=Europe/Warsaw:20180327T130000
DTEND;TZID=Europe/Warsaw:20180327T143000
DTSTAMP:20260424T174332
CREATED:20180319T113931Z
LAST-MODIFIED:20180319T113931Z
UID:2592-1522155600-1522161000@biblioteka.szemud.pl
SUMMARY:Spotkanie z Michałem Zawadką w Bibliotece w Kielnie
DESCRIPTION:
URL:https://biblioteka.szemud.pl/index.php/event/spotkanie-z-michalem-zawadka-w-bibliotece-w-kielnie/
LOCATION:Biblioteka w Kielnie\, ul. Oliwska 46\, Kielno
ATTACH;FMTTYPE=image/jpeg:https://biblioteka.szemud.pl/wp-content/uploads/2016/10/spotkanie-z-p.-Zawadką-1.jpg
END:VEVENT
BEGIN:VEVENT
DTSTART;TZID=Europe/Warsaw:20180328T080000
DTEND;TZID=Europe/Warsaw:20180328T093000
DTSTAMP:20260424T174332
CREATED:20180319T114040Z
LAST-MODIFIED:20180319T114040Z
UID:2594-1522224000-1522229400@biblioteka.szemud.pl
SUMMARY:Spotkanie z Michałem Zawadką w Bojanie
DESCRIPTION:
URL:https://biblioteka.szemud.pl/index.php/event/spotkanie-z-michalem-zawadka-w-bojanie/
LOCATION:Hala sportowa w Bojanie\, ul. Wybickiego 38\, 84-207 Koleczkowo
ATTACH;FMTTYPE=image/jpeg:https://biblioteka.szemud.pl/wp-content/uploads/2016/10/spotkanie-z-p.-Zawadką-1.jpg
END:VEVENT
BEGIN:VEVENT
DTSTART;TZID=Europe/Warsaw:20180410T170000
DTEND;TZID=Europe/Warsaw:20180410T190000
DTSTAMP:20260424T174332
CREATED:20180326T091946Z
LAST-MODIFIED:20180326T092012Z
UID:2609-1523379600-1523386800@biblioteka.szemud.pl
SUMMARY:Warsztaty "Kukiełki teatralne" w Bibliotece w Szemudzie
DESCRIPTION:
URL:https://biblioteka.szemud.pl/index.php/event/warsztaty-kukielki-teatralne/
LOCATION:Biblioteka w Szemudzie\, Samorządowa 1\, Szemud
ATTACH;FMTTYPE=image/jpeg:https://biblioteka.szemud.pl/wp-content/uploads/2016/10/WARSZTATYKUKIEŁKI-TEATRALNE.jpg
END:VEVENT
BEGIN:VEVENT
DTSTART;TZID=Europe/Warsaw:20180411T090000
DTEND;TZID=Europe/Warsaw:20180411T120000
DTSTAMP:20260424T174332
CREATED:20180326T093106Z
LAST-MODIFIED:20180326T115743Z
UID:2614-1523437200-1523448000@biblioteka.szemud.pl
SUMMARY:Gminny Konkurs Recytatorski Literatury Kaszubskiej „Rodno Mowa”
DESCRIPTION:
URL:https://biblioteka.szemud.pl/index.php/event/gminny-konkurs-recytatorski-literatury-kaszubskiej-rodno-mowa-2/
LOCATION:Biblioteka w Szemudzie\, Samorządowa 1\, Szemud
ATTACH;FMTTYPE=image/jpeg:https://biblioteka.szemud.pl/wp-content/uploads/2016/10/Rodna-Mowa.jpg
END:VEVENT
BEGIN:VEVENT
DTSTART;TZID=Europe/Warsaw:20180412T150000
DTEND;TZID=Europe/Warsaw:20180412T170000
DTSTAMP:20260424T174332
CREATED:20180404T090931Z
LAST-MODIFIED:20180404T090931Z
UID:2672-1523545200-1523552400@biblioteka.szemud.pl
SUMMARY:Warsztaty "Kamienie" w Bibliotece w Częstkowie
DESCRIPTION:
URL:https://biblioteka.szemud.pl/index.php/event/warsztaty-kamienie-w-bibliotece-w-czestkowie/
LOCATION:Biblioteka w Częstkowie\, ul. Szkolna 9\, Czestkowo
ATTACH;FMTTYPE=image/jpeg:https://biblioteka.szemud.pl/wp-content/uploads/2016/10/kamienie-Częstkowo.jpg
END:VEVENT
BEGIN:VEVENT
DTSTART;TZID=Europe/Warsaw:20180418T140000
DTEND;TZID=Europe/Warsaw:20180418T160000
DTSTAMP:20260424T174332
CREATED:20180416T114142Z
LAST-MODIFIED:20180416T114142Z
UID:2694-1524060000-1524067200@biblioteka.szemud.pl
SUMMARY:Warsztaty GO_PRO! w Bibliotece w Bojanie
DESCRIPTION:
URL:https://biblioteka.szemud.pl/index.php/event/warsztaty-go_pro-w-bibliotece-w-bojanie/
LOCATION:Biblioteka w Bojanie\, ul. J. Wybickiego 38\, Bojano
ATTACH;FMTTYPE=image/png:https://biblioteka.szemud.pl/wp-content/uploads/2016/10/000-1.png
END:VEVENT
BEGIN:VEVENT
DTSTART;TZID=Europe/Warsaw:20180419T160000
DTEND;TZID=Europe/Warsaw:20180419T180000
DTSTAMP:20260424T174332
CREATED:20180416T103522Z
LAST-MODIFIED:20180416T103522Z
UID:2686-1524153600-1524160800@biblioteka.szemud.pl
SUMMARY:Warsztaty "Rozmaitości szydełkowe" w Bibliotece w Kielnie
DESCRIPTION:
URL:https://biblioteka.szemud.pl/index.php/event/warsztaty-rozmaitosci-szydelkowe-w-bibliotece-w-kielnie/
LOCATION:Biblioteka w Kielnie\, ul. Oliwska 46\, Kielno
ATTACH;FMTTYPE=image/jpeg:https://biblioteka.szemud.pl/wp-content/uploads/2016/10/Kielno-szydełko.jpg
END:VEVENT
BEGIN:VEVENT
DTSTART;TZID=Europe/Warsaw:20180420T160000
DTEND;TZID=Europe/Warsaw:20180420T180000
DTSTAMP:20260424T174332
CREATED:20180409T135828Z
LAST-MODIFIED:20180412T131352Z
UID:2678-1524240000-1524247200@biblioteka.szemud.pl
SUMMARY:VIII Wieczór Kaszubski "Poezja śpiewana"
DESCRIPTION:
URL:https://biblioteka.szemud.pl/index.php/event/viii-wieczor-kaszubski/
LOCATION:Biblioteka w Szemudzie\, Samorządowa 1\, Szemud
ATTACH;FMTTYPE=image/png:https://biblioteka.szemud.pl/wp-content/uploads/2016/10/VIII-wieczór-kaszubski.png
END:VEVENT
BEGIN:VEVENT
DTSTART;TZID=Europe/Warsaw:20180424T160000
DTEND;TZID=Europe/Warsaw:20180424T170000
DTSTAMP:20260424T174332
CREATED:20180416T104121Z
LAST-MODIFIED:20180613T120513Z
UID:2690-1524585600-1524589200@biblioteka.szemud.pl
SUMMARY:Spotkanie "Zdrowie w ogrodzie" w Bibliotece w Szemudzie
DESCRIPTION:  \n 
URL:https://biblioteka.szemud.pl/index.php/event/spotkanie-zdrowie-w-ogrodzie-w-bibliotece-w-szemudzie/
LOCATION:Biblioteka w Szemudzie\, Samorządowa 1\, Szemud
ATTACH;FMTTYPE=image/jpeg:https://biblioteka.szemud.pl/wp-content/uploads/2016/10/zioła.jpg
END:VEVENT
BEGIN:VEVENT
DTSTART;TZID=Europe/Warsaw:20180425T140000
DTEND;TZID=Europe/Warsaw:20180425T160000
DTSTAMP:20260424T174332
CREATED:20180418T092839Z
LAST-MODIFIED:20180418T092839Z
UID:2700-1524664800-1524672000@biblioteka.szemud.pl
SUMMARY:Warsztaty "Sztuka składania książki" w Bibliotece w Bojanie
DESCRIPTION:
URL:https://biblioteka.szemud.pl/index.php/event/warsztaty-sztuka-skladania-ksiazki-w-bibliotece-w-bojanie/
LOCATION:Biblioteka w Bojanie\, ul. J. Wybickiego 38\, Bojano
ATTACH;FMTTYPE=image/png:https://biblioteka.szemud.pl/wp-content/uploads/2016/10/warsztaty-Bojano.png
END:VEVENT
BEGIN:VEVENT
DTSTART;TZID=Europe/Warsaw:20180426T160000
DTEND;TZID=Europe/Warsaw:20180426T180000
DTSTAMP:20260424T174332
CREATED:20180418T093023Z
LAST-MODIFIED:20180418T093023Z
UID:2704-1524758400-1524765600@biblioteka.szemud.pl
SUMMARY:Warsztaty „Rozmaitości szydełkowe” w Bibliotece w Bojanie
DESCRIPTION:
URL:https://biblioteka.szemud.pl/index.php/event/warsztaty-rozmaitosci-szydelkowe-w-bibliotece-w-bojanie/
LOCATION:Biblioteka w Bojanie\, ul. J. Wybickiego 38\, Bojano
ATTACH;FMTTYPE=image/jpeg:https://biblioteka.szemud.pl/wp-content/uploads/2016/10/Bojano-szydełko.jpg
END:VEVENT
BEGIN:VEVENT
DTSTART;TZID=Europe/Warsaw:20180507T090000
DTEND;TZID=Europe/Warsaw:20180507T100000
DTSTAMP:20260424T174332
CREATED:20180427T132226Z
LAST-MODIFIED:20180427T132226Z
UID:2799-1525683600-1525687200@biblioteka.szemud.pl
SUMMARY:Spektakl dla dzieci "Baśń o rycerzu bez konia" w Bibliotece w Łebnie
DESCRIPTION:
URL:https://biblioteka.szemud.pl/index.php/event/spektakl-dla-dzieci-basn-o-rycerzu-bez-konia-w-bibliotece-w-lebnie/
LOCATION:Biblioteka w Łebnie\, ul. Kartuska 9\, Łebno
ATTACH;FMTTYPE=image/jpeg:https://biblioteka.szemud.pl/wp-content/uploads/2016/10/Tydzień-Bibliotek.jpg
END:VEVENT
BEGIN:VEVENT
DTSTART;TZID=Europe/Warsaw:20180507T110000
DTEND;TZID=Europe/Warsaw:20180507T120000
DTSTAMP:20260424T174332
CREATED:20180427T132315Z
LAST-MODIFIED:20180427T132315Z
UID:2801-1525690800-1525694400@biblioteka.szemud.pl
SUMMARY:Spektakl dla dzieci "Baśń o rycerzu bez konia" w Bibliotece w Częstkowie
DESCRIPTION:
URL:https://biblioteka.szemud.pl/index.php/event/spektakl-dla-dzieci-basn-o-rycerzu-bez-konia-w-bibliotece-w-czestkowie/
LOCATION:Biblioteka w Częstkowie\, ul. Szkolna 9\, Czestkowo
ATTACH;FMTTYPE=image/jpeg:https://biblioteka.szemud.pl/wp-content/uploads/2016/10/Tydzień-Bibliotek.jpg
END:VEVENT
BEGIN:VEVENT
DTSTART;TZID=Europe/Warsaw:20180507T110000
DTEND;TZID=Europe/Warsaw:20180507T120000
DTSTAMP:20260424T174332
CREATED:20180427T140503Z
LAST-MODIFIED:20180427T140503Z
UID:2828-1525690800-1525694400@biblioteka.szemud.pl
SUMMARY:Pasowanie na czytelnika w Bibliotece w Łebnie
DESCRIPTION:
URL:https://biblioteka.szemud.pl/index.php/event/pasowanie-na-czytelnika-w-bibliotece-w-lebnie-2/
LOCATION:Biblioteka w Łebnie\, ul. Kartuska 9\, Łebno
ATTACH;FMTTYPE=image/jpeg:https://biblioteka.szemud.pl/wp-content/uploads/2016/10/Tydzień-Bibliotek.jpg
END:VEVENT
BEGIN:VEVENT
DTSTART;TZID=Europe/Warsaw:20180507T170000
DTEND;TZID=Europe/Warsaw:20180507T183000
DTSTAMP:20260424T174332
CREATED:20180427T133346Z
LAST-MODIFIED:20180427T133346Z
UID:2811-1525712400-1525717800@biblioteka.szemud.pl
SUMMARY:Warsztaty kreatywne w Bibliotece w Szemudzie
DESCRIPTION:
URL:https://biblioteka.szemud.pl/index.php/event/warsztaty-kreatywne-w-bibliotece-w-szemudzie-2/
LOCATION:Biblioteka w Szemudzie\, Samorządowa 1\, Szemud
ATTACH;FMTTYPE=image/jpeg:https://biblioteka.szemud.pl/wp-content/uploads/2016/10/Tydzień-Bibliotek.jpg
END:VEVENT
BEGIN:VEVENT
DTSTART;TZID=Europe/Warsaw:20180508T090000
DTEND;TZID=Europe/Warsaw:20180508T100000
DTSTAMP:20260424T174332
CREATED:20180427T132415Z
LAST-MODIFIED:20180427T132424Z
UID:2803-1525770000-1525773600@biblioteka.szemud.pl
SUMMARY:Spektakl dla dzieci "Baśń o rycerzu bez konia" w Bibliotece w Bojanie
DESCRIPTION:
URL:https://biblioteka.szemud.pl/index.php/event/spektakl-dla-dzieci-basn-o-rycerzu-bez-konia-w-bibliotece-w-bojanie/
LOCATION:Biblioteka w Bojanie\, ul. J. Wybickiego 38\, Bojano
ATTACH;FMTTYPE=image/jpeg:https://biblioteka.szemud.pl/wp-content/uploads/2016/10/Tydzień-Bibliotek.jpg
END:VEVENT
BEGIN:VEVENT
DTSTART;TZID=Europe/Warsaw:20180508T100000
DTEND;TZID=Europe/Warsaw:20180508T120000
DTSTAMP:20260424T174332
CREATED:20180427T140735Z
LAST-MODIFIED:20180427T140735Z
UID:2832-1525773600-1525780800@biblioteka.szemud.pl
SUMMARY:Konkurs "Mistrz Pięknego Czytania" w Bibliotece w Częstkowie
DESCRIPTION:
URL:https://biblioteka.szemud.pl/index.php/event/konkurs-mistrz-pieknego-czytania-w-bibliotece-w-czestkowie-2/
LOCATION:Biblioteka w Częstkowie\, ul. Szkolna 9\, Czestkowo
ATTACH;FMTTYPE=image/jpeg:https://biblioteka.szemud.pl/wp-content/uploads/2016/10/Tydzień-Bibliotek.jpg
END:VEVENT
BEGIN:VEVENT
DTSTART;TZID=Europe/Warsaw:20180508T113000
DTEND;TZID=Europe/Warsaw:20180508T123000
DTSTAMP:20260424T174332
CREATED:20180427T132540Z
LAST-MODIFIED:20180427T132540Z
UID:2805-1525779000-1525782600@biblioteka.szemud.pl
SUMMARY:Spektakl dla dzieci "Baśń o rycerzu bez konia" w Bibliotece w Szemudzie
DESCRIPTION:
URL:https://biblioteka.szemud.pl/index.php/event/spektakl-dla-dzieci-basn-o-rycerzu-bez-konia-w-bibliotece-w-szemudzie/
LOCATION:Biblioteka w Szemudzie\, Samorządowa 1\, Szemud
ATTACH;FMTTYPE=image/jpeg:https://biblioteka.szemud.pl/wp-content/uploads/2016/10/Tydzień-Bibliotek.jpg
END:VEVENT
BEGIN:VEVENT
DTSTART;TZID=Europe/Warsaw:20180508T124000
DTEND;TZID=Europe/Warsaw:20180508T134000
DTSTAMP:20260424T174332
CREATED:20180427T135712Z
LAST-MODIFIED:20180427T135712Z
UID:2814-1525783200-1525786800@biblioteka.szemud.pl
SUMMARY:Warsztaty kreatywne w Bibliotece w Bojanie
DESCRIPTION:
URL:https://biblioteka.szemud.pl/index.php/event/warsztaty-kreatywne-w-bibliotece-w-bojanie/
LOCATION:Biblioteka w Bojanie\, ul. J. Wybickiego 38\, Bojano
ATTACH;FMTTYPE=image/jpeg:https://biblioteka.szemud.pl/wp-content/uploads/2016/10/Tydzień-Bibliotek.jpg
END:VEVENT
BEGIN:VEVENT
DTSTART;TZID=Europe/Warsaw:20180508T170000
DTEND;TZID=Europe/Warsaw:20180508T183000
DTSTAMP:20260424T174332
CREATED:20180427T135813Z
LAST-MODIFIED:20180427T135813Z
UID:2816-1525798800-1525804200@biblioteka.szemud.pl
SUMMARY:Warsztaty kreatywne w Bibliotece w Szemudzie
DESCRIPTION:
URL:https://biblioteka.szemud.pl/index.php/event/warsztaty-kreatywne-w-bibliotece-w-szemudzie-3/
LOCATION:Biblioteka w Szemudzie\, Samorządowa 1\, Szemud
ATTACH;FMTTYPE=image/jpeg:https://biblioteka.szemud.pl/wp-content/uploads/2016/10/Tydzień-Bibliotek.jpg
END:VEVENT
END:VCALENDAR