BEGIN:VCALENDAR
VERSION:2.0
PRODID:-//Biblioteka Publiczna Gminy Szemud - ECPv6.15.20//NONSGML v1.0//EN
CALSCALE:GREGORIAN
METHOD:PUBLISH
X-ORIGINAL-URL:https://biblioteka.szemud.pl
X-WR-CALDESC:Wydarzenia dla Biblioteka Publiczna Gminy Szemud
REFRESH-INTERVAL;VALUE=DURATION:PT1H
X-Robots-Tag:noindex
X-PUBLISHED-TTL:PT1H
BEGIN:VTIMEZONE
TZID:Europe/Warsaw
BEGIN:DAYLIGHT
TZOFFSETFROM:+0100
TZOFFSETTO:+0200
TZNAME:CEST
DTSTART:20160327T010000
END:DAYLIGHT
BEGIN:STANDARD
TZOFFSETFROM:+0200
TZOFFSETTO:+0100
TZNAME:CET
DTSTART:20161030T010000
END:STANDARD
BEGIN:DAYLIGHT
TZOFFSETFROM:+0100
TZOFFSETTO:+0200
TZNAME:CEST
DTSTART:20170326T010000
END:DAYLIGHT
BEGIN:STANDARD
TZOFFSETFROM:+0200
TZOFFSETTO:+0100
TZNAME:CET
DTSTART:20171029T010000
END:STANDARD
BEGIN:DAYLIGHT
TZOFFSETFROM:+0100
TZOFFSETTO:+0200
TZNAME:CEST
DTSTART:20180325T010000
END:DAYLIGHT
BEGIN:STANDARD
TZOFFSETFROM:+0200
TZOFFSETTO:+0100
TZNAME:CET
DTSTART:20181028T010000
END:STANDARD
END:VTIMEZONE
BEGIN:VEVENT
DTSTART;TZID=Europe/Warsaw:20170530T110000
DTEND;TZID=Europe/Warsaw:20170530T130000
DTSTAMP:20260425T130329
CREATED:20170720T123505Z
LAST-MODIFIED:20170720T123505Z
UID:1697-1496142000-1496149200@biblioteka.szemud.pl
SUMMARY:Dzień Matki w bibliotece w Szemudzie
DESCRIPTION:
URL:https://biblioteka.szemud.pl/index.php/event/dzien-matki-w-bibliotece-w-szemudzie/
LOCATION:Biblioteka w Szemudzie\, Samorządowa 1\, Szemud
END:VEVENT
BEGIN:VEVENT
DTSTART;TZID=Europe/Warsaw:20170612T090000
DTEND;TZID=Europe/Warsaw:20170612T110000
DTSTAMP:20260425T130329
CREATED:20170519T141300Z
LAST-MODIFIED:20170519T141300Z
UID:1594-1497258000-1497265200@biblioteka.szemud.pl
SUMMARY:Gminny Konkurs Recytatorski Poezji Jana Piepki
DESCRIPTION:
URL:https://biblioteka.szemud.pl/index.php/event/gminny-konkurs-recytatorski-poezji-jana-piepki/
LOCATION:Biblioteka w Łebnie\, ul. Kartuska 9\, Łebno
ATTACH;FMTTYPE=image/png:https://biblioteka.szemud.pl/wp-content/uploads/2016/10/piepka.png
END:VEVENT
BEGIN:VEVENT
DTSTART;TZID=Europe/Warsaw:20170614T180000
DTEND;TZID=Europe/Warsaw:20170614T200000
DTSTAMP:20260425T130329
CREATED:20170610T124901Z
LAST-MODIFIED:20170726T103842Z
UID:1647-1497463200-1497470400@biblioteka.szemud.pl
SUMMARY:Uroczyste zakończenie kół zainteresowań
DESCRIPTION:
URL:https://biblioteka.szemud.pl/index.php/event/uroczyste-zakonczenie-kol-zainteresowan/
LOCATION:Hala sportowa w Szemudzie\, Szkolna 4a\, Szemud\, pomorskie\, 84-217\, Polska
ATTACH;FMTTYPE=image/jpeg:https://biblioteka.szemud.pl/wp-content/uploads/2017/06/zakończenie-kółek..jpg
END:VEVENT
BEGIN:VEVENT
DTSTART;TZID=Europe/Warsaw:20170626T180000
DTEND;TZID=Europe/Warsaw:20170627T060000
DTSTAMP:20260425T130329
CREATED:20170705T122742Z
LAST-MODIFIED:20170726T090226Z
UID:1652-1498500000-1498543200@biblioteka.szemud.pl
SUMMARY:Noc w Bibliotece w Łebnie
DESCRIPTION:
URL:https://biblioteka.szemud.pl/index.php/event/noc-w-bibliotece-w-lebnie/
LOCATION:Biblioteka w Łebnie\, ul. Kartuska 9\, Łebno
ATTACH;FMTTYPE=image/jpeg:https://biblioteka.szemud.pl/wp-content/uploads/2017/07/Noc.jpg
END:VEVENT
BEGIN:VEVENT
DTSTART;TZID=Europe/Warsaw:20170627T120000
DTEND;TZID=Europe/Warsaw:20170627T140000
DTSTAMP:20260425T130329
CREATED:20170720T121020Z
LAST-MODIFIED:20170726T090259Z
UID:1674-1498564800-1498572000@biblioteka.szemud.pl
SUMMARY:Komiks - warsztaty z książką w bibliotece w Częstkowie
DESCRIPTION:
URL:https://biblioteka.szemud.pl/index.php/event/komiks-warsztaty-z-ksiazka-w-bibliotece-w-czestkowie/
LOCATION:Biblioteka w Częstkowie\, ul. Szkolna 9\, Czestkowo
ATTACH;FMTTYPE=image/png:https://biblioteka.szemud.pl/wp-content/uploads/2017/07/wakacje-częstkowo.png
END:VEVENT
BEGIN:VEVENT
DTSTART;TZID=Europe/Warsaw:20170627T180000
DTEND;TZID=Europe/Warsaw:20170628T060000
DTSTAMP:20260425T130329
CREATED:20170705T122841Z
LAST-MODIFIED:20170726T090328Z
UID:1654-1498586400-1498629600@biblioteka.szemud.pl
SUMMARY:Noc w Bibliotece w Kielnie
DESCRIPTION:
URL:https://biblioteka.szemud.pl/index.php/event/noc-w-bibliotece-w-kielnie/
LOCATION:Biblioteka w Kielnie\, ul. Oliwska 46\, Kielno
ATTACH;FMTTYPE=image/jpeg:https://biblioteka.szemud.pl/wp-content/uploads/2017/07/Noc.jpg
END:VEVENT
BEGIN:VEVENT
DTSTART;TZID=Europe/Warsaw:20170628T180000
DTEND;TZID=Europe/Warsaw:20170629T060000
DTSTAMP:20260425T130329
CREATED:20170705T122925Z
LAST-MODIFIED:20170726T090347Z
UID:1656-1498672800-1498716000@biblioteka.szemud.pl
SUMMARY:Noc w Bibliotece w Bojanie
DESCRIPTION:
URL:https://biblioteka.szemud.pl/index.php/event/noc-w-bibliotece-w-bojanie/
LOCATION:Biblioteka w Bojanie\, ul. J. Wybickiego 38\, Bojano
ATTACH;FMTTYPE=image/jpeg:https://biblioteka.szemud.pl/wp-content/uploads/2017/07/Noc.jpg
END:VEVENT
BEGIN:VEVENT
DTSTART;TZID=Europe/Warsaw:20170629T130000
DTEND;TZID=Europe/Warsaw:20170629T140000
DTSTAMP:20260425T130329
CREATED:20170720T121316Z
LAST-MODIFIED:20170726T092347Z
UID:1676-1498741200-1498744800@biblioteka.szemud.pl
SUMMARY:Czytanie pod chmurką w bibliotece w Częstkowie
DESCRIPTION:
URL:https://biblioteka.szemud.pl/index.php/event/czytanie-pod-chmurka-w-bibliotece-w-czestkowie/
LOCATION:Biblioteka w Częstkowie\, ul. Szkolna 9\, Czestkowo
ATTACH;FMTTYPE=image/png:https://biblioteka.szemud.pl/wp-content/uploads/2017/07/wakacje-częstkowo.png
END:VEVENT
BEGIN:VEVENT
DTSTART;TZID=Europe/Warsaw:20170711T130000
DTEND;TZID=Europe/Warsaw:20170711T150000
DTSTAMP:20260425T130329
CREATED:20170720T121902Z
LAST-MODIFIED:20170726T092606Z
UID:1687-1499778000-1499785200@biblioteka.szemud.pl
SUMMARY:"Co porabia Franklin" w bibliotece w Łebnie
DESCRIPTION:
URL:https://biblioteka.szemud.pl/index.php/event/co-porabia-franklin-w-bibliotece-w-lebnie/
LOCATION:Biblioteka w Łebnie\, ul. Kartuska 9\, Łebno
ATTACH;FMTTYPE=image/jpeg:https://biblioteka.szemud.pl/wp-content/uploads/2017/07/WAKACJE-W-BIBLIOTECEW-ŁEBNIE.jpg
END:VEVENT
BEGIN:VEVENT
DTSTART;TZID=Europe/Warsaw:20170712T120000
DTEND;TZID=Europe/Warsaw:20170712T140000
DTSTAMP:20260425T130329
CREATED:20170720T121445Z
LAST-MODIFIED:20170726T092623Z
UID:1680-1499860800-1499868000@biblioteka.szemud.pl
SUMMARY:Zabawa w teatr w bibliotece w Częstkowie
DESCRIPTION:
URL:https://biblioteka.szemud.pl/index.php/event/zabawa-w-teatr-w-bibliotece-w-czestkowie/
LOCATION:Biblioteka w Częstkowie\, ul. Szkolna 9\, Czestkowo
ATTACH;FMTTYPE=image/png:https://biblioteka.szemud.pl/wp-content/uploads/2017/07/wakacje-częstkowo.png
END:VEVENT
BEGIN:VEVENT
DTSTART;TZID=Europe/Warsaw:20170712T120000
DTEND;TZID=Europe/Warsaw:20170712T140000
DTSTAMP:20260425T130329
CREATED:20170720T122303Z
LAST-MODIFIED:20170726T092647Z
UID:1693-1499860800-1499868000@biblioteka.szemud.pl
SUMMARY:Warsztaty z tabletami w bibliotece w Szemudzie
DESCRIPTION:
URL:https://biblioteka.szemud.pl/index.php/event/warsztaty-z-tabletami-w-bibliotece-w-szemudzie/
LOCATION:Biblioteka w Szemudzie\, Samorządowa 1\, Szemud
ATTACH;FMTTYPE=image/jpeg:https://biblioteka.szemud.pl/wp-content/uploads/2017/07/WAKACJE-W-BIBLIOTECE-W-SZEMUDZIE-3.jpg
END:VEVENT
BEGIN:VEVENT
DTSTART;TZID=Europe/Warsaw:20170712T120000
DTEND;TZID=Europe/Warsaw:20170712T150000
DTSTAMP:20260425T130329
CREATED:20170720T121544Z
LAST-MODIFIED:20170726T092722Z
UID:1682-1499860800-1499871600@biblioteka.szemud.pl
SUMMARY:Warsztaty mydlane w bibliotece w Częstkowie
DESCRIPTION:
URL:https://biblioteka.szemud.pl/index.php/event/warsztaty-mydlane-w-bibliotece-w-czestkowie/
LOCATION:Biblioteka w Częstkowie\, ul. Szkolna 9\, Czestkowo
END:VEVENT
BEGIN:VEVENT
DTSTART;TZID=Europe/Warsaw:20170718T120000
DTEND;TZID=Europe/Warsaw:20170718T150000
DTSTAMP:20260425T130329
CREATED:20170720T121725Z
LAST-MODIFIED:20170726T092742Z
UID:1685-1500379200-1500390000@biblioteka.szemud.pl
SUMMARY:Warsztaty czerpania papieru w bibliotece w Częstkowie
DESCRIPTION:
URL:https://biblioteka.szemud.pl/index.php/event/warsztaty-czerpania-papieru-w-bibliotece-w-czestkowie/
LOCATION:Biblioteka w Częstkowie\, ul. Szkolna 9\, Czestkowo
ATTACH;FMTTYPE=image/png:https://biblioteka.szemud.pl/wp-content/uploads/2017/07/wakacje-częstkowo.png
END:VEVENT
BEGIN:VEVENT
DTSTART;TZID=Europe/Warsaw:20170718T130000
DTEND;TZID=Europe/Warsaw:20170718T150000
DTSTAMP:20260425T130329
CREATED:20170720T122044Z
LAST-MODIFIED:20170726T092758Z
UID:1689-1500382800-1500390000@biblioteka.szemud.pl
SUMMARY:„Co porabia Tupcio Chrupcio” w bibliotece w Łebnie
DESCRIPTION:
URL:https://biblioteka.szemud.pl/index.php/event/co-porabia-tupcio-chrupcio-w-bibliotece-w-lebnie/
LOCATION:Biblioteka w Łebnie\, ul. Kartuska 9\, Łebno
ATTACH;FMTTYPE=image/jpeg:https://biblioteka.szemud.pl/wp-content/uploads/2017/07/WAKACJE-W-BIBLIOTECEW-ŁEBNIE.jpg
END:VEVENT
BEGIN:VEVENT
DTSTART;TZID=Europe/Warsaw:20170719T120000
DTEND;TZID=Europe/Warsaw:20170719T140000
DTSTAMP:20260425T130329
CREATED:20170720T122421Z
LAST-MODIFIED:20170726T092816Z
UID:1695-1500465600-1500472800@biblioteka.szemud.pl
SUMMARY:Warsztaty GO_PRO! dla klas I-III w bibliotece w Szemudzie
DESCRIPTION:
URL:https://biblioteka.szemud.pl/index.php/event/warsztaty-go_pro-dla-klas-i-iii-w-bibliotece-w-szemudzie/
LOCATION:Biblioteka w Szemudzie\, Samorządowa 1\, Szemud
ATTACH;FMTTYPE=image/jpeg:https://biblioteka.szemud.pl/wp-content/uploads/2017/07/WAKACJE-W-BIBLIOTECE-W-SZEMUDZIE-3.jpg
END:VEVENT
BEGIN:VEVENT
DTSTART;TZID=Europe/Warsaw:20170724T110000
DTEND;TZID=Europe/Warsaw:20170724T130000
DTSTAMP:20260425T130329
CREATED:20170719T131138Z
LAST-MODIFIED:20170726T092846Z
UID:1665-1500894000-1500901200@biblioteka.szemud.pl
SUMMARY:Warsztaty tworzenia gier komputerowych w bibliotece w Bojanie
DESCRIPTION:
URL:https://biblioteka.szemud.pl/index.php/event/warsztaty-tworzenia-gier-komputerowych-w-bibliotece-w-bojanie/
LOCATION:Biblioteka w Bojanie\, ul. J. Wybickiego 38\, Bojano
ATTACH;FMTTYPE=image/jpeg:https://biblioteka.szemud.pl/wp-content/uploads/2017/07/lipiec-bojano.jpg
END:VEVENT
BEGIN:VEVENT
DTSTART;TZID=Europe/Warsaw:20170725T110000
DTEND;TZID=Europe/Warsaw:20170725T130000
DTSTAMP:20260425T130329
CREATED:20170719T131352Z
LAST-MODIFIED:20170726T092900Z
UID:1667-1500980400-1500987600@biblioteka.szemud.pl
SUMMARY:Warsztaty tworzenia gier komputerowych w bibliotece w Bojanie
DESCRIPTION:
URL:https://biblioteka.szemud.pl/index.php/event/warsztaty-tworzenia-gier-komputerowych-w-bibliotece-w-bojanie-2/
LOCATION:Biblioteka w Bojanie\, ul. J. Wybickiego 38\, Bojano
ATTACH;FMTTYPE=image/jpeg:https://biblioteka.szemud.pl/wp-content/uploads/2017/07/lipiec-bojano.jpg
END:VEVENT
BEGIN:VEVENT
DTSTART;TZID=Europe/Warsaw:20170725T130000
DTEND;TZID=Europe/Warsaw:20170725T150000
DTSTAMP:20260425T130329
CREATED:20170720T122152Z
LAST-MODIFIED:20170726T092922Z
UID:1691-1500987600-1500994800@biblioteka.szemud.pl
SUMMARY:„Ciekawe dlaczego?” w bibliotece w Łebnie
DESCRIPTION:
URL:https://biblioteka.szemud.pl/index.php/event/ciekawe-dlaczego-w-bibliotece-w-lebnie/
LOCATION:Biblioteka w Łebnie\, ul. Kartuska 9\, Łebno
ATTACH;FMTTYPE=image/jpeg:https://biblioteka.szemud.pl/wp-content/uploads/2017/07/WAKACJE-W-BIBLIOTECEW-ŁEBNIE.jpg
END:VEVENT
BEGIN:VEVENT
DTSTART;TZID=Europe/Warsaw:20170725T180000
DTEND;TZID=Europe/Warsaw:20170726T070000
DTSTAMP:20260425T130329
CREATED:20170705T123041Z
LAST-MODIFIED:20170726T092941Z
UID:1658-1501005600-1501052400@biblioteka.szemud.pl
SUMMARY:Noc w Bibliotece w Częstkowie
DESCRIPTION:
URL:https://biblioteka.szemud.pl/index.php/event/noc-w-bibliotece-w-czestkowie/
LOCATION:Biblioteka w Częstkowie\, ul. Szkolna 9\, Czestkowo
END:VEVENT
BEGIN:VEVENT
DTSTART;TZID=Europe/Warsaw:20170726T110000
DTEND;TZID=Europe/Warsaw:20170726T130000
DTSTAMP:20260425T130329
CREATED:20170719T131434Z
LAST-MODIFIED:20170726T092957Z
UID:1669-1501066800-1501074000@biblioteka.szemud.pl
SUMMARY:Warsztaty tworzenia gier komputerowych w bibliotece w Bojanie
DESCRIPTION:
URL:https://biblioteka.szemud.pl/index.php/event/warsztaty-tworzenia-gier-komputerowych-w-bibliotece-w-bojanie-3/
LOCATION:Biblioteka w Bojanie\, ul. J. Wybickiego 38\, Bojano
ATTACH;FMTTYPE=image/jpeg:https://biblioteka.szemud.pl/wp-content/uploads/2017/07/lipiec-bojano.jpg
END:VEVENT
BEGIN:VEVENT
DTSTART;TZID=Europe/Warsaw:20170727T130000
DTEND;TZID=Europe/Warsaw:20170727T140000
DTSTAMP:20260425T130329
CREATED:20170720T121352Z
LAST-MODIFIED:20170726T093034Z
UID:1678-1501160400-1501164000@biblioteka.szemud.pl
SUMMARY:Czytanie pod chmurką w bibliotece w Częstkowie
DESCRIPTION:
URL:https://biblioteka.szemud.pl/index.php/event/czytanie-pod-chmurka-w-bibliotece-w-czestkowie-2/
LOCATION:Biblioteka w Częstkowie\, ul. Szkolna 9\, Czestkowo
ATTACH;FMTTYPE=image/png:https://biblioteka.szemud.pl/wp-content/uploads/2017/07/wakacje-częstkowo.png
END:VEVENT
BEGIN:VEVENT
DTSTART;TZID=Europe/Warsaw:20170727T180000
DTEND;TZID=Europe/Warsaw:20170728T070000
DTSTAMP:20260425T130329
CREATED:20170705T123200Z
LAST-MODIFIED:20170726T103515Z
UID:1660-1501178400-1501225200@biblioteka.szemud.pl
SUMMARY:Noc w Bibliotece w Szemudzie
DESCRIPTION:
URL:https://biblioteka.szemud.pl/index.php/event/noc-w-bibliotece-w-szemudzie/
LOCATION:Biblioteka w Szemudzie\, Samorządowa 1\, Szemud
ATTACH;FMTTYPE=image/jpeg:https://biblioteka.szemud.pl/wp-content/uploads/2017/07/Noc.jpg
END:VEVENT
BEGIN:VEVENT
DTSTART;TZID=Europe/Warsaw:20170731T110000
DTEND;TZID=Europe/Warsaw:20170731T130000
DTSTAMP:20260425T130329
CREATED:20170726T132145Z
LAST-MODIFIED:20170726T132145Z
UID:1760-1501498800-1501506000@biblioteka.szemud.pl
SUMMARY:Siecia@ki na wakacjach w bibliotece w Częstkowie
DESCRIPTION:
URL:https://biblioteka.szemud.pl/index.php/event/sieciaki-na-wakacjach-w-bibliotece-w-czestkowie/
LOCATION:Biblioteka w Częstkowie\, ul. Szkolna 9\, Czestkowo
END:VEVENT
BEGIN:VEVENT
DTSTART;TZID=Europe/Warsaw:20170801T110000
DTEND;TZID=Europe/Warsaw:20170801T130000
DTSTAMP:20260425T130329
CREATED:20170726T105255Z
LAST-MODIFIED:20170726T105255Z
UID:1743-1501585200-1501592400@biblioteka.szemud.pl
SUMMARY:Warsztaty filcowania igłą w bibliotece w Kielnie
DESCRIPTION:
URL:https://biblioteka.szemud.pl/index.php/event/warsztaty-filcowania-igla-w-bibliotece-w-kielnie/
LOCATION:Biblioteka w Kielnie\, ul. Oliwska 46\, Kielno
ATTACH;FMTTYPE=image/png:https://biblioteka.szemud.pl/wp-content/uploads/2016/10/wakacje-z-bibli_22953541_41ac6a5c9c098ebcc3356f8cb117b32856854c9f.png
END:VEVENT
BEGIN:VEVENT
DTSTART;TZID=Europe/Warsaw:20170802T110000
DTEND;TZID=Europe/Warsaw:20170802T123000
DTSTAMP:20260425T130329
CREATED:20170726T104735Z
LAST-MODIFIED:20170726T104735Z
UID:1735-1501671600-1501677000@biblioteka.szemud.pl
SUMMARY:Warsztaty "Kuchnia polska" w bibliotece w Bojanie
DESCRIPTION:
URL:https://biblioteka.szemud.pl/index.php/event/warsztaty-kuchnia-polska-w-bibliotece-w-bojanie/
LOCATION:Biblioteka w Bojanie\, ul. J. Wybickiego 38\, Bojano
ATTACH;FMTTYPE=image/jpeg:https://biblioteka.szemud.pl/wp-content/uploads/2016/10/Biblioteka-Publiczna-w-Bojanie.jpg
END:VEVENT
BEGIN:VEVENT
DTSTART;TZID=Europe/Warsaw:20170802T120000
DTEND;TZID=Europe/Warsaw:20170802T140000
DTSTAMP:20260425T130329
CREATED:20170726T103822Z
LAST-MODIFIED:20170726T103822Z
UID:1721-1501675200-1501682400@biblioteka.szemud.pl
SUMMARY:Warsztaty mydlane w bibliotece w Szemudzie
DESCRIPTION:
URL:https://biblioteka.szemud.pl/index.php/event/warsztaty-mydlane-w-bibliotece-w-szemudzie/
LOCATION:Biblioteka w Szemudzie\, Samorządowa 1\, Szemud
ATTACH;FMTTYPE=image/jpeg:https://biblioteka.szemud.pl/wp-content/uploads/2016/10/sierpie-5c-c5-8_23470719_df90a60ed4db4470ce9244b5bad6d57156a0b73f.jpeg
END:VEVENT
BEGIN:VEVENT
DTSTART;TZID=Europe/Warsaw:20170803T110000
DTEND;TZID=Europe/Warsaw:20170803T130000
DTSTAMP:20260425T130329
CREATED:20170726T105749Z
LAST-MODIFIED:20170726T105749Z
UID:1745-1501758000-1501765200@biblioteka.szemud.pl
SUMMARY:Warsztaty tworzenia świec żelowych w bibliotece w Kielnie
DESCRIPTION:
URL:https://biblioteka.szemud.pl/index.php/event/warsztaty-tworzenia-swiec-zelowych-w-bibliotece-w-kielnie/
LOCATION:Biblioteka w Kielnie\, ul. Oliwska 46\, Kielno
ATTACH;FMTTYPE=image/png:https://biblioteka.szemud.pl/wp-content/uploads/2016/10/wakacje-z-bibli_22953541_41ac6a5c9c098ebcc3356f8cb117b32856854c9f.png
END:VEVENT
BEGIN:VEVENT
DTSTART;TZID=Europe/Warsaw:20170808T110000
DTEND;TZID=Europe/Warsaw:20170808T130000
DTSTAMP:20260425T130329
CREATED:20170726T110137Z
LAST-MODIFIED:20170726T110137Z
UID:1747-1502190000-1502197200@biblioteka.szemud.pl
SUMMARY:Warsztaty najciekawszych technik plastycznych w bibliotece w Kielnie
DESCRIPTION:
URL:https://biblioteka.szemud.pl/index.php/event/warsztaty-najciekawszych-technik-plastycznych-w-bibliotece-w-kielnie/
LOCATION:Biblioteka w Kielnie\, ul. Oliwska 46\, Kielno
ATTACH;FMTTYPE=image/png:https://biblioteka.szemud.pl/wp-content/uploads/2016/10/wakacje-z-bibli_22953541_41ac6a5c9c098ebcc3356f8cb117b32856854c9f.png
END:VEVENT
BEGIN:VEVENT
DTSTART;TZID=Europe/Warsaw:20170809T110000
DTEND;TZID=Europe/Warsaw:20170809T123000
DTSTAMP:20260425T130329
CREATED:20170726T104841Z
LAST-MODIFIED:20170726T104841Z
UID:1737-1502276400-1502281800@biblioteka.szemud.pl
SUMMARY:Warsztaty "Kuchnia z USA" w bibliotece w Bojanie
DESCRIPTION:
URL:https://biblioteka.szemud.pl/index.php/event/warsztaty-kuchnia-z-usa-w-bibliotece-w-bojanie/
LOCATION:Biblioteka w Bojanie\, ul. J. Wybickiego 38\, Bojano
ATTACH;FMTTYPE=image/jpeg:https://biblioteka.szemud.pl/wp-content/uploads/2016/10/Biblioteka-Publiczna-w-Bojanie.jpg
END:VEVENT
BEGIN:VEVENT
DTSTART;TZID=Europe/Warsaw:20170809T120000
DTEND;TZID=Europe/Warsaw:20170809T140000
DTSTAMP:20260425T130329
CREATED:20170726T104035Z
LAST-MODIFIED:20170726T104035Z
UID:1723-1502280000-1502287200@biblioteka.szemud.pl
SUMMARY:Malowanie na szkle w bibliotece w Szemudzie
DESCRIPTION:
URL:https://biblioteka.szemud.pl/index.php/event/malowanie-na-szkle-w-bibliotece-w-szemudzie/
LOCATION:Biblioteka w Szemudzie\, Samorządowa 1\, Szemud
ATTACH;FMTTYPE=image/jpeg:https://biblioteka.szemud.pl/wp-content/uploads/2016/10/sierpie-5c-c5-8_23470719_df90a60ed4db4470ce9244b5bad6d57156a0b73f.jpeg
END:VEVENT
END:VCALENDAR