BEGIN:VCALENDAR
VERSION:2.0
PRODID:-//Biblioteka Publiczna Gminy Szemud - ECPv6.15.20//NONSGML v1.0//EN
CALSCALE:GREGORIAN
METHOD:PUBLISH
X-ORIGINAL-URL:https://biblioteka.szemud.pl
X-WR-CALDESC:Wydarzenia dla Biblioteka Publiczna Gminy Szemud
REFRESH-INTERVAL;VALUE=DURATION:PT1H
X-Robots-Tag:noindex
X-PUBLISHED-TTL:PT1H
BEGIN:VTIMEZONE
TZID:Europe/Warsaw
BEGIN:DAYLIGHT
TZOFFSETFROM:+0100
TZOFFSETTO:+0200
TZNAME:CEST
DTSTART:20160327T010000
END:DAYLIGHT
BEGIN:STANDARD
TZOFFSETFROM:+0200
TZOFFSETTO:+0100
TZNAME:CET
DTSTART:20161030T010000
END:STANDARD
BEGIN:DAYLIGHT
TZOFFSETFROM:+0100
TZOFFSETTO:+0200
TZNAME:CEST
DTSTART:20170326T010000
END:DAYLIGHT
BEGIN:STANDARD
TZOFFSETFROM:+0200
TZOFFSETTO:+0100
TZNAME:CET
DTSTART:20171029T010000
END:STANDARD
BEGIN:DAYLIGHT
TZOFFSETFROM:+0100
TZOFFSETTO:+0200
TZNAME:CEST
DTSTART:20180325T010000
END:DAYLIGHT
BEGIN:STANDARD
TZOFFSETFROM:+0200
TZOFFSETTO:+0100
TZNAME:CET
DTSTART:20181028T010000
END:STANDARD
END:VTIMEZONE
BEGIN:VEVENT
DTSTART;TZID=Europe/Warsaw:20170425T183000
DTEND;TZID=Europe/Warsaw:20170425T200000
DTSTAMP:20260425T130355
CREATED:20170420T133215Z
LAST-MODIFIED:20170515T134049Z
UID:1382-1493145000-1493150400@biblioteka.szemud.pl
SUMMARY:Spotkanie autorskie z Marią Ulatowską i Jackiem Skowrońskim w Bibliotece w Bojanie
DESCRIPTION:
URL:https://biblioteka.szemud.pl/index.php/event/spotkanie-autorskie-z-maria-ulatowska-i-jackiem-skowronskim-w-bibliotece-w-bojanie/
LOCATION:Biblioteka w Bojanie\, ul. J. Wybickiego 38\, Bojano
ATTACH;FMTTYPE=image/png:https://biblioteka.szemud.pl/wp-content/uploads/2016/10/ulatowska4.png
END:VEVENT
BEGIN:VEVENT
DTSTART;TZID=Europe/Warsaw:20170502T120000
DTEND;TZID=Europe/Warsaw:20170502T140000
DTSTAMP:20260425T130355
CREATED:20170426T111259Z
LAST-MODIFIED:20170426T111259Z
UID:1427-1493726400-1493733600@biblioteka.szemud.pl
SUMMARY:Weekend majowy z klockami Lego w Bibliotece w Częstkowie
DESCRIPTION:
URL:https://biblioteka.szemud.pl/index.php/event/weekend-majowy-z-klockami-lego-w-bibliotece-w-czestkowie/
LOCATION:Biblioteka w Częstkowie\, ul. Szkolna 9\, Czestkowo
ATTACH;FMTTYPE=image/jpeg:https://biblioteka.szemud.pl/wp-content/uploads/2016/10/GO_PRO-plakat2-page-001.jpg
END:VEVENT
BEGIN:VEVENT
DTSTART;TZID=Europe/Warsaw:20170504T120000
DTEND;TZID=Europe/Warsaw:20170504T140000
DTSTAMP:20260425T130355
CREATED:20170426T111536Z
LAST-MODIFIED:20170426T111536Z
UID:1431-1493899200-1493906400@biblioteka.szemud.pl
SUMMARY:Weekend majowy z klockami Lego w Bibliotece w Częstkowie
DESCRIPTION:
URL:https://biblioteka.szemud.pl/index.php/event/weekend-majowy-z-klockami-lego-w-bibliotece-w-czestkowie-2/
LOCATION:Biblioteka w Częstkowie\, ul. Szkolna 9\, Czestkowo
ATTACH;FMTTYPE=image/jpeg:https://biblioteka.szemud.pl/wp-content/uploads/2016/10/GO_PRO-plakat2-page-001.jpg
END:VEVENT
BEGIN:VEVENT
DTSTART;TZID=Europe/Warsaw:20170508T090000
DTEND;TZID=Europe/Warsaw:20170508T103000
DTSTAMP:20260425T130355
CREATED:20170505T085931Z
LAST-MODIFIED:20170505T090445Z
UID:1451-1494234000-1494239400@biblioteka.szemud.pl
SUMMARY:Spotkanie autorskie z Ewą Cichocką w Bibliotece w Łebnie
DESCRIPTION:
URL:https://biblioteka.szemud.pl/index.php/event/spotkanie-autorskie-z-ewa-cichocka-w-bibliotece-w-lebnie/
LOCATION:Biblioteka w Łebnie\, ul. Kartuska 9\, Łebno
ATTACH;FMTTYPE=image/png:https://biblioteka.szemud.pl/wp-content/uploads/2016/10/tydzien-bibliotek-2017.png
END:VEVENT
BEGIN:VEVENT
DTSTART;TZID=Europe/Warsaw:20170508T093000
DTEND;TZID=Europe/Warsaw:20170508T113000
DTSTAMP:20260425T130355
CREATED:20170505T091357Z
LAST-MODIFIED:20170505T091357Z
UID:1461-1494235800-1494243000@biblioteka.szemud.pl
SUMMARY:Konkurs Mistrz Pięknego Czytania w Bibliotece w Bojanie
DESCRIPTION:
URL:https://biblioteka.szemud.pl/index.php/event/konkurs-mistrz-pieknego-czytania-w-bibliotece-w-bojanie/
LOCATION:Biblioteka w Bojanie\, ul. J. Wybickiego 38\, Bojano
ATTACH;FMTTYPE=image/png:https://biblioteka.szemud.pl/wp-content/uploads/2016/10/tydzien-bibliotek-2017.png
END:VEVENT
BEGIN:VEVENT
DTSTART;TZID=Europe/Warsaw:20170508T110000
DTEND;TZID=Europe/Warsaw:20170508T123000
DTSTAMP:20260425T130355
CREATED:20170505T090412Z
LAST-MODIFIED:20170505T090412Z
UID:1453-1494241200-1494246600@biblioteka.szemud.pl
SUMMARY:Spotkanie autorskie z Ewą Cichocką w Bibliotece w Częstkowie
DESCRIPTION:
URL:https://biblioteka.szemud.pl/index.php/event/spotkanie-autorskie-z-ewa-cichocka-w-bibliotece-w-czestkowie/
LOCATION:Biblioteka w Częstkowie\, ul. Szkolna 9\, Czestkowo
ATTACH;FMTTYPE=image/png:https://biblioteka.szemud.pl/wp-content/uploads/2016/10/tydzien-bibliotek-2017.png
END:VEVENT
BEGIN:VEVENT
DTSTART;TZID=Europe/Warsaw:20170508T130000
DTEND;TZID=Europe/Warsaw:20170508T143000
DTSTAMP:20260425T130355
CREATED:20170505T090632Z
LAST-MODIFIED:20170505T090632Z
UID:1455-1494248400-1494253800@biblioteka.szemud.pl
SUMMARY:Spotkanie autorskie z Ewą Cichocką w Bibliotece w Szemudzie
DESCRIPTION:
URL:https://biblioteka.szemud.pl/index.php/event/spotkanie-autorskie-z-ewa-cichocka-w-bibliotece-w-szemudzie/
LOCATION:Biblioteka w Szemudzie\, Samorządowa 1\, Szemud
ATTACH;FMTTYPE=image/png:https://biblioteka.szemud.pl/wp-content/uploads/2016/10/tydzien-bibliotek-2017.png
END:VEVENT
BEGIN:VEVENT
DTSTART;TZID=Europe/Warsaw:20170509T180000
DTEND;TZID=Europe/Warsaw:20170509T200000
DTSTAMP:20260425T130355
CREATED:20170427T103242Z
LAST-MODIFIED:20170427T103242Z
UID:1436-1494352800-1494360000@biblioteka.szemud.pl
SUMMARY:Spotkanie autorskie z Agnieszką Lingas-Łoniewską w Bibliotece w Szemudzie
DESCRIPTION:
URL:https://biblioteka.szemud.pl/index.php/event/spotkanie-autorskie-z-agnieszka-lingas-loniewska-w-bibliotece-w-szemudzie/
LOCATION:Biblioteka w Szemudzie\, Samorządowa 1\, Szemud
ATTACH;FMTTYPE=image/png:https://biblioteka.szemud.pl/wp-content/uploads/2016/10/Lingas..png
END:VEVENT
BEGIN:VEVENT
DTSTART;TZID=Europe/Warsaw:20170510T090000
DTEND;TZID=Europe/Warsaw:20170510T103000
DTSTAMP:20260425T130355
CREATED:20170505T092548Z
LAST-MODIFIED:20170505T092548Z
UID:1473-1494406800-1494412200@biblioteka.szemud.pl
SUMMARY:Spektakl "Czerwony Kapturek" w Bibliotece w Kielnie
DESCRIPTION:
URL:https://biblioteka.szemud.pl/index.php/event/spektakl-czerwony-kapturek-w-bibliotece-w-kielnie/
LOCATION:Biblioteka w Kielnie\, ul. Oliwska 46\, Kielno
ATTACH;FMTTYPE=image/png:https://biblioteka.szemud.pl/wp-content/uploads/2016/10/tydzien-bibliotek-2017.png
END:VEVENT
BEGIN:VEVENT
DTSTART;TZID=Europe/Warsaw:20170510T090000
DTEND;TZID=Europe/Warsaw:20170510T110000
DTSTAMP:20260425T130355
CREATED:20170505T091527Z
LAST-MODIFIED:20170505T091527Z
UID:1463-1494406800-1494414000@biblioteka.szemud.pl
SUMMARY:Konkurs Mistrz Pięknego Czytania w Bibliotece w Szemudzie
DESCRIPTION:
URL:https://biblioteka.szemud.pl/index.php/event/konkurs-mistrz-pieknego-czytania-w-bibliotece-w-szemudzie/
LOCATION:Biblioteka w Szemudzie\, Samorządowa 1\, Szemud
ATTACH;FMTTYPE=image/png:https://biblioteka.szemud.pl/wp-content/uploads/2016/10/tydzien-bibliotek-2017.png
END:VEVENT
BEGIN:VEVENT
DTSTART;TZID=Europe/Warsaw:20170510T090000
DTEND;TZID=Europe/Warsaw:20170510T110000
DTSTAMP:20260425T130355
CREATED:20170505T091724Z
LAST-MODIFIED:20170505T091724Z
UID:1465-1494406800-1494414000@biblioteka.szemud.pl
SUMMARY:Konkurs Mistrz Pięknego Czytania w Bibliotece w Łebnie
DESCRIPTION:
URL:https://biblioteka.szemud.pl/index.php/event/konkurs-mistrz-pieknego-czytania-w-bibliotece-w-lebnie/
LOCATION:Biblioteka w Łebnie\, ul. Kartuska 9\, Łebno
ATTACH;FMTTYPE=image/png:https://biblioteka.szemud.pl/wp-content/uploads/2016/10/tydzien-bibliotek-2017.png
END:VEVENT
BEGIN:VEVENT
DTSTART;TZID=Europe/Warsaw:20170510T090000
DTEND;TZID=Europe/Warsaw:20170510T110000
DTSTAMP:20260425T130355
CREATED:20170505T091848Z
LAST-MODIFIED:20170505T091848Z
UID:1467-1494406800-1494414000@biblioteka.szemud.pl
SUMMARY:Konkurs Mistrz Pięknego Czytania w Bibliotece w Częstkowie
DESCRIPTION:
URL:https://biblioteka.szemud.pl/index.php/event/konkurs-mistrz-pieknego-czytania-w-bibliotece-w-czestkowie/
LOCATION:Biblioteka w Częstkowie\, ul. Szkolna 9\, Czestkowo
ATTACH;FMTTYPE=image/png:https://biblioteka.szemud.pl/wp-content/uploads/2016/10/tydzien-bibliotek-2017.png
END:VEVENT
BEGIN:VEVENT
DTSTART;TZID=Europe/Warsaw:20170510T103000
DTEND;TZID=Europe/Warsaw:20170510T123000
DTSTAMP:20260425T130355
CREATED:20170505T092137Z
LAST-MODIFIED:20170505T092137Z
UID:1469-1494412200-1494419400@biblioteka.szemud.pl
SUMMARY:Konkurs Mistrz Pięknego Czytania w Bibliotece w Kielnie
DESCRIPTION:
URL:https://biblioteka.szemud.pl/index.php/event/konkurs-mistrz-pieknego-czytania-w-bibliotece-w-kielnie/
LOCATION:Biblioteka w Kielnie\, ul. Oliwska 46\, Kielno
ATTACH;FMTTYPE=image/png:https://biblioteka.szemud.pl/wp-content/uploads/2016/10/tydzien-bibliotek-2017.png
END:VEVENT
BEGIN:VEVENT
DTSTART;TZID=Europe/Warsaw:20170510T110000
DTEND;TZID=Europe/Warsaw:20170510T123000
DTSTAMP:20260425T130355
CREATED:20170505T092754Z
LAST-MODIFIED:20170505T092754Z
UID:1475-1494414000-1494419400@biblioteka.szemud.pl
SUMMARY:Spektakl „Czerwony Kapturek” w Bibliotece w Bojanie
DESCRIPTION:
URL:https://biblioteka.szemud.pl/index.php/event/spektakl-czerwony-kapturek-w-bibliotece-w-bojanie/
LOCATION:Biblioteka w Bojanie\, ul. J. Wybickiego 38\, Bojano
ATTACH;FMTTYPE=image/png:https://biblioteka.szemud.pl/wp-content/uploads/2016/10/tydzien-bibliotek-2017.png
END:VEVENT
BEGIN:VEVENT
DTSTART;TZID=Europe/Warsaw:20170511T083000
DTEND;TZID=Europe/Warsaw:20170511T100000
DTSTAMP:20260425T130355
CREATED:20170505T090825Z
LAST-MODIFIED:20170505T090825Z
UID:1457-1494491400-1494496800@biblioteka.szemud.pl
SUMMARY:Spotkanie autorskie z Ewą Cichocką w Bibliotece w Bojanie
DESCRIPTION:
URL:https://biblioteka.szemud.pl/index.php/event/spotkanie-autorskie-z-ewa-cichocka-w-bibliotece-w-bojanie/
LOCATION:Biblioteka w Bojanie\, ul. J. Wybickiego 38\, Bojano
ATTACH;FMTTYPE=image/png:https://biblioteka.szemud.pl/wp-content/uploads/2016/10/tydzien-bibliotek-2017.png
END:VEVENT
BEGIN:VEVENT
DTSTART;TZID=Europe/Warsaw:20170511T090000
DTEND;TZID=Europe/Warsaw:20170511T103000
DTSTAMP:20260425T130355
CREATED:20170505T092949Z
LAST-MODIFIED:20170505T092949Z
UID:1477-1494493200-1494498600@biblioteka.szemud.pl
SUMMARY:Spektakl „Czerwony Kapturek” w Bibliotece w Łebnie
DESCRIPTION:
URL:https://biblioteka.szemud.pl/index.php/event/spektakl-czerwony-kapturek-w-bibliotece-w-lebnie/
LOCATION:Biblioteka w Łebnie\, ul. Kartuska 9\, Łebno
ATTACH;FMTTYPE=image/png:https://biblioteka.szemud.pl/wp-content/uploads/2016/10/tydzien-bibliotek-2017.png
END:VEVENT
BEGIN:VEVENT
DTSTART;TZID=Europe/Warsaw:20170511T103000
DTEND;TZID=Europe/Warsaw:20170511T120000
DTSTAMP:20260425T130355
CREATED:20170505T091155Z
LAST-MODIFIED:20170505T091155Z
UID:1459-1494498600-1494504000@biblioteka.szemud.pl
SUMMARY:Spotkanie autorskie z Ewą Cichocką w Bibliotece w Kielnie
DESCRIPTION:
URL:https://biblioteka.szemud.pl/index.php/event/spotkanie-autorskie-z-ewa-cichocka-w-bibliotece-w-kielnie/
LOCATION:Biblioteka w Kielnie\, ul. Oliwska 46\, Kielno
ATTACH;FMTTYPE=image/png:https://biblioteka.szemud.pl/wp-content/uploads/2016/10/tydzien-bibliotek-2017.png
END:VEVENT
BEGIN:VEVENT
DTSTART;TZID=Europe/Warsaw:20170511T110000
DTEND;TZID=Europe/Warsaw:20170511T123000
DTSTAMP:20260425T130355
CREATED:20170505T093144Z
LAST-MODIFIED:20170505T093144Z
UID:1479-1494500400-1494505800@biblioteka.szemud.pl
SUMMARY:Spektakl „Czerwony Kapturek” w Bibliotece w Częstkowie
DESCRIPTION:
URL:https://biblioteka.szemud.pl/index.php/event/spektakl-czerwony-kapturek-w-bibliotece-w-czestkowie/
LOCATION:Biblioteka w Częstkowie\, ul. Szkolna 9\, Czestkowo
ATTACH;FMTTYPE=image/png:https://biblioteka.szemud.pl/wp-content/uploads/2016/10/tydzien-bibliotek-2017.png
END:VEVENT
BEGIN:VEVENT
DTSTART;TZID=Europe/Warsaw:20170511T110000
DTEND;TZID=Europe/Warsaw:20170511T123000
DTSTAMP:20260425T130355
CREATED:20170505T093622Z
LAST-MODIFIED:20170505T093622Z
UID:1483-1494500400-1494505800@biblioteka.szemud.pl
SUMMARY:Pasowanie na czytelnika w Bibliotece w Łebnie
DESCRIPTION:
URL:https://biblioteka.szemud.pl/index.php/event/pasowanie-na-czytelnika-w-bibliotece-w-lebnie/
LOCATION:Biblioteka w Łebnie\, ul. Kartuska 9\, Łebno
ATTACH;FMTTYPE=image/png:https://biblioteka.szemud.pl/wp-content/uploads/2016/10/tydzien-bibliotek-2017.png
END:VEVENT
BEGIN:VEVENT
DTSTART;TZID=Europe/Warsaw:20170511T130000
DTEND;TZID=Europe/Warsaw:20170511T143000
DTSTAMP:20260425T130355
CREATED:20170505T093440Z
LAST-MODIFIED:20170505T093440Z
UID:1481-1494507600-1494513000@biblioteka.szemud.pl
SUMMARY:Spektakl „Czerwony Kapturek” w Bibliotece w Szemudzie
DESCRIPTION:
URL:https://biblioteka.szemud.pl/index.php/event/spektakl-czerwony-kapturek-w-bibliotece-w-szemudzie/
LOCATION:Biblioteka w Szemudzie\, Samorządowa 1\, Szemud
ATTACH;FMTTYPE=image/png:https://biblioteka.szemud.pl/wp-content/uploads/2016/10/tydzien-bibliotek-2017.png
END:VEVENT
BEGIN:VEVENT
DTSTART;TZID=Europe/Warsaw:20170512T090000
DTEND;TZID=Europe/Warsaw:20170512T110000
DTSTAMP:20260425T130355
CREATED:20170505T092330Z
LAST-MODIFIED:20170505T092330Z
UID:1471-1494579600-1494586800@biblioteka.szemud.pl
SUMMARY:Konkurs Gminny Mistrz Pięknego Czytania w Bibliotece w Szemudzie
DESCRIPTION:
URL:https://biblioteka.szemud.pl/index.php/event/konkurs-gminny-mistrz-pieknego-czytania-w-bibliotece-w-szemudzie/
LOCATION:Biblioteka w Szemudzie\, Samorządowa 1\, Szemud
ATTACH;FMTTYPE=image/png:https://biblioteka.szemud.pl/wp-content/uploads/2016/10/tydzien-bibliotek-2017.png
END:VEVENT
BEGIN:VEVENT
DTSTART;TZID=Europe/Warsaw:20170515T090000
DTEND;TZID=Europe/Warsaw:20170515T103000
DTSTAMP:20260425T130355
CREATED:20170505T093814Z
LAST-MODIFIED:20170505T093814Z
UID:1485-1494838800-1494844200@biblioteka.szemud.pl
SUMMARY:Pasowanie na czytelnika w Bibliotece w Szemudzie
DESCRIPTION:
URL:https://biblioteka.szemud.pl/index.php/event/pasowanie-na-czytelnika-w-bibliotece-w-szemudzie/
LOCATION:Biblioteka w Szemudzie\, Samorządowa 1\, Szemud
ATTACH;FMTTYPE=image/png:https://biblioteka.szemud.pl/wp-content/uploads/2016/10/tydzien-bibliotek-2017.png
END:VEVENT
BEGIN:VEVENT
DTSTART;TZID=Europe/Warsaw:20170515T090000
DTEND;TZID=Europe/Warsaw:20170515T103000
DTSTAMP:20260425T130355
CREATED:20170505T093925Z
LAST-MODIFIED:20170505T093925Z
UID:1487-1494838800-1494844200@biblioteka.szemud.pl
SUMMARY:Pasowanie na czytelnika w Bibliotece w Częstkowie
DESCRIPTION:
URL:https://biblioteka.szemud.pl/index.php/event/pasowanie-na-czytelnika-w-bibliotece-w-czestkowie/
LOCATION:Biblioteka w Częstkowie\, ul. Szkolna 9\, Czestkowo
ATTACH;FMTTYPE=image/png:https://biblioteka.szemud.pl/wp-content/uploads/2016/10/tydzien-bibliotek-2017.png
END:VEVENT
BEGIN:VEVENT
DTSTART;TZID=Europe/Warsaw:20170518T090000
DTEND;TZID=Europe/Warsaw:20170518T103000
DTSTAMP:20260425T130355
CREATED:20170505T094052Z
LAST-MODIFIED:20170505T094052Z
UID:1489-1495098000-1495103400@biblioteka.szemud.pl
SUMMARY:Pasowanie na czytelnika w Bibliotece w Bojanie
DESCRIPTION:
URL:https://biblioteka.szemud.pl/index.php/event/pasowanie-na-czytelnika-w-bibliotece-w-bojanie/
LOCATION:Biblioteka w Bojanie\, ul. J. Wybickiego 38\, Bojano
ATTACH;FMTTYPE=image/png:https://biblioteka.szemud.pl/wp-content/uploads/2016/10/tydzien-bibliotek-2017.png
END:VEVENT
BEGIN:VEVENT
DTSTART;TZID=Europe/Warsaw:20170519T190000
DTEND;TZID=Europe/Warsaw:20170519T210000
DTSTAMP:20260425T130355
CREATED:20170427T122003Z
LAST-MODIFIED:20170427T122003Z
UID:1443-1495220400-1495227600@biblioteka.szemud.pl
SUMMARY:VII Wieczór Kaszubski: Madonna Wejherowska
DESCRIPTION:
URL:https://biblioteka.szemud.pl/index.php/event/vii-wieczor-kaszubski-madonna-wejherowska/
LOCATION:Biblioteka w Szemudzie\, Samorządowa 1\, Szemud
ATTACH;FMTTYPE=image/png:https://biblioteka.szemud.pl/wp-content/uploads/2016/10/Wieczór-Kaszubski.png
END:VEVENT
BEGIN:VEVENT
DTSTART;TZID=Europe/Warsaw:20170530T110000
DTEND;TZID=Europe/Warsaw:20170530T130000
DTSTAMP:20260425T130355
CREATED:20170720T123505Z
LAST-MODIFIED:20170720T123505Z
UID:1697-1496142000-1496149200@biblioteka.szemud.pl
SUMMARY:Dzień Matki w bibliotece w Szemudzie
DESCRIPTION:
URL:https://biblioteka.szemud.pl/index.php/event/dzien-matki-w-bibliotece-w-szemudzie/
LOCATION:Biblioteka w Szemudzie\, Samorządowa 1\, Szemud
END:VEVENT
BEGIN:VEVENT
DTSTART;TZID=Europe/Warsaw:20170612T090000
DTEND;TZID=Europe/Warsaw:20170612T110000
DTSTAMP:20260425T130355
CREATED:20170519T141300Z
LAST-MODIFIED:20170519T141300Z
UID:1594-1497258000-1497265200@biblioteka.szemud.pl
SUMMARY:Gminny Konkurs Recytatorski Poezji Jana Piepki
DESCRIPTION:
URL:https://biblioteka.szemud.pl/index.php/event/gminny-konkurs-recytatorski-poezji-jana-piepki/
LOCATION:Biblioteka w Łebnie\, ul. Kartuska 9\, Łebno
ATTACH;FMTTYPE=image/png:https://biblioteka.szemud.pl/wp-content/uploads/2016/10/piepka.png
END:VEVENT
BEGIN:VEVENT
DTSTART;TZID=Europe/Warsaw:20170614T180000
DTEND;TZID=Europe/Warsaw:20170614T200000
DTSTAMP:20260425T130355
CREATED:20170610T124901Z
LAST-MODIFIED:20170726T103842Z
UID:1647-1497463200-1497470400@biblioteka.szemud.pl
SUMMARY:Uroczyste zakończenie kół zainteresowań
DESCRIPTION:
URL:https://biblioteka.szemud.pl/index.php/event/uroczyste-zakonczenie-kol-zainteresowan/
LOCATION:Hala sportowa w Szemudzie\, Szkolna 4a\, Szemud\, pomorskie\, 84-217\, Polska
ATTACH;FMTTYPE=image/jpeg:https://biblioteka.szemud.pl/wp-content/uploads/2017/06/zakończenie-kółek..jpg
END:VEVENT
BEGIN:VEVENT
DTSTART;TZID=Europe/Warsaw:20170626T180000
DTEND;TZID=Europe/Warsaw:20170627T060000
DTSTAMP:20260425T130355
CREATED:20170705T122742Z
LAST-MODIFIED:20170726T090226Z
UID:1652-1498500000-1498543200@biblioteka.szemud.pl
SUMMARY:Noc w Bibliotece w Łebnie
DESCRIPTION:
URL:https://biblioteka.szemud.pl/index.php/event/noc-w-bibliotece-w-lebnie/
LOCATION:Biblioteka w Łebnie\, ul. Kartuska 9\, Łebno
ATTACH;FMTTYPE=image/jpeg:https://biblioteka.szemud.pl/wp-content/uploads/2017/07/Noc.jpg
END:VEVENT
BEGIN:VEVENT
DTSTART;TZID=Europe/Warsaw:20170627T120000
DTEND;TZID=Europe/Warsaw:20170627T140000
DTSTAMP:20260425T130355
CREATED:20170720T121020Z
LAST-MODIFIED:20170726T090259Z
UID:1674-1498564800-1498572000@biblioteka.szemud.pl
SUMMARY:Komiks - warsztaty z książką w bibliotece w Częstkowie
DESCRIPTION:
URL:https://biblioteka.szemud.pl/index.php/event/komiks-warsztaty-z-ksiazka-w-bibliotece-w-czestkowie/
LOCATION:Biblioteka w Częstkowie\, ul. Szkolna 9\, Czestkowo
ATTACH;FMTTYPE=image/png:https://biblioteka.szemud.pl/wp-content/uploads/2017/07/wakacje-częstkowo.png
END:VEVENT
END:VCALENDAR