BEGIN:VCALENDAR
VERSION:2.0
PRODID:-//Biblioteka Publiczna Gminy Szemud - ECPv6.15.20//NONSGML v1.0//EN
CALSCALE:GREGORIAN
METHOD:PUBLISH
X-ORIGINAL-URL:https://biblioteka.szemud.pl
X-WR-CALDESC:Wydarzenia dla Biblioteka Publiczna Gminy Szemud
REFRESH-INTERVAL;VALUE=DURATION:PT1H
X-Robots-Tag:noindex
X-PUBLISHED-TTL:PT1H
BEGIN:VTIMEZONE
TZID:Europe/Warsaw
BEGIN:DAYLIGHT
TZOFFSETFROM:+0100
TZOFFSETTO:+0200
TZNAME:CEST
DTSTART:20160327T010000
END:DAYLIGHT
BEGIN:STANDARD
TZOFFSETFROM:+0200
TZOFFSETTO:+0100
TZNAME:CET
DTSTART:20161030T010000
END:STANDARD
BEGIN:DAYLIGHT
TZOFFSETFROM:+0100
TZOFFSETTO:+0200
TZNAME:CEST
DTSTART:20170326T010000
END:DAYLIGHT
BEGIN:STANDARD
TZOFFSETFROM:+0200
TZOFFSETTO:+0100
TZNAME:CET
DTSTART:20171029T010000
END:STANDARD
BEGIN:DAYLIGHT
TZOFFSETFROM:+0100
TZOFFSETTO:+0200
TZNAME:CEST
DTSTART:20180325T010000
END:DAYLIGHT
BEGIN:STANDARD
TZOFFSETFROM:+0200
TZOFFSETTO:+0100
TZNAME:CET
DTSTART:20181028T010000
END:STANDARD
END:VTIMEZONE
BEGIN:VEVENT
DTSTART;TZID=Europe/Warsaw:20170316T170000
DTEND;TZID=Europe/Warsaw:20170316T190000
DTSTAMP:20260425T172541
CREATED:20170301T133600Z
LAST-MODIFIED:20170301T133600Z
UID:1234-1489683600-1489690800@biblioteka.szemud.pl
SUMMARY:Babski wieczór – warsztaty tworzenia biżuterii w Bojanie
DESCRIPTION:
URL:https://biblioteka.szemud.pl/index.php/event/babski-wieczor-warsztaty-tworzenia-bizuterii-w-bojanie/
LOCATION:Biblioteka w Bojanie\, ul. J. Wybickiego 38\, Bojano
ATTACH;FMTTYPE=image/jpeg:https://biblioteka.szemud.pl/wp-content/uploads/2016/10/Warsztaty-biżuterii-1.jpg
END:VEVENT
BEGIN:VEVENT
DTSTART;TZID=Europe/Warsaw:20170326T120000
DTEND;TZID=Europe/Warsaw:20170326T160000
DTSTAMP:20260425T172541
CREATED:20170303T100051Z
LAST-MODIFIED:20170303T133327Z
UID:1244-1490529600-1490544000@biblioteka.szemud.pl
SUMMARY:Wiosenne targi artystyczne
DESCRIPTION:
URL:https://biblioteka.szemud.pl/index.php/event/wiosenne-targi-artystyczne/
LOCATION:Hala sportowa w Bojanie\, ul. Wybickiego 38\, 84-207 Koleczkowo
ATTACH;FMTTYPE=image/jpeg:https://biblioteka.szemud.pl/wp-content/uploads/2016/10/plakat-TARGI-WIOSENNE.jpg
END:VEVENT
BEGIN:VEVENT
DTSTART;TZID=Europe/Warsaw:20170328T133000
DTEND;TZID=Europe/Warsaw:20170328T150000
DTSTAMP:20260425T172541
CREATED:20170323T143123Z
LAST-MODIFIED:20170324T102044Z
UID:1274-1490707800-1490713200@biblioteka.szemud.pl
SUMMARY:"Zagrajmy w eksperymenty" w Bibliotece w Bojanie
DESCRIPTION:
URL:https://biblioteka.szemud.pl/index.php/event/zagrajmy-w-eksperymenty-w-bibliotece-w-bojanie/
LOCATION:Biblioteka w Bojanie\, ul. J. Wybickiego 38\, Bojano
ATTACH;FMTTYPE=image/jpeg:https://biblioteka.szemud.pl/wp-content/uploads/2016/10/tydzień-z-internetem-2017-1.jpg
END:VEVENT
BEGIN:VEVENT
DTSTART;TZID=Europe/Warsaw:20170330T110000
DTEND;TZID=Europe/Warsaw:20170330T123000
DTSTAMP:20260425T172541
CREATED:20170323T143229Z
LAST-MODIFIED:20170324T102026Z
UID:1276-1490871600-1490877000@biblioteka.szemud.pl
SUMMARY:"Zagrajmy w eksperymenty" w Bibliotece w Kielnie
DESCRIPTION:
URL:https://biblioteka.szemud.pl/index.php/event/zagrajmy-w-eksperymenty-w-bibliotece-w-kielnie/
LOCATION:Biblioteka w Kielnie\, ul. Oliwska 46\, Kielno
ATTACH;FMTTYPE=image/jpeg:https://biblioteka.szemud.pl/wp-content/uploads/2016/10/tydzień-z-internetem-2017-1.jpg
END:VEVENT
BEGIN:VEVENT
DTSTART;TZID=Europe/Warsaw:20170330T133000
DTEND;TZID=Europe/Warsaw:20170330T150000
DTSTAMP:20260425T172541
CREATED:20170323T143347Z
LAST-MODIFIED:20170324T102010Z
UID:1278-1490880600-1490886000@biblioteka.szemud.pl
SUMMARY:"Zagrajmy w eksperymenty" w Bibliotece w Częstkowie
DESCRIPTION:
URL:https://biblioteka.szemud.pl/index.php/event/zagrajmy-w-eksperymenty-w-bibliotece-w-czestkowie/
LOCATION:Biblioteka w Częstkowie\, ul. Szkolna 9\, Czestkowo
ATTACH;FMTTYPE=image/jpeg:https://biblioteka.szemud.pl/wp-content/uploads/2016/10/tydzień-z-internetem-2017-1.jpg
END:VEVENT
BEGIN:VEVENT
DTSTART;TZID=Europe/Warsaw:20170331T150000
DTEND;TZID=Europe/Warsaw:20170331T163000
DTSTAMP:20260425T172541
CREATED:20170323T144104Z
LAST-MODIFIED:20170324T101951Z
UID:1280-1490972400-1490977800@biblioteka.szemud.pl
SUMMARY:"Zagrajmy w eksperymenty" w Bibliotece w Szemudzie
DESCRIPTION:
URL:https://biblioteka.szemud.pl/index.php/event/zagrajmy-w-eksperymenty-w-bibliotece-w-szemudzie/
LOCATION:Biblioteka w Szemudzie\, Samorządowa 1\, Szemud
ATTACH;FMTTYPE=image/jpeg:https://biblioteka.szemud.pl/wp-content/uploads/2016/10/tydzień-z-internetem-2017-1.jpg
END:VEVENT
BEGIN:VEVENT
DTSTART;TZID=Europe/Warsaw:20170403T133000
DTEND;TZID=Europe/Warsaw:20170403T150000
DTSTAMP:20260425T172541
CREATED:20170331T091835Z
LAST-MODIFIED:20170331T091835Z
UID:1329-1491226200-1491231600@biblioteka.szemud.pl
SUMMARY:Warsztaty Wielkanocne: decoupage w Bibliotece w Częstkowie
DESCRIPTION:
URL:https://biblioteka.szemud.pl/index.php/event/warsztaty-wielkanocne-decoupage-w-bibliotece-w-czestkowie/
LOCATION:Biblioteka w Częstkowie\, ul. Szkolna 9\, Czestkowo
ATTACH;FMTTYPE=image/png:https://biblioteka.szemud.pl/wp-content/uploads/2016/10/warsztaty-wielkanocne..png
END:VEVENT
BEGIN:VEVENT
DTSTART;TZID=Europe/Warsaw:20170404T110000
DTEND;TZID=Europe/Warsaw:20170404T130000
DTSTAMP:20260425T172541
CREATED:20170331T093119Z
LAST-MODIFIED:20170331T093119Z
UID:1339-1491303600-1491310800@biblioteka.szemud.pl
SUMMARY:Warsztaty Wielkanocne: decoupage w Bibliotece w Kielnie
DESCRIPTION:
URL:https://biblioteka.szemud.pl/index.php/event/warsztaty-wielkanocne-decoupage-w-bibliotece-w-kielnie/
LOCATION:Biblioteka w Kielnie\, ul. Oliwska 46\, Kielno
ATTACH;FMTTYPE=image/png:https://biblioteka.szemud.pl/wp-content/uploads/2016/10/warsztaty-wielkanocne..png
END:VEVENT
BEGIN:VEVENT
DTSTART;TZID=Europe/Warsaw:20170404T123000
DTEND;TZID=Europe/Warsaw:20170404T140000
DTSTAMP:20260425T172541
CREATED:20170331T092012Z
LAST-MODIFIED:20170331T092012Z
UID:1331-1491309000-1491314400@biblioteka.szemud.pl
SUMMARY:Warsztaty Wielkanocne: ozdoby z wikliny papierowej w Bibliotece w Częstkowie
DESCRIPTION:
URL:https://biblioteka.szemud.pl/index.php/event/warsztaty-wielkanocne-ozdoby-z-wikliny-papierowej-w-bibliotece-w-czestkowie/
LOCATION:Biblioteka w Częstkowie\, ul. Szkolna 9\, Czestkowo
ATTACH;FMTTYPE=image/png:https://biblioteka.szemud.pl/wp-content/uploads/2016/10/warsztaty-wielkanocne..png
END:VEVENT
BEGIN:VEVENT
DTSTART;TZID=Europe/Warsaw:20170404T160000
DTEND;TZID=Europe/Warsaw:20170404T180000
DTSTAMP:20260425T172541
CREATED:20170331T093637Z
LAST-MODIFIED:20170331T093637Z
UID:1345-1491321600-1491328800@biblioteka.szemud.pl
SUMMARY:Warsztaty Wielkanocne: jajko wielkanocne w Bibliotece w Szemudzie
DESCRIPTION:
URL:https://biblioteka.szemud.pl/index.php/event/warsztaty-wielkanocne-jajko-wielkanocne-w-bibliotece-w-szemudzie/
LOCATION:Biblioteka w Szemudzie\, Samorządowa 1\, Szemud
ATTACH;FMTTYPE=image/png:https://biblioteka.szemud.pl/wp-content/uploads/2016/10/warsztaty-wielkanocne..png
END:VEVENT
BEGIN:VEVENT
DTSTART;TZID=Europe/Warsaw:20170405T160000
DTEND;TZID=Europe/Warsaw:20170405T173000
DTSTAMP:20260425T172541
CREATED:20170331T093228Z
LAST-MODIFIED:20170331T093228Z
UID:1341-1491408000-1491413400@biblioteka.szemud.pl
SUMMARY:Warsztaty Wielkanocne: ozdoby wielkanocne w Bibliotece w Kielnie
DESCRIPTION:
URL:https://biblioteka.szemud.pl/index.php/event/warsztaty-wielkanocne-ozdoby-wielkanocne-w-bibliotece-w-kielnie/
LOCATION:Biblioteka w Kielnie\, ul. Oliwska 46\, Kielno
ATTACH;FMTTYPE=image/png:https://biblioteka.szemud.pl/wp-content/uploads/2016/10/warsztaty-wielkanocne..png
END:VEVENT
BEGIN:VEVENT
DTSTART;TZID=Europe/Warsaw:20170406T120000
DTEND;TZID=Europe/Warsaw:20170406T140000
DTSTAMP:20260425T172541
CREATED:20170331T100222Z
LAST-MODIFIED:20170331T100222Z
UID:1347-1491480000-1491487200@biblioteka.szemud.pl
SUMMARY:Warsztaty Wielkanocne: ozdoby wielkanocne w Bibliotece w Bojanie
DESCRIPTION:
URL:https://biblioteka.szemud.pl/index.php/event/warsztaty-wielkanocne-ozdoby-wielkanocne-w-bibliotece-w-bojanie/
LOCATION:Biblioteka w Bojanie\, ul. J. Wybickiego 38\, Bojano
ATTACH;FMTTYPE=image/png:https://biblioteka.szemud.pl/wp-content/uploads/2016/10/warsztaty-wielkanocne..png
END:VEVENT
BEGIN:VEVENT
DTSTART;TZID=Europe/Warsaw:20170407T090000
DTEND;TZID=Europe/Warsaw:20170407T120000
DTSTAMP:20260425T172541
CREATED:20170301T133857Z
LAST-MODIFIED:20170301T133857Z
UID:1236-1491555600-1491566400@biblioteka.szemud.pl
SUMMARY:Gminny Konkurs Recytatorski Literatury Kaszubskiej Rodno Mowa
DESCRIPTION:
URL:https://biblioteka.szemud.pl/index.php/event/gminny-konkurs-recytatorski-literatury-kaszubskiej-rodno-mowa/
LOCATION:Biblioteka w Szemudzie\, Samorządowa 1\, Szemud
ATTACH;FMTTYPE=image/png:https://biblioteka.szemud.pl/wp-content/uploads/2016/10/Rodno-Mowa..png
END:VEVENT
BEGIN:VEVENT
DTSTART;TZID=Europe/Warsaw:20170407T150000
DTEND;TZID=Europe/Warsaw:20170407T170000
DTSTAMP:20260425T172541
CREATED:20170331T093406Z
LAST-MODIFIED:20170331T093406Z
UID:1343-1491577200-1491584400@biblioteka.szemud.pl
SUMMARY:Warsztaty Wielkanocne: decoupage w Bibliotece w Kielnie
DESCRIPTION:
URL:https://biblioteka.szemud.pl/index.php/event/warsztaty-wielkanocne-decoupage-w-bibliotece-w-kielnie-2/
LOCATION:Biblioteka w Kielnie\, ul. Oliwska 46\, Kielno
ATTACH;FMTTYPE=image/png:https://biblioteka.szemud.pl/wp-content/uploads/2016/10/warsztaty-wielkanocne..png
END:VEVENT
BEGIN:VEVENT
DTSTART;TZID=Europe/Warsaw:20170410T123000
DTEND;TZID=Europe/Warsaw:20170410T140000
DTSTAMP:20260425T172541
CREATED:20170331T092214Z
LAST-MODIFIED:20170331T092619Z
UID:1333-1491827400-1491832800@biblioteka.szemud.pl
SUMMARY:Warsztaty Wielkanocne: zajęcia dla najmłodszych w Bibliotece w Częstkowie
DESCRIPTION:
URL:https://biblioteka.szemud.pl/index.php/event/warsztaty-wielkanocne-zajecia-dla-najmlodszych-w-bibliotece-w-czestkowie/
LOCATION:Biblioteka w Częstkowie\, ul. Szkolna 9\, Czestkowo
ATTACH;FMTTYPE=image/png:https://biblioteka.szemud.pl/wp-content/uploads/2016/10/warsztaty-wielkanocne..png
END:VEVENT
BEGIN:VEVENT
DTSTART;TZID=Europe/Warsaw:20170411T123000
DTEND;TZID=Europe/Warsaw:20170411T140000
DTSTAMP:20260425T172541
CREATED:20170331T092828Z
LAST-MODIFIED:20170331T092828Z
UID:1335-1491913800-1491919200@biblioteka.szemud.pl
SUMMARY:Warsztaty Wielkanocne: decoupage w Bibliotece w Częstkowie
DESCRIPTION:
URL:https://biblioteka.szemud.pl/index.php/event/warsztaty-wielkanocne-decoupage-w-bibliotece-w-czestkowie-2/
LOCATION:Biblioteka w Częstkowie\, ul. Szkolna 9\, Czestkowo
ATTACH;FMTTYPE=image/png:https://biblioteka.szemud.pl/wp-content/uploads/2016/10/warsztaty-wielkanocne..png
END:VEVENT
BEGIN:VEVENT
DTSTART;TZID=Europe/Warsaw:20170411T140000
DTEND;TZID=Europe/Warsaw:20170411T160000
DTSTAMP:20260425T172541
CREATED:20170331T100416Z
LAST-MODIFIED:20170331T101654Z
UID:1349-1491919200-1491926400@biblioteka.szemud.pl
SUMMARY:Warsztaty Wielkanocne: scrapbooking w Bibliotece w Bojanie
DESCRIPTION:
URL:https://biblioteka.szemud.pl/index.php/event/warsztaty-wielkanocne-scrapbooking-w-bibliotece-w-bojanie/
LOCATION:Biblioteka w Bojanie\, ul. J. Wybickiego 38\, Bojano
ATTACH;FMTTYPE=image/png:https://biblioteka.szemud.pl/wp-content/uploads/2016/10/warsztaty-wielkanocne..png
END:VEVENT
BEGIN:VEVENT
DTSTART;TZID=Europe/Warsaw:20170412T100000
DTEND;TZID=Europe/Warsaw:20170412T120000
DTSTAMP:20260425T172541
CREATED:20170331T093000Z
LAST-MODIFIED:20170331T093000Z
UID:1337-1491991200-1491998400@biblioteka.szemud.pl
SUMMARY:Warsztaty Wielkanocne: rodzinne warsztaty w Bibliotece w Częstkowie
DESCRIPTION:
URL:https://biblioteka.szemud.pl/index.php/event/warsztaty-wielkanocne-rodzinne-warsztaty-w-bibliotece-w-czestkowie/
LOCATION:Biblioteka w Częstkowie\, ul. Szkolna 9\, Czestkowo
ATTACH;FMTTYPE=image/png:https://biblioteka.szemud.pl/wp-content/uploads/2016/10/warsztaty-wielkanocne..png
END:VEVENT
BEGIN:VEVENT
DTSTART;TZID=Europe/Warsaw:20170413T120000
DTEND;TZID=Europe/Warsaw:20170413T140000
DTSTAMP:20260425T172541
CREATED:20170331T100548Z
LAST-MODIFIED:20170331T100548Z
UID:1352-1492084800-1492092000@biblioteka.szemud.pl
SUMMARY:Warsztaty Wielkanocne: ciastko na patyczku w Bibliotece w Bojanie
DESCRIPTION:
URL:https://biblioteka.szemud.pl/index.php/event/warsztaty-wielkanocne-ciastko-na-patyczku-w-bibliotece-w-bojanie/
LOCATION:Biblioteka w Bojanie\, ul. J. Wybickiego 38\, Bojano
ATTACH;FMTTYPE=image/png:https://biblioteka.szemud.pl/wp-content/uploads/2016/10/warsztaty-wielkanocne..png
END:VEVENT
BEGIN:VEVENT
DTSTART;TZID=Europe/Warsaw:20170425T183000
DTEND;TZID=Europe/Warsaw:20170425T200000
DTSTAMP:20260425T172541
CREATED:20170420T133215Z
LAST-MODIFIED:20170515T134049Z
UID:1382-1493145000-1493150400@biblioteka.szemud.pl
SUMMARY:Spotkanie autorskie z Marią Ulatowską i Jackiem Skowrońskim w Bibliotece w Bojanie
DESCRIPTION:
URL:https://biblioteka.szemud.pl/index.php/event/spotkanie-autorskie-z-maria-ulatowska-i-jackiem-skowronskim-w-bibliotece-w-bojanie/
LOCATION:Biblioteka w Bojanie\, ul. J. Wybickiego 38\, Bojano
ATTACH;FMTTYPE=image/png:https://biblioteka.szemud.pl/wp-content/uploads/2016/10/ulatowska4.png
END:VEVENT
BEGIN:VEVENT
DTSTART;TZID=Europe/Warsaw:20170502T120000
DTEND;TZID=Europe/Warsaw:20170502T140000
DTSTAMP:20260425T172541
CREATED:20170426T111259Z
LAST-MODIFIED:20170426T111259Z
UID:1427-1493726400-1493733600@biblioteka.szemud.pl
SUMMARY:Weekend majowy z klockami Lego w Bibliotece w Częstkowie
DESCRIPTION:
URL:https://biblioteka.szemud.pl/index.php/event/weekend-majowy-z-klockami-lego-w-bibliotece-w-czestkowie/
LOCATION:Biblioteka w Częstkowie\, ul. Szkolna 9\, Czestkowo
ATTACH;FMTTYPE=image/jpeg:https://biblioteka.szemud.pl/wp-content/uploads/2016/10/GO_PRO-plakat2-page-001.jpg
END:VEVENT
BEGIN:VEVENT
DTSTART;TZID=Europe/Warsaw:20170504T120000
DTEND;TZID=Europe/Warsaw:20170504T140000
DTSTAMP:20260425T172541
CREATED:20170426T111536Z
LAST-MODIFIED:20170426T111536Z
UID:1431-1493899200-1493906400@biblioteka.szemud.pl
SUMMARY:Weekend majowy z klockami Lego w Bibliotece w Częstkowie
DESCRIPTION:
URL:https://biblioteka.szemud.pl/index.php/event/weekend-majowy-z-klockami-lego-w-bibliotece-w-czestkowie-2/
LOCATION:Biblioteka w Częstkowie\, ul. Szkolna 9\, Czestkowo
ATTACH;FMTTYPE=image/jpeg:https://biblioteka.szemud.pl/wp-content/uploads/2016/10/GO_PRO-plakat2-page-001.jpg
END:VEVENT
BEGIN:VEVENT
DTSTART;TZID=Europe/Warsaw:20170508T090000
DTEND;TZID=Europe/Warsaw:20170508T103000
DTSTAMP:20260425T172541
CREATED:20170505T085931Z
LAST-MODIFIED:20170505T090445Z
UID:1451-1494234000-1494239400@biblioteka.szemud.pl
SUMMARY:Spotkanie autorskie z Ewą Cichocką w Bibliotece w Łebnie
DESCRIPTION:
URL:https://biblioteka.szemud.pl/index.php/event/spotkanie-autorskie-z-ewa-cichocka-w-bibliotece-w-lebnie/
LOCATION:Biblioteka w Łebnie\, ul. Kartuska 9\, Łebno
ATTACH;FMTTYPE=image/png:https://biblioteka.szemud.pl/wp-content/uploads/2016/10/tydzien-bibliotek-2017.png
END:VEVENT
BEGIN:VEVENT
DTSTART;TZID=Europe/Warsaw:20170508T093000
DTEND;TZID=Europe/Warsaw:20170508T113000
DTSTAMP:20260425T172541
CREATED:20170505T091357Z
LAST-MODIFIED:20170505T091357Z
UID:1461-1494235800-1494243000@biblioteka.szemud.pl
SUMMARY:Konkurs Mistrz Pięknego Czytania w Bibliotece w Bojanie
DESCRIPTION:
URL:https://biblioteka.szemud.pl/index.php/event/konkurs-mistrz-pieknego-czytania-w-bibliotece-w-bojanie/
LOCATION:Biblioteka w Bojanie\, ul. J. Wybickiego 38\, Bojano
ATTACH;FMTTYPE=image/png:https://biblioteka.szemud.pl/wp-content/uploads/2016/10/tydzien-bibliotek-2017.png
END:VEVENT
BEGIN:VEVENT
DTSTART;TZID=Europe/Warsaw:20170508T110000
DTEND;TZID=Europe/Warsaw:20170508T123000
DTSTAMP:20260425T172541
CREATED:20170505T090412Z
LAST-MODIFIED:20170505T090412Z
UID:1453-1494241200-1494246600@biblioteka.szemud.pl
SUMMARY:Spotkanie autorskie z Ewą Cichocką w Bibliotece w Częstkowie
DESCRIPTION:
URL:https://biblioteka.szemud.pl/index.php/event/spotkanie-autorskie-z-ewa-cichocka-w-bibliotece-w-czestkowie/
LOCATION:Biblioteka w Częstkowie\, ul. Szkolna 9\, Czestkowo
ATTACH;FMTTYPE=image/png:https://biblioteka.szemud.pl/wp-content/uploads/2016/10/tydzien-bibliotek-2017.png
END:VEVENT
BEGIN:VEVENT
DTSTART;TZID=Europe/Warsaw:20170508T130000
DTEND;TZID=Europe/Warsaw:20170508T143000
DTSTAMP:20260425T172541
CREATED:20170505T090632Z
LAST-MODIFIED:20170505T090632Z
UID:1455-1494248400-1494253800@biblioteka.szemud.pl
SUMMARY:Spotkanie autorskie z Ewą Cichocką w Bibliotece w Szemudzie
DESCRIPTION:
URL:https://biblioteka.szemud.pl/index.php/event/spotkanie-autorskie-z-ewa-cichocka-w-bibliotece-w-szemudzie/
LOCATION:Biblioteka w Szemudzie\, Samorządowa 1\, Szemud
ATTACH;FMTTYPE=image/png:https://biblioteka.szemud.pl/wp-content/uploads/2016/10/tydzien-bibliotek-2017.png
END:VEVENT
BEGIN:VEVENT
DTSTART;TZID=Europe/Warsaw:20170509T180000
DTEND;TZID=Europe/Warsaw:20170509T200000
DTSTAMP:20260425T172541
CREATED:20170427T103242Z
LAST-MODIFIED:20170427T103242Z
UID:1436-1494352800-1494360000@biblioteka.szemud.pl
SUMMARY:Spotkanie autorskie z Agnieszką Lingas-Łoniewską w Bibliotece w Szemudzie
DESCRIPTION:
URL:https://biblioteka.szemud.pl/index.php/event/spotkanie-autorskie-z-agnieszka-lingas-loniewska-w-bibliotece-w-szemudzie/
LOCATION:Biblioteka w Szemudzie\, Samorządowa 1\, Szemud
ATTACH;FMTTYPE=image/png:https://biblioteka.szemud.pl/wp-content/uploads/2016/10/Lingas..png
END:VEVENT
BEGIN:VEVENT
DTSTART;TZID=Europe/Warsaw:20170510T090000
DTEND;TZID=Europe/Warsaw:20170510T103000
DTSTAMP:20260425T172541
CREATED:20170505T092548Z
LAST-MODIFIED:20170505T092548Z
UID:1473-1494406800-1494412200@biblioteka.szemud.pl
SUMMARY:Spektakl "Czerwony Kapturek" w Bibliotece w Kielnie
DESCRIPTION:
URL:https://biblioteka.szemud.pl/index.php/event/spektakl-czerwony-kapturek-w-bibliotece-w-kielnie/
LOCATION:Biblioteka w Kielnie\, ul. Oliwska 46\, Kielno
ATTACH;FMTTYPE=image/png:https://biblioteka.szemud.pl/wp-content/uploads/2016/10/tydzien-bibliotek-2017.png
END:VEVENT
BEGIN:VEVENT
DTSTART;TZID=Europe/Warsaw:20170510T090000
DTEND;TZID=Europe/Warsaw:20170510T110000
DTSTAMP:20260425T172541
CREATED:20170505T091527Z
LAST-MODIFIED:20170505T091527Z
UID:1463-1494406800-1494414000@biblioteka.szemud.pl
SUMMARY:Konkurs Mistrz Pięknego Czytania w Bibliotece w Szemudzie
DESCRIPTION:
URL:https://biblioteka.szemud.pl/index.php/event/konkurs-mistrz-pieknego-czytania-w-bibliotece-w-szemudzie/
LOCATION:Biblioteka w Szemudzie\, Samorządowa 1\, Szemud
ATTACH;FMTTYPE=image/png:https://biblioteka.szemud.pl/wp-content/uploads/2016/10/tydzien-bibliotek-2017.png
END:VEVENT
BEGIN:VEVENT
DTSTART;TZID=Europe/Warsaw:20170510T090000
DTEND;TZID=Europe/Warsaw:20170510T110000
DTSTAMP:20260425T172541
CREATED:20170505T091724Z
LAST-MODIFIED:20170505T091724Z
UID:1465-1494406800-1494414000@biblioteka.szemud.pl
SUMMARY:Konkurs Mistrz Pięknego Czytania w Bibliotece w Łebnie
DESCRIPTION:
URL:https://biblioteka.szemud.pl/index.php/event/konkurs-mistrz-pieknego-czytania-w-bibliotece-w-lebnie/
LOCATION:Biblioteka w Łebnie\, ul. Kartuska 9\, Łebno
ATTACH;FMTTYPE=image/png:https://biblioteka.szemud.pl/wp-content/uploads/2016/10/tydzien-bibliotek-2017.png
END:VEVENT
END:VCALENDAR