BEGIN:VCALENDAR
VERSION:2.0
PRODID:-//Biblioteka Publiczna Gminy Szemud - ECPv6.15.20//NONSGML v1.0//EN
CALSCALE:GREGORIAN
METHOD:PUBLISH
X-WR-CALNAME:Biblioteka Publiczna Gminy Szemud
X-ORIGINAL-URL:https://biblioteka.szemud.pl
X-WR-CALDESC:Wydarzenia dla Biblioteka Publiczna Gminy Szemud
REFRESH-INTERVAL;VALUE=DURATION:PT1H
X-Robots-Tag:noindex
X-PUBLISHED-TTL:PT1H
BEGIN:VTIMEZONE
TZID:Europe/Warsaw
BEGIN:DAYLIGHT
TZOFFSETFROM:+0100
TZOFFSETTO:+0200
TZNAME:CEST
DTSTART:20220327T010000
END:DAYLIGHT
BEGIN:STANDARD
TZOFFSETFROM:+0200
TZOFFSETTO:+0100
TZNAME:CET
DTSTART:20221030T010000
END:STANDARD
BEGIN:DAYLIGHT
TZOFFSETFROM:+0100
TZOFFSETTO:+0200
TZNAME:CEST
DTSTART:20230326T010000
END:DAYLIGHT
BEGIN:STANDARD
TZOFFSETFROM:+0200
TZOFFSETTO:+0100
TZNAME:CET
DTSTART:20231029T010000
END:STANDARD
BEGIN:DAYLIGHT
TZOFFSETFROM:+0100
TZOFFSETTO:+0200
TZNAME:CEST
DTSTART:20240331T010000
END:DAYLIGHT
BEGIN:STANDARD
TZOFFSETFROM:+0200
TZOFFSETTO:+0100
TZNAME:CET
DTSTART:20241027T010000
END:STANDARD
END:VTIMEZONE
BEGIN:VEVENT
DTSTART;TZID=Europe/Warsaw:20230508T090000
DTEND;TZID=Europe/Warsaw:20230508T110000
DTSTAMP:20260420T051512
CREATED:20230427T101641Z
LAST-MODIFIED:20230427T101641Z
UID:31901-1683536400-1683543600@biblioteka.szemud.pl
SUMMARY:Mistrz Pięknego Czytania w bibliotece w Łebnie
DESCRIPTION:
URL:https://biblioteka.szemud.pl/index.php/event/mistrz-pieknego-czytania-w-bibliotece-w-lebnie/
LOCATION:Biblioteka w Łebnie\, ul. Kartuska 9\, Łebno
ATTACH;FMTTYPE=image/jpeg:https://biblioteka.szemud.pl/wp-content/uploads/2023/04/XX-OGOLNOPOLSKI-TYDZIEN-BIBLIOTEK-1.jpg
END:VEVENT
BEGIN:VEVENT
DTSTART;TZID=Europe/Warsaw:20230508T090000
DTEND;TZID=Europe/Warsaw:20230508T110000
DTSTAMP:20260420T051512
CREATED:20230427T101951Z
LAST-MODIFIED:20230427T102011Z
UID:31905-1683536400-1683543600@biblioteka.szemud.pl
SUMMARY:Mistrz Pięknego Czytania w bibliotece w Bojanie
DESCRIPTION:
URL:https://biblioteka.szemud.pl/index.php/event/mistrz-pieknego-czytania-w-bibliotece-w-bojanie/
LOCATION:Biblioteka w Bojanie\, ul. J. Wybickiego 38\, Bojano
ATTACH;FMTTYPE=image/jpeg:https://biblioteka.szemud.pl/wp-content/uploads/2023/04/XX-OGOLNOPOLSKI-TYDZIEN-BIBLIOTEK-1.jpg
END:VEVENT
BEGIN:VEVENT
DTSTART;TZID=Europe/Warsaw:20230508T100000
DTEND;TZID=Europe/Warsaw:20230508T110000
DTSTAMP:20260420T051512
CREATED:20230427T101854Z
LAST-MODIFIED:20230427T101854Z
UID:31903-1683540000-1683543600@biblioteka.szemud.pl
SUMMARY:Teatrzyk Kamishibai w bibliotece w Szemudzie
DESCRIPTION:
URL:https://biblioteka.szemud.pl/index.php/event/teatrzyk-kamishibai-w-bibliotece-w-szemudzie/
LOCATION:Biblioteka w Szemudzie\, Samorządowa 1\, Szemud
ATTACH;FMTTYPE=image/jpeg:https://biblioteka.szemud.pl/wp-content/uploads/2023/04/XX-OGOLNOPOLSKI-TYDZIEN-BIBLIOTEK-1.jpg
END:VEVENT
BEGIN:VEVENT
DTSTART;TZID=Europe/Warsaw:20230508T160000
DTEND;TZID=Europe/Warsaw:20230508T180000
DTSTAMP:20260420T051512
CREATED:20230415T080650Z
LAST-MODIFIED:20230415T080650Z
UID:31419-1683561600-1683568800@biblioteka.szemud.pl
SUMMARY:Warsztaty rozwojowe w oparciu o porozumieniu bez przemocy w bibliotece w Bojanie
DESCRIPTION:
URL:https://biblioteka.szemud.pl/index.php/event/warsztaty-rozwojowe-w-oparciu-o-porozumieniu-bez-przemocy-w-bibliotece-w-bojanie/
LOCATION:Biblioteka w Bojanie\, ul. J. Wybickiego 38\, Bojano
ATTACH;FMTTYPE=image/jpeg:https://biblioteka.szemud.pl/wp-content/uploads/2023/04/NVC-warsztaty-plakat.jpg
END:VEVENT
BEGIN:VEVENT
DTSTART;TZID=Europe/Warsaw:20230508T160000
DTEND;TZID=Europe/Warsaw:20230508T180000
DTSTAMP:20260420T051512
CREATED:20230427T102351Z
LAST-MODIFIED:20230427T102351Z
UID:31907-1683561600-1683568800@biblioteka.szemud.pl
SUMMARY:Warsztaty rozwojowe dla dorosłych NVC - Porozumienie bez przemocy w bibliotece w Bojanie
DESCRIPTION:
URL:https://biblioteka.szemud.pl/index.php/event/warsztaty-rozwojowe-dla-doroslych-nvc-porozumienie-bez-przemocy-w-bibliotece-w-bojanie/
LOCATION:Biblioteka w Bojanie\, ul. J. Wybickiego 38\, Bojano
ATTACH;FMTTYPE=image/png:https://biblioteka.szemud.pl/wp-content/uploads/2023/04/NVC-POROZUMIENIE-BEZ-PRZEMOCY.png
END:VEVENT
BEGIN:VEVENT
DTSTART;TZID=Europe/Warsaw:20230509T085000
DTEND;TZID=Europe/Warsaw:20230509T095000
DTSTAMP:20260420T051512
CREATED:20230427T103332Z
LAST-MODIFIED:20230427T103332Z
UID:31917-1683622200-1683625800@biblioteka.szemud.pl
SUMMARY:Spotkanie z kulturą japońską warsztaty w bibliotece w Bojanie
DESCRIPTION:
URL:https://biblioteka.szemud.pl/index.php/event/spotkanie-z-kultura-japonska-warsztaty-w-bibliotece-w-bojanie/
LOCATION:Biblioteka w Bojanie\, ul. J. Wybickiego 38\, Bojano
ATTACH;FMTTYPE=image/jpeg:https://biblioteka.szemud.pl/wp-content/uploads/2023/04/XX-OGOLNOPOLSKI-TYDZIEN-BIBLIOTEK-1.jpg
END:VEVENT
BEGIN:VEVENT
DTSTART;TZID=Europe/Warsaw:20230509T090000
DTEND;TZID=Europe/Warsaw:20230509T100000
DTSTAMP:20260420T051512
CREATED:20230427T102622Z
LAST-MODIFIED:20230427T102622Z
UID:31911-1683622800-1683626400@biblioteka.szemud.pl
SUMMARY:Pasowanie na czytelnika kl. I SP Łebieńska Huta w bibliotece w Łebnie
DESCRIPTION:
URL:https://biblioteka.szemud.pl/index.php/event/pasowanie-na-czytelnika-kl-i-sp-lebienska-huta-w-bibliotece-w-lebnie/
LOCATION:Biblioteka w Łebnie\, ul. Kartuska 9\, Łebno
ATTACH;FMTTYPE=image/jpeg:https://biblioteka.szemud.pl/wp-content/uploads/2023/04/XX-OGOLNOPOLSKI-TYDZIEN-BIBLIOTEK-1.jpg
END:VEVENT
BEGIN:VEVENT
DTSTART;TZID=Europe/Warsaw:20230509T090000
DTEND;TZID=Europe/Warsaw:20230509T110000
DTSTAMP:20260420T051512
CREATED:20230427T102836Z
LAST-MODIFIED:20230427T102836Z
UID:31913-1683622800-1683630000@biblioteka.szemud.pl
SUMMARY:Mistrz Pięknego Czytania w bibliotece w Szemudzie
DESCRIPTION:
URL:https://biblioteka.szemud.pl/index.php/event/mistrz-pieknego-czytania-w-bibliotece-w-szemudzie/
LOCATION:Biblioteka w Szemudzie\, Samorządowa 1\, Szemud
ATTACH;FMTTYPE=image/jpeg:https://biblioteka.szemud.pl/wp-content/uploads/2023/04/XX-OGOLNOPOLSKI-TYDZIEN-BIBLIOTEK-1.jpg
END:VEVENT
BEGIN:VEVENT
DTSTART;TZID=Europe/Warsaw:20230509T100000
DTEND;TZID=Europe/Warsaw:20230509T120000
DTSTAMP:20260420T051512
CREATED:20230427T102451Z
LAST-MODIFIED:20230427T102451Z
UID:31909-1683626400-1683633600@biblioteka.szemud.pl
SUMMARY:Mistrz Pięknego Czytania w bibliotece w Kielnie
DESCRIPTION:
URL:https://biblioteka.szemud.pl/index.php/event/mistrz-pieknego-czytania-w-bibliotece-w-kielnie/
LOCATION:Biblioteka w Kielnie\, ul. Oliwska 46\, Kielno
ATTACH;FMTTYPE=image/jpeg:https://biblioteka.szemud.pl/wp-content/uploads/2023/04/XX-OGOLNOPOLSKI-TYDZIEN-BIBLIOTEK-1.jpg
END:VEVENT
BEGIN:VEVENT
DTSTART;TZID=Europe/Warsaw:20230510T083000
DTEND;TZID=Europe/Warsaw:20230510T093000
DTSTAMP:20260420T051512
CREATED:20230427T103511Z
LAST-MODIFIED:20230427T103511Z
UID:31919-1683707400-1683711000@biblioteka.szemud.pl
SUMMARY:Spotkanie z kulturą japońską warsztaty w bibliotece w Kielnie
DESCRIPTION:
URL:https://biblioteka.szemud.pl/index.php/event/spotkanie-z-kultura-japonska-warsztaty-w-bibliotece-w-kielnie/
LOCATION:Biblioteka w Kielnie\, ul. Oliwska 46\, Kielno
ATTACH;FMTTYPE=image/jpeg:https://biblioteka.szemud.pl/wp-content/uploads/2023/04/XX-OGOLNOPOLSKI-TYDZIEN-BIBLIOTEK-1.jpg
END:VEVENT
BEGIN:VEVENT
DTSTART;TZID=Europe/Warsaw:20230511T100000
DTEND;TZID=Europe/Warsaw:20230511T120000
DTSTAMP:20260420T051512
CREATED:20230427T103623Z
LAST-MODIFIED:20230427T103623Z
UID:31921-1683799200-1683806400@biblioteka.szemud.pl
SUMMARY:Pasowanie na czytelnika kl. I w bibliotece w Kielnie
DESCRIPTION:
URL:https://biblioteka.szemud.pl/index.php/event/pasowanie-na-czytelnika-kl-i-w-bibliotece-w-kielnie/
LOCATION:Biblioteka w Kielnie\, ul. Oliwska 46\, Kielno
ATTACH;FMTTYPE=image/jpeg:https://biblioteka.szemud.pl/wp-content/uploads/2023/04/XX-OGOLNOPOLSKI-TYDZIEN-BIBLIOTEK-1.jpg
END:VEVENT
BEGIN:VEVENT
DTSTART;TZID=Europe/Warsaw:20230511T110000
DTEND;TZID=Europe/Warsaw:20230511T140000
DTSTAMP:20260420T051512
CREATED:20230427T104734Z
LAST-MODIFIED:20230427T104817Z
UID:31927-1683802800-1683813600@biblioteka.szemud.pl
SUMMARY:Promocja książek Jana Piepki w bibliotece w Szemudzie
DESCRIPTION:
URL:https://biblioteka.szemud.pl/index.php/event/promocja-ksiazek-jana-piepki-w-bibliotece-w-szemudzie/
LOCATION:Biblioteka w Szemudzie\, Samorządowa 1\, Szemud
END:VEVENT
BEGIN:VEVENT
DTSTART;TZID=Europe/Warsaw:20230511T150000
DTEND;TZID=Europe/Warsaw:20230511T163000
DTSTAMP:20260420T051512
CREATED:20230427T103803Z
LAST-MODIFIED:20230427T103803Z
UID:31923-1683817200-1683822600@biblioteka.szemud.pl
SUMMARY:Spotkanie robótkowe w bibliotece w Kielnie
DESCRIPTION:
URL:https://biblioteka.szemud.pl/index.php/event/spotkanie-robotkowe-w-bibliotece-w-kielnie-2/
LOCATION:Biblioteka w Kielnie\, ul. Oliwska 46\, Kielno
ATTACH;FMTTYPE=image/jpeg:https://biblioteka.szemud.pl/wp-content/uploads/2023/04/Brown-Clean-Motivational-Quote-Scrapbook.jpg
END:VEVENT
BEGIN:VEVENT
DTSTART;TZID=Europe/Warsaw:20230511T150000
DTEND;TZID=Europe/Warsaw:20230511T183000
DTSTAMP:20260420T051512
CREATED:20230427T103856Z
LAST-MODIFIED:20230506T072851Z
UID:31925-1683817200-1683829800@biblioteka.szemud.pl
SUMMARY:"Planszomania" w bibliotece w Bojanie
DESCRIPTION:
URL:https://biblioteka.szemud.pl/index.php/event/planszomania-w-bibliotece-w-bojanie-11/
LOCATION:Biblioteka w Bojanie\, ul. J. Wybickiego 38\, Bojano
ATTACH;FMTTYPE=image/png:https://biblioteka.szemud.pl/wp-content/uploads/2023/05/planszomania-V-2023-poprawiona-e1683358038823.png
END:VEVENT
BEGIN:VEVENT
DTSTART;TZID=Europe/Warsaw:20230512T110000
DTEND;TZID=Europe/Warsaw:20230512T140000
DTSTAMP:20260420T051512
CREATED:20230427T104936Z
LAST-MODIFIED:20230427T104936Z
UID:31929-1683889200-1683900000@biblioteka.szemud.pl
SUMMARY:Powiatowy Dzień Bibliotekarza w bibliotece w Szemudzie
DESCRIPTION:
URL:https://biblioteka.szemud.pl/index.php/event/powiatowy-dzien-bibliotekarza-w-bibliotece-w-szemudzie/
LOCATION:Biblioteka w Szemudzie\, Samorządowa 1\, Szemud
ATTACH;FMTTYPE=image/jpeg:https://biblioteka.szemud.pl/wp-content/uploads/2023/04/XX-OGOLNOPOLSKI-TYDZIEN-BIBLIOTEK-1.jpg
END:VEVENT
BEGIN:VEVENT
DTSTART;TZID=Europe/Warsaw:20230513T100000
DTEND;TZID=Europe/Warsaw:20230513T110000
DTSTAMP:20260420T051512
CREATED:20230427T105041Z
LAST-MODIFIED:20230427T105041Z
UID:31931-1683972000-1683975600@biblioteka.szemud.pl
SUMMARY:Kreatywny warsztat dla dorosłych w bibliotece w Bojanie
DESCRIPTION:
URL:https://biblioteka.szemud.pl/index.php/event/kreatywny-warsztat-dla-doroslych-w-bibliotece-w-bojanie/
LOCATION:Biblioteka w Bojanie\, ul. J. Wybickiego 38\, Bojano
ATTACH;FMTTYPE=image/jpeg:https://biblioteka.szemud.pl/wp-content/uploads/2023/04/XX-OGOLNOPOLSKI-TYDZIEN-BIBLIOTEK-1.jpg
END:VEVENT
BEGIN:VEVENT
DTSTART;TZID=Europe/Warsaw:20230513T120000
DTEND;TZID=Europe/Warsaw:20230513T140000
DTSTAMP:20260420T051512
CREATED:20230427T105322Z
LAST-MODIFIED:20230427T105322Z
UID:31933-1683979200-1683986400@biblioteka.szemud.pl
SUMMARY:Sesja RPG w bibliotece w Bojanie
DESCRIPTION:
URL:https://biblioteka.szemud.pl/index.php/event/sesja-rpg-w-bibliotece-w-bojanie/
LOCATION:Biblioteka w Bojanie\, ul. J. Wybickiego 38\, Bojano
END:VEVENT
BEGIN:VEVENT
DTSTART;TZID=Europe/Warsaw:20230515T090000
DTEND;TZID=Europe/Warsaw:20230515T100000
DTSTAMP:20260420T051512
CREATED:20230427T105704Z
LAST-MODIFIED:20230427T105704Z
UID:31937-1684141200-1684144800@biblioteka.szemud.pl
SUMMARY:Pasowanie na czytelnika kl. I SP Łebno w bibliotece w Łebnie
DESCRIPTION:
URL:https://biblioteka.szemud.pl/index.php/event/pasowanie-na-czytelnika-kl-i-sp-lebno-w-bibliotece-w-lebnie/
LOCATION:Biblioteka w Łebnie\, ul. Kartuska 9\, Łebno
ATTACH;FMTTYPE=image/jpeg:https://biblioteka.szemud.pl/wp-content/uploads/2023/04/XX-OGOLNOPOLSKI-TYDZIEN-BIBLIOTEK-1.jpg
END:VEVENT
BEGIN:VEVENT
DTSTART;TZID=Europe/Warsaw:20230515T090000
DTEND;TZID=Europe/Warsaw:20230515T110000
DTSTAMP:20260420T051512
CREATED:20230427T103132Z
LAST-MODIFIED:20230427T103151Z
UID:31915-1684141200-1684148400@biblioteka.szemud.pl
SUMMARY:Gminny Mistrz Pięknego Czytania w bibliotece w Szemudzie
DESCRIPTION:
URL:https://biblioteka.szemud.pl/index.php/event/gminny-mistrz-pieknego-czytania-w-bibliotece-w-szemudzie/
LOCATION:Biblioteka w Szemudzie\, Samorządowa 1\, Szemud
ATTACH;FMTTYPE=image/jpeg:https://biblioteka.szemud.pl/wp-content/uploads/2023/04/XX-OGOLNOPOLSKI-TYDZIEN-BIBLIOTEK-1.jpg
END:VEVENT
BEGIN:VEVENT
DTSTART;TZID=Europe/Warsaw:20230515T143000
DTEND;TZID=Europe/Warsaw:20230515T153000
DTSTAMP:20260420T051512
CREATED:20230427T105605Z
LAST-MODIFIED:20230506T072834Z
UID:31935-1684161000-1684164600@biblioteka.szemud.pl
SUMMARY:"Planszomania" w bibliotece w Szemudzie
DESCRIPTION:
URL:https://biblioteka.szemud.pl/index.php/event/planszomania-w-bibliotece-w-szemudzie-12/
LOCATION:Biblioteka w Szemudzie\, Samorządowa 1\, Szemud
ATTACH;FMTTYPE=image/png:https://biblioteka.szemud.pl/wp-content/uploads/2023/05/planszomania-V-2023-poprawiona-e1683358038823.png
END:VEVENT
BEGIN:VEVENT
DTSTART;TZID=Europe/Warsaw:20230515T160000
DTEND;TZID=Europe/Warsaw:20230515T173000
DTSTAMP:20260420T051512
CREATED:20230316T132221Z
LAST-MODIFIED:20230316T132221Z
UID:30074-1684166400-1684171800@biblioteka.szemud.pl
SUMMARY:PoznajMy Się! - czyli warsztaty rozwojowe dla klas 7-8 w bibliotece w Bojanie
DESCRIPTION:
URL:https://biblioteka.szemud.pl/index.php/event/poznajmy-sie-czyli-warsztaty-rozwojowe-dla-klas-7-8-w-bibliotece-w-bojanie-2/
LOCATION:Biblioteka w Bojanie\, ul. J. Wybickiego 38\, Bojano
ATTACH;FMTTYPE=image/jpeg:https://biblioteka.szemud.pl/wp-content/uploads/2023/03/ostateczny-plakat-na-warsztaty_page-0001-2-scaled-e1678972814940.jpg
END:VEVENT
BEGIN:VEVENT
DTSTART;TZID=Europe/Warsaw:20230516T120000
DTEND;TZID=Europe/Warsaw:20230516T140000
DTSTAMP:20260420T051512
CREATED:20230427T105842Z
LAST-MODIFIED:20230427T105842Z
UID:31939-1684238400-1684245600@biblioteka.szemud.pl
SUMMARY:Warsztaty Lego Mindstorms w bibliotece w Łebnie
DESCRIPTION:
URL:https://biblioteka.szemud.pl/index.php/event/warsztaty-lego-mindstorms-w-bibliotece-w-lebnie/
LOCATION:Biblioteka w Łebnie\, ul. Kartuska 9\, Łebno
ATTACH;FMTTYPE=image/png:https://biblioteka.szemud.pl/wp-content/uploads/2023/04/Lego-V-2023.png
END:VEVENT
BEGIN:VEVENT
DTSTART;TZID=Europe/Warsaw:20230516T143000
DTEND;TZID=Europe/Warsaw:20230516T163000
DTSTAMP:20260420T051512
CREATED:20230427T110006Z
LAST-MODIFIED:20230427T110006Z
UID:31941-1684247400-1684254600@biblioteka.szemud.pl
SUMMARY:Warsztaty Lego Mindstorms w bibliotece w Szemudzie
DESCRIPTION:
URL:https://biblioteka.szemud.pl/index.php/event/warsztaty-lego-mindstorms-w-bibliotece-w-szemudzie-3/
LOCATION:Biblioteka w Szemudzie\, Samorządowa 1\, Szemud
ATTACH;FMTTYPE=image/png:https://biblioteka.szemud.pl/wp-content/uploads/2023/04/Lego-V-2023.png
END:VEVENT
BEGIN:VEVENT
DTSTART;TZID=Europe/Warsaw:20230518T090000
DTEND;TZID=Europe/Warsaw:20230518T100000
DTSTAMP:20260420T051512
CREATED:20230427T110653Z
LAST-MODIFIED:20230427T110706Z
UID:31951-1684400400-1684404000@biblioteka.szemud.pl
SUMMARY:Spotkanie z kulturą japońską warsztaty w bibliotece w Łebnie
DESCRIPTION:
URL:https://biblioteka.szemud.pl/index.php/event/spotkanie-z-kultura-japonska-warsztaty-w-bibliotece-w-lebnie/
LOCATION:Biblioteka w Łebnie\, ul. Kartuska 9\, Łebno
END:VEVENT
BEGIN:VEVENT
DTSTART;TZID=Europe/Warsaw:20230518T110000
DTEND;TZID=Europe/Warsaw:20230518T120000
DTSTAMP:20260420T051512
CREATED:20230427T110748Z
LAST-MODIFIED:20230427T110748Z
UID:31953-1684407600-1684411200@biblioteka.szemud.pl
SUMMARY:Spotkanie z kulturą japońską warsztaty w bibliotece w Szemudzie
DESCRIPTION:
URL:https://biblioteka.szemud.pl/index.php/event/spotkanie-z-kultura-japonska-warsztaty-w-bibliotece-w-szemudzie/
LOCATION:Biblioteka w Szemudzie\, Samorządowa 1\, Szemud
END:VEVENT
BEGIN:VEVENT
DTSTART;TZID=Europe/Warsaw:20230518T150000
DTEND;TZID=Europe/Warsaw:20230518T163000
DTSTAMP:20260420T051512
CREATED:20230427T110248Z
LAST-MODIFIED:20230506T072804Z
UID:31945-1684422000-1684427400@biblioteka.szemud.pl
SUMMARY:"Planszomania" w bibliotece w Kielnie
DESCRIPTION:
URL:https://biblioteka.szemud.pl/index.php/event/planszomania-w-bibliotece-w-kielnie-7/
LOCATION:Biblioteka w Kielnie\, ul. Oliwska 46\, Kielno
ATTACH;FMTTYPE=image/png:https://biblioteka.szemud.pl/wp-content/uploads/2023/05/planszomania-V-2023-poprawiona-e1683358038823.png
END:VEVENT
BEGIN:VEVENT
DTSTART;TZID=Europe/Warsaw:20230518T150000
DTEND;TZID=Europe/Warsaw:20230518T163000
DTSTAMP:20260420T051512
CREATED:20230427T110406Z
LAST-MODIFIED:20230427T110406Z
UID:31947-1684422000-1684427400@biblioteka.szemud.pl
SUMMARY:Przygody w świecie kodowania z Robotem Photon w bibliotece w Kielnie
DESCRIPTION:
URL:https://biblioteka.szemud.pl/index.php/event/przygody-w-swiecie-kodowania-z-robotem-photon-w-bibliotece-w-kielnie/
LOCATION:Biblioteka w Kielnie\, ul. Oliwska 46\, Kielno
ATTACH;FMTTYPE=image/jpeg:https://biblioteka.szemud.pl/wp-content/uploads/2023/04/Lego-2021.jpg
END:VEVENT
BEGIN:VEVENT
DTSTART;TZID=Europe/Warsaw:20230518T160000
DTEND;TZID=Europe/Warsaw:20230518T170000
DTSTAMP:20260420T051512
CREATED:20230427T110516Z
LAST-MODIFIED:20230427T110516Z
UID:31949-1684425600-1684429200@biblioteka.szemud.pl
SUMMARY:Warsztaty "Makrama dla mam" w bibliotece w Łebnie
DESCRIPTION:
URL:https://biblioteka.szemud.pl/index.php/event/warsztaty-makrama-dla-mam-w-bibliotece-w-lebnie/
LOCATION:Biblioteka w Łebnie\, ul. Kartuska 9\, Łebno
ATTACH;FMTTYPE=image/png:https://biblioteka.szemud.pl/wp-content/uploads/2023/04/makrama-V-2023.png
END:VEVENT
BEGIN:VEVENT
DTSTART;TZID=Europe/Warsaw:20230518T160000
DTEND;TZID=Europe/Warsaw:20230518T170000
DTSTAMP:20260420T051512
CREATED:20230427T114557Z
LAST-MODIFIED:20230427T114557Z
UID:31985-1684425600-1684429200@biblioteka.szemud.pl
SUMMARY:"Papier\,klej i nożyczki" warsztaty niespodzianka w bibliotece w Bojanie
DESCRIPTION:
URL:https://biblioteka.szemud.pl/index.php/event/papierklej-i-nozyczki-warsztaty-niespodzianka-w-bibliotece-w-bojanie/
LOCATION:Biblioteka w Bojanie\, ul. J. Wybickiego 38\, Bojano
ATTACH;FMTTYPE=image/jpeg:https://biblioteka.szemud.pl/wp-content/uploads/2023/04/papier-klej-na-maj.jpg
END:VEVENT
BEGIN:VEVENT
DTSTART;TZID=Europe/Warsaw:20230522T130000
DTEND;TZID=Europe/Warsaw:20230522T140000
DTSTAMP:20260420T051512
CREATED:20230427T110855Z
LAST-MODIFIED:20230506T072728Z
UID:31955-1684760400-1684764000@biblioteka.szemud.pl
SUMMARY:"Planszomania" w bibliotece w Łebnie
DESCRIPTION:
URL:https://biblioteka.szemud.pl/index.php/event/planszomania-w-bibliotece-w-lebnie-4/
LOCATION:Biblioteka w Łebnie\, ul. Kartuska 9\, Łebno
ATTACH;FMTTYPE=image/png:https://biblioteka.szemud.pl/wp-content/uploads/2023/05/planszomania-V-2023-poprawiona-e1683358038823.png
END:VEVENT
END:VCALENDAR