BEGIN:VCALENDAR
VERSION:2.0
PRODID:-//Biblioteka Publiczna Gminy Szemud - ECPv6.15.20//NONSGML v1.0//EN
CALSCALE:GREGORIAN
METHOD:PUBLISH
X-WR-CALNAME:Biblioteka Publiczna Gminy Szemud
X-ORIGINAL-URL:https://biblioteka.szemud.pl
X-WR-CALDESC:Wydarzenia dla Biblioteka Publiczna Gminy Szemud
REFRESH-INTERVAL;VALUE=DURATION:PT1H
X-Robots-Tag:noindex
X-PUBLISHED-TTL:PT1H
BEGIN:VTIMEZONE
TZID:Europe/Warsaw
BEGIN:DAYLIGHT
TZOFFSETFROM:+0100
TZOFFSETTO:+0200
TZNAME:CEST
DTSTART:20220327T010000
END:DAYLIGHT
BEGIN:STANDARD
TZOFFSETFROM:+0200
TZOFFSETTO:+0100
TZNAME:CET
DTSTART:20221030T010000
END:STANDARD
BEGIN:DAYLIGHT
TZOFFSETFROM:+0100
TZOFFSETTO:+0200
TZNAME:CEST
DTSTART:20230326T010000
END:DAYLIGHT
BEGIN:STANDARD
TZOFFSETFROM:+0200
TZOFFSETTO:+0100
TZNAME:CET
DTSTART:20231029T010000
END:STANDARD
BEGIN:DAYLIGHT
TZOFFSETFROM:+0100
TZOFFSETTO:+0200
TZNAME:CEST
DTSTART:20240331T010000
END:DAYLIGHT
BEGIN:STANDARD
TZOFFSETFROM:+0200
TZOFFSETTO:+0100
TZNAME:CET
DTSTART:20241027T010000
END:STANDARD
END:VTIMEZONE
BEGIN:VEVENT
DTSTART;TZID=Europe/Warsaw:20230216T160000
DTEND;TZID=Europe/Warsaw:20230216T180000
DTSTAMP:20260420T084043
CREATED:20230130T152738Z
LAST-MODIFIED:20230130T152738Z
UID:29366-1676563200-1676570400@biblioteka.szemud.pl
SUMMARY:Wykład "Jak utrzymać i zmagazynować prawidłowy poziom witaminy D?" w bibliotece w Bojanie
DESCRIPTION:
URL:https://biblioteka.szemud.pl/index.php/event/wyklad-jak-utrzymac-i-zmagazynowac-prawidlowy-poziom-witaminy-d-w-bibliotece-w-bojanie/
LOCATION:Biblioteka w Bojanie\, ul. J. Wybickiego 38\, Bojano
ATTACH;FMTTYPE=image/png:https://biblioteka.szemud.pl/wp-content/uploads/2023/01/Wyklad-zdrowie-II-2023-1-e1675092434634.png
END:VEVENT
BEGIN:VEVENT
DTSTART;TZID=Europe/Warsaw:20230220T130000
DTEND;TZID=Europe/Warsaw:20230220T140000
DTSTAMP:20260420T084043
CREATED:20230130T154518Z
LAST-MODIFIED:20230130T154518Z
UID:29380-1676898000-1676901600@biblioteka.szemud.pl
SUMMARY:Rodzinna Planszomania w bibliotece w Łebnie
DESCRIPTION:
URL:https://biblioteka.szemud.pl/index.php/event/rodzinna-planszomania-w-bibliotece-w-lebnie/
LOCATION:Biblioteka w Łebnie\, ul. Kartuska 9\, Łebno
ATTACH;FMTTYPE=image/png:https://biblioteka.szemud.pl/wp-content/uploads/2023/01/Planszomania-II-20232-e1675093486431.png
END:VEVENT
BEGIN:VEVENT
DTSTART;TZID=Europe/Warsaw:20230221T150000
DTEND;TZID=Europe/Warsaw:20230221T160000
DTSTAMP:20260420T084043
CREATED:20230130T154659Z
LAST-MODIFIED:20230130T154659Z
UID:29382-1676991600-1676995200@biblioteka.szemud.pl
SUMMARY:Rodzinna Planszomania w bibliotece w Szemudzie
DESCRIPTION:
URL:https://biblioteka.szemud.pl/index.php/event/rodzinna-planszomania-w-bibliotece-w-szemudzie/
ATTACH;FMTTYPE=image/png:https://biblioteka.szemud.pl/wp-content/uploads/2023/01/Planszomania-II-20232-e1675093486431.png
END:VEVENT
BEGIN:VEVENT
DTSTART;TZID=Europe/Warsaw:20230223T150000
DTEND;TZID=Europe/Warsaw:20230223T163000
DTSTAMP:20260420T084043
CREATED:20230130T154849Z
LAST-MODIFIED:20230130T154849Z
UID:29384-1677164400-1677169800@biblioteka.szemud.pl
SUMMARY:Rodzinna Planszomania w bibliotece w Kielnie
DESCRIPTION:
URL:https://biblioteka.szemud.pl/index.php/event/rodzinna-planszomania-w-bibliotece-w-kielnie/
ATTACH;FMTTYPE=image/png:https://biblioteka.szemud.pl/wp-content/uploads/2023/01/Planszomania-II-20232-e1675093486431.png
END:VEVENT
BEGIN:VEVENT
DTSTART;TZID=Europe/Warsaw:20230223T160000
DTEND;TZID=Europe/Warsaw:20230223T180000
DTSTAMP:20260420T084043
CREATED:20230130T152643Z
LAST-MODIFIED:20230130T160633Z
UID:29362-1677168000-1677175200@biblioteka.szemud.pl
SUMMARY:Szydełkowe spotkania w bibliotece w Bojanie
DESCRIPTION:
URL:https://biblioteka.szemud.pl/index.php/event/szydelkowe-spotkania-w-bibliotece-w-bojanie/
LOCATION:Biblioteka w Bojanie\, ul. J. Wybickiego 38\, Bojano
ATTACH;FMTTYPE=image/png:https://biblioteka.szemud.pl/wp-content/uploads/2023/01/Bojano-szydelko-luty-2023-e1675094777912.png
END:VEVENT
BEGIN:VEVENT
DTSTART;TZID=Europe/Warsaw:20230223T160000
DTEND;TZID=Europe/Warsaw:20230223T180000
DTSTAMP:20260420T084043
CREATED:20230130T153424Z
LAST-MODIFIED:20230130T153424Z
UID:29370-1677168000-1677175200@biblioteka.szemud.pl
SUMMARY:Wykład "Jak utrzymać i zmagazynować prawidłowy poziom witaminy D?" w bibliotece w Łebnie
DESCRIPTION:
URL:https://biblioteka.szemud.pl/index.php/event/wyklad-jak-utrzymac-i-zmagazynowac-prawidlowy-poziom-witaminy-d-w-bibliotece-w-lebnie/
LOCATION:Biblioteka w Łebnie\, ul. Kartuska 9\, Łebno
ATTACH;FMTTYPE=image/png:https://biblioteka.szemud.pl/wp-content/uploads/2023/01/Wyklad-zdrowie-II-2023-1-e1675092434634.png
END:VEVENT
BEGIN:VEVENT
DTSTART;TZID=Europe/Warsaw:20230228T160000
DTEND;TZID=Europe/Warsaw:20230228T180000
DTSTAMP:20260420T084043
CREATED:20230130T153533Z
LAST-MODIFIED:20230130T153701Z
UID:29372-1677600000-1677607200@biblioteka.szemud.pl
SUMMARY:Wykład "Jak utrzymać i zmagazynować prawidłowy poziom witaminy D?" w bibliotece w Szemudzie
DESCRIPTION:
URL:https://biblioteka.szemud.pl/index.php/event/wyklad-jak-utrzymac-i-zmagazynowac-prawidlowy-poziom-witaminy-d-w-bibliotece-w-szemudzie/
LOCATION:Biblioteka w Szemudzie\, Samorządowa 1\, Szemud
ATTACH;FMTTYPE=image/png:https://biblioteka.szemud.pl/wp-content/uploads/2023/01/Wyklad-zdrowie-II-2023-1-e1675092434634.png
END:VEVENT
BEGIN:VEVENT
DTSTART;TZID=Europe/Warsaw:20230302T160000
DTEND;TZID=Europe/Warsaw:20230302T180000
DTSTAMP:20260420T084043
CREATED:20230130T153631Z
LAST-MODIFIED:20230130T155839Z
UID:29374-1677772800-1677780000@biblioteka.szemud.pl
SUMMARY:Wykład "Jak utrzymać i zmagazynować prawidłowy poziom witaminy D?" w bibliotece w Kielnie
DESCRIPTION:
URL:https://biblioteka.szemud.pl/index.php/event/wyklad-jak-utrzymac-i-zmagazynowac-prawidlowy-poziom-witaminy-d-w-bibliotece-w-kielnie/
LOCATION:Biblioteka w Kielnie\, ul. Oliwska 46\, Kielno
ATTACH;FMTTYPE=image/png:https://biblioteka.szemud.pl/wp-content/uploads/2023/01/Wyklad-zdrowie-II-2023-1-e1675092434634.png
END:VEVENT
BEGIN:VEVENT
DTSTART;TZID=Europe/Warsaw:20230307T130000
DTEND;TZID=Europe/Warsaw:20230307T130000
DTSTAMP:20260420T084043
CREATED:20230302T134347Z
LAST-MODIFIED:20230302T134555Z
UID:29755-1678194000-1678194000@biblioteka.szemud.pl
SUMMARY:"Fitness dla mózgu" warsztaty w bibliotece w Bojanie
DESCRIPTION:
URL:https://biblioteka.szemud.pl/index.php/event/fitness-dla-mozgu-warsztaty-w-bibliotece-w-bojanie/
LOCATION:Biblioteka w Bojanie\, ul. J. Wybickiego 38\, Bojano
ATTACH;FMTTYPE=image/png:https://biblioteka.szemud.pl/wp-content/uploads/2023/03/Fitness-dla-mozgu-e1677760555742.png
END:VEVENT
BEGIN:VEVENT
DTSTART;TZID=Europe/Warsaw:20230307T150000
DTEND;TZID=Europe/Warsaw:20230307T163000
DTSTAMP:20260420T084043
CREATED:20230302T134519Z
LAST-MODIFIED:20230302T134620Z
UID:29757-1678201200-1678206600@biblioteka.szemud.pl
SUMMARY:"Fitness dla mózgu" warsztaty w bibliotece w Kielnie
DESCRIPTION:
URL:https://biblioteka.szemud.pl/index.php/event/fitness-dla-mozgu-w-bibliotece-w-kielnie-2/
LOCATION:Biblioteka w Kielnie\, ul. Oliwska 46\, Kielno
ATTACH;FMTTYPE=image/png:https://biblioteka.szemud.pl/wp-content/uploads/2023/03/Fitness-dla-mozgu-e1677760555742.png
END:VEVENT
BEGIN:VEVENT
DTSTART;TZID=Europe/Warsaw:20230309T160000
DTEND;TZID=Europe/Warsaw:20230309T170000
DTSTAMP:20260420T084043
CREATED:20230302T135239Z
LAST-MODIFIED:20230307T150946Z
UID:29764-1678377600-1678381200@biblioteka.szemud.pl
SUMMARY:"Dzień Kobiet" w bibliotece w Łebnie
DESCRIPTION:
URL:https://biblioteka.szemud.pl/index.php/event/dzien-kobiet-w-bibliotece-w-lebnie/
LOCATION:Biblioteka w Łebnie\, ul. Kartuska 9\, Łebno
ATTACH;FMTTYPE=image/png:https://biblioteka.szemud.pl/wp-content/uploads/2023/03/Dzien-Kobiet-2023-e1678201777576.png
END:VEVENT
BEGIN:VEVENT
DTSTART;TZID=Europe/Warsaw:20230314T160000
DTEND;TZID=Europe/Warsaw:20230314T170000
DTSTAMP:20260420T084043
CREATED:20230302T135350Z
LAST-MODIFIED:20230307T160631Z
UID:29766-1678809600-1678813200@biblioteka.szemud.pl
SUMMARY:"Dzień Kobiet" w bibliotece w Szemudzie
DESCRIPTION:
URL:https://biblioteka.szemud.pl/index.php/event/dzien-kobiet-w-bibliotece-w-szemudzie-2/
LOCATION:Biblioteka w Szemudzie\, Samorządowa 1\, Szemud
ATTACH;FMTTYPE=image/png:https://biblioteka.szemud.pl/wp-content/uploads/2023/03/Dzien-Kobiet-2023-e1678201777576.png
END:VEVENT
BEGIN:VEVENT
DTSTART;TZID=Europe/Warsaw:20230316T150000
DTEND;TZID=Europe/Warsaw:20230316T160000
DTSTAMP:20260420T084043
CREATED:20230306T145821Z
LAST-MODIFIED:20230307T151215Z
UID:29779-1678978800-1678982400@biblioteka.szemud.pl
SUMMARY:Planszomania w bibliotece w Bojanie
DESCRIPTION:
URL:https://biblioteka.szemud.pl/index.php/event/planszomania-w-bibliotece-w-bojanie-9/
LOCATION:Biblioteka w Bojanie\, ul. J. Wybickiego 38\, Bojano
ATTACH;FMTTYPE=image/png:https://biblioteka.szemud.pl/wp-content/uploads/2023/03/Biblioteka-Publiczna-w-Bojanie-3-e1678201917753.png
END:VEVENT
BEGIN:VEVENT
DTSTART;TZID=Europe/Warsaw:20230316T160000
DTEND;TZID=Europe/Warsaw:20230316T170000
DTSTAMP:20260420T084043
CREATED:20230302T135443Z
LAST-MODIFIED:20230307T151320Z
UID:29768-1678982400-1678986000@biblioteka.szemud.pl
SUMMARY:"Dzień Kobiet" w bibliotece w Kielnie
DESCRIPTION:
URL:https://biblioteka.szemud.pl/index.php/event/dzien-kobiet-w-bibliotece-w-kielnie-2/
LOCATION:Biblioteka w Kielnie\, ul. Oliwska 46\, Kielno
ATTACH;FMTTYPE=image/png:https://biblioteka.szemud.pl/wp-content/uploads/2023/03/Dzien-Kobiet-2023-e1678201777576.png
END:VEVENT
BEGIN:VEVENT
DTSTART;TZID=Europe/Warsaw:20230320T130000
DTEND;TZID=Europe/Warsaw:20230320T140000
DTSTAMP:20260420T084043
CREATED:20230306T150314Z
LAST-MODIFIED:20230314T142053Z
UID:29781-1679317200-1679320800@biblioteka.szemud.pl
SUMMARY:Planszomania w bibliotece w Łebnie
DESCRIPTION:
URL:https://biblioteka.szemud.pl/index.php/event/planszomania-w-bibliotece-w-lebnie-2/
LOCATION:Biblioteka w Łebnie\, ul. Kartuska 9\, Łebno
ATTACH;FMTTYPE=image/png:https://biblioteka.szemud.pl/wp-content/uploads/2023/03/Biblioteka-Publiczna-w-Bojanie-3-e1678201917753.png
END:VEVENT
BEGIN:VEVENT
DTSTART;TZID=Europe/Warsaw:20230320T153000
DTEND;TZID=Europe/Warsaw:20230320T163000
DTSTAMP:20260420T084043
CREATED:20230306T150629Z
LAST-MODIFIED:20230307T151509Z
UID:29783-1679326200-1679329800@biblioteka.szemud.pl
SUMMARY:Planszomania w bibliotece w Szemudzie
DESCRIPTION:
URL:https://biblioteka.szemud.pl/index.php/event/planszomania-w-bibliotece-w-szemudzie-10/
LOCATION:Biblioteka w Szemudzie\, Samorządowa 1\, Szemud
ATTACH;FMTTYPE=image/png:https://biblioteka.szemud.pl/wp-content/uploads/2023/03/Biblioteka-Publiczna-w-Bojanie-3-e1678201917753.png
END:VEVENT
BEGIN:VEVENT
DTSTART;TZID=Europe/Warsaw:20230320T160000
DTEND;TZID=Europe/Warsaw:20230320T173000
DTSTAMP:20260420T084043
CREATED:20230316T132053Z
LAST-MODIFIED:20230316T132053Z
UID:30070-1679328000-1679333400@biblioteka.szemud.pl
SUMMARY:PoznajMy Się! - czyli warsztaty rozwojowe dla klas 7-8 w bibliotece w Bojanie
DESCRIPTION:
URL:https://biblioteka.szemud.pl/index.php/event/poznajmy-sie-czyli-warsztaty-rozwojowe-dla-klas-7-8-w-bibliotece-w-bojanie/
LOCATION:Biblioteka w Bojanie\, ul. J. Wybickiego 38\, Bojano
ATTACH;FMTTYPE=image/jpeg:https://biblioteka.szemud.pl/wp-content/uploads/2023/03/ostateczny-plakat-na-warsztaty_page-0001-2-scaled-e1678972814940.jpg
END:VEVENT
BEGIN:VEVENT
DTSTART;TZID=Europe/Warsaw:20230323T130000
DTEND;TZID=Europe/Warsaw:20230323T143000
DTSTAMP:20260420T084043
CREATED:20230302T134747Z
LAST-MODIFIED:20230302T134747Z
UID:29760-1679576400-1679581800@biblioteka.szemud.pl
SUMMARY:"Fitness dla mózgu" warsztaty w bibliotece w Łebnie
DESCRIPTION:
URL:https://biblioteka.szemud.pl/index.php/event/fitness-dla-mozgu-warsztaty-w-bibliotece-w-lebnie/
LOCATION:Biblioteka w Łebnie\, ul. Kartuska 9\, Łebno
ATTACH;FMTTYPE=image/png:https://biblioteka.szemud.pl/wp-content/uploads/2023/03/Fitness-dla-mozgu-e1677760555742.png
END:VEVENT
BEGIN:VEVENT
DTSTART;TZID=Europe/Warsaw:20230323T150000
DTEND;TZID=Europe/Warsaw:20230323T163000
DTSTAMP:20260420T084043
CREATED:20230302T134937Z
LAST-MODIFIED:20230302T134937Z
UID:29762-1679583600-1679589000@biblioteka.szemud.pl
SUMMARY:"Fitness dla mózgu" warsztaty w bibliotece w Szemudzie
DESCRIPTION:
URL:https://biblioteka.szemud.pl/index.php/event/fitness-dla-mozgu-warsztaty-w-bibliotece-w-szemudzie/
LOCATION:Biblioteka w Szemudzie\, Samorządowa 1\, Szemud
ATTACH;FMTTYPE=image/png:https://biblioteka.szemud.pl/wp-content/uploads/2023/03/Fitness-dla-mozgu-e1677760555742.png
END:VEVENT
BEGIN:VEVENT
DTSTART;TZID=Europe/Warsaw:20230323T153000
DTEND;TZID=Europe/Warsaw:20230323T173000
DTSTAMP:20260420T084043
CREATED:20230307T113325Z
LAST-MODIFIED:20230307T153226Z
UID:29801-1679585400-1679592600@biblioteka.szemud.pl
SUMMARY:Warsztaty wielkanocne w bibliotece w Kielnie
DESCRIPTION:
URL:https://biblioteka.szemud.pl/index.php/event/warsztaty-wielkanocne-w-bibliotece-w-kielnie-4/
LOCATION:Biblioteka w Kielnie\, ul. Oliwska 46\, Kielno
ATTACH;FMTTYPE=image/png:https://biblioteka.szemud.pl/wp-content/uploads/2023/03/Warsztaty-Wielkanocne1.png
END:VEVENT
BEGIN:VEVENT
DTSTART;TZID=Europe/Warsaw:20230323T160000
DTEND;TZID=Europe/Warsaw:20230323T173000
DTSTAMP:20260420T084043
CREATED:20230307T122023Z
LAST-MODIFIED:20230307T122023Z
UID:29812-1679587200-1679592600@biblioteka.szemud.pl
SUMMARY:Szydełkowe spotkania w bibliotece w Bojanie
DESCRIPTION:
URL:https://biblioteka.szemud.pl/index.php/event/szydelkowe-spotkania-w-bibliotece-w-bojanie-2/
LOCATION:Biblioteka w Bojanie\, ul. J. Wybickiego 38\, Bojano
ATTACH;FMTTYPE=image/png:https://biblioteka.szemud.pl/wp-content/uploads/2023/03/Dodaj-podtytul.png
END:VEVENT
BEGIN:VEVENT
DTSTART;TZID=Europe/Warsaw:20230328T153000
DTEND;TZID=Europe/Warsaw:20230328T173000
DTSTAMP:20260420T084043
CREATED:20230306T153340Z
LAST-MODIFIED:20230307T153050Z
UID:29790-1680017400-1680024600@biblioteka.szemud.pl
SUMMARY:Warsztaty wielkanocne w bibliotece w Szemudzie
DESCRIPTION:
URL:https://biblioteka.szemud.pl/index.php/event/warsztaty-wielkanocne-w-bibliotece-w-szemudzie/
LOCATION:Biblioteka w Szemudzie\, Samorządowa 1\, Szemud
ATTACH;FMTTYPE=image/png:https://biblioteka.szemud.pl/wp-content/uploads/2023/03/Warsztaty-Wielkanocne1.png
END:VEVENT
BEGIN:VEVENT
DTSTART;TZID=Europe/Warsaw:20230328T160000
DTEND;TZID=Europe/Warsaw:20230328T180000
DTSTAMP:20260420T084043
CREATED:20230307T122136Z
LAST-MODIFIED:20230307T122136Z
UID:29814-1680019200-1680026400@biblioteka.szemud.pl
SUMMARY:Warsztaty IMPRO w bibliotece w Bojanie
DESCRIPTION:
URL:https://biblioteka.szemud.pl/index.php/event/warsztaty-impro-w-bibliotece-w-bojanie-5/
LOCATION:Biblioteka w Bojanie\, ul. J. Wybickiego 38\, Bojano
ATTACH;FMTTYPE=image/png:https://biblioteka.szemud.pl/wp-content/uploads/2023/03/Biblioteka-Publiczna-w-Bojanie-zaprasza-doroslych-i-mlodziez-na.png
END:VEVENT
BEGIN:VEVENT
DTSTART;TZID=Europe/Warsaw:20230329T110000
DTEND;TZID=Europe/Warsaw:20230329T120000
DTSTAMP:20260420T084043
CREATED:20230314T140458Z
LAST-MODIFIED:20230320T144913Z
UID:30061-1680087600-1680091200@biblioteka.szemud.pl
SUMMARY:Spotkanie z muzyką "Crux fidelis Muzyka na Wielki Post" w bibliotece w Łebnie
DESCRIPTION:
URL:https://biblioteka.szemud.pl/index.php/event/spotkanie-z-muzyka-crux-fidelis-muzyka-na-wielki-post-w-bibliotece-w-lebnie/
LOCATION:Biblioteka w Łebnie\, ul. Kartuska 9\, Łebno
ATTACH;FMTTYPE=image/png:https://biblioteka.szemud.pl/wp-content/uploads/2023/03/1000005515-e1679322503759.png
END:VEVENT
BEGIN:VEVENT
DTSTART;TZID=Europe/Warsaw:20230330T150000
DTEND;TZID=Europe/Warsaw:20230330T163000
DTSTAMP:20260420T084043
CREATED:20230306T150957Z
LAST-MODIFIED:20230307T153742Z
UID:29785-1680188400-1680193800@biblioteka.szemud.pl
SUMMARY:Planszomania w bibliotece w Kielnie
DESCRIPTION:
URL:https://biblioteka.szemud.pl/index.php/event/planszomania-w-bibliotece-w-kielnie-5/
ATTACH;FMTTYPE=image/png:https://biblioteka.szemud.pl/wp-content/uploads/2023/03/Biblioteka-Publiczna-w-Bojanie-3-e1678201917753.png
END:VEVENT
BEGIN:VEVENT
DTSTART;TZID=Europe/Warsaw:20230330T160000
DTEND;TZID=Europe/Warsaw:20230330T170000
DTSTAMP:20260420T084043
CREATED:20230307T113540Z
LAST-MODIFIED:20230307T153603Z
UID:29803-1680192000-1680195600@biblioteka.szemud.pl
SUMMARY:Warsztaty wielkanocne w bibliotece w Łebnie
DESCRIPTION:
URL:https://biblioteka.szemud.pl/index.php/event/warsztaty-wielkanocne-w-bibliotece-w-lebnie-2/
LOCATION:Biblioteka w Łebnie\, ul. Kartuska 9\, Łebno
ATTACH;FMTTYPE=image/png:https://biblioteka.szemud.pl/wp-content/uploads/2023/03/Warsztaty-Wielkanocne1.png
END:VEVENT
BEGIN:VEVENT
DTSTART;TZID=Europe/Warsaw:20230330T160000
DTEND;TZID=Europe/Warsaw:20230330T173000
DTSTAMP:20260420T084043
CREATED:20230307T122315Z
LAST-MODIFIED:20230307T122741Z
UID:29816-1680192000-1680197400@biblioteka.szemud.pl
SUMMARY:Papier\, klej i nożyczki warsztaty w bibliotece w Bojanie
DESCRIPTION:
URL:https://biblioteka.szemud.pl/index.php/event/papier-klej-i-nozyczki-warsztaty-w-bibliotece-w-bojanie/
LOCATION:Biblioteka w Bojanie\, ul. J. Wybickiego 38\, Bojano
ATTACH;FMTTYPE=image/png:https://biblioteka.szemud.pl/wp-content/uploads/2023/03/20230216_094059_0000.png
END:VEVENT
BEGIN:VEVENT
DTSTART;TZID=Europe/Warsaw:20230331T110000
DTEND;TZID=Europe/Warsaw:20230331T120000
DTSTAMP:20260420T084043
CREATED:20230314T140410Z
LAST-MODIFIED:20230320T144545Z
UID:30059-1680260400-1680264000@biblioteka.szemud.pl
SUMMARY:Spotkanie z muzyką "Crux fidelis Muzyka na Wielki Post" w bibliotece w Kielnie
DESCRIPTION:
URL:https://biblioteka.szemud.pl/index.php/event/spotkanie-z-muzyka-crux-fidelis-muzyka-na-wielki-post-w-bibliotece-w-kielnie/
LOCATION:Biblioteka w Kielnie\, ul. Oliwska 46\, Kielno
ATTACH;FMTTYPE=image/png:https://biblioteka.szemud.pl/wp-content/uploads/2023/03/1000005515-e1679322503759.png
END:VEVENT
BEGIN:VEVENT
DTSTART;TZID=Europe/Warsaw:20230403T140000
DTEND;TZID=Europe/Warsaw:20230403T150000
DTSTAMP:20260420T084043
CREATED:20230330T121551Z
LAST-MODIFIED:20230330T121551Z
UID:30461-1680530400-1680534000@biblioteka.szemud.pl
SUMMARY:Warsztaty Wielkanocne w bibliotece w Bojanie
DESCRIPTION:
URL:https://biblioteka.szemud.pl/index.php/event/warsztaty-wielkanocne-w-bibliotece-w-bojanie-3/
LOCATION:Biblioteka w Bojanie\, ul. J. Wybickiego 38\, Bojano
ATTACH;FMTTYPE=image/png:https://biblioteka.szemud.pl/wp-content/uploads/2023/03/Biblioteka-Publiczna-w-Bojanie9.png
END:VEVENT
BEGIN:VEVENT
DTSTART;TZID=Europe/Warsaw:20230404T130000
DTEND;TZID=Europe/Warsaw:20230404T140000
DTSTAMP:20260420T084043
CREATED:20230331T115113Z
LAST-MODIFIED:20230331T115113Z
UID:30600-1680613200-1680616800@biblioteka.szemud.pl
SUMMARY:Przygody w świecie kodowania z Robotem Photon w bibliotece w Łebnie
DESCRIPTION:
URL:https://biblioteka.szemud.pl/index.php/event/przygody-w-swiecie-kodowania-z-robotem-photon-w-bibliotece-w-lebnie/
LOCATION:Biblioteka w Łebnie\, ul. Kartuska 9\, Łebno
ATTACH;FMTTYPE=image/png:https://biblioteka.szemud.pl/wp-content/uploads/2023/03/Lego-20215.png
END:VEVENT
END:VCALENDAR