BEGIN:VCALENDAR
VERSION:2.0
PRODID:-//Biblioteka Publiczna Gminy Szemud - ECPv6.15.20//NONSGML v1.0//EN
CALSCALE:GREGORIAN
METHOD:PUBLISH
X-WR-CALNAME:Biblioteka Publiczna Gminy Szemud
X-ORIGINAL-URL:https://biblioteka.szemud.pl
X-WR-CALDESC:Wydarzenia dla Biblioteka Publiczna Gminy Szemud
REFRESH-INTERVAL;VALUE=DURATION:PT1H
X-Robots-Tag:noindex
X-PUBLISHED-TTL:PT1H
BEGIN:VTIMEZONE
TZID:Europe/Warsaw
BEGIN:DAYLIGHT
TZOFFSETFROM:+0100
TZOFFSETTO:+0200
TZNAME:CEST
DTSTART:20210328T010000
END:DAYLIGHT
BEGIN:STANDARD
TZOFFSETFROM:+0200
TZOFFSETTO:+0100
TZNAME:CET
DTSTART:20211031T010000
END:STANDARD
BEGIN:DAYLIGHT
TZOFFSETFROM:+0100
TZOFFSETTO:+0200
TZNAME:CEST
DTSTART:20220327T010000
END:DAYLIGHT
BEGIN:STANDARD
TZOFFSETFROM:+0200
TZOFFSETTO:+0100
TZNAME:CET
DTSTART:20221030T010000
END:STANDARD
BEGIN:DAYLIGHT
TZOFFSETFROM:+0100
TZOFFSETTO:+0200
TZNAME:CEST
DTSTART:20230326T010000
END:DAYLIGHT
BEGIN:STANDARD
TZOFFSETFROM:+0200
TZOFFSETTO:+0100
TZNAME:CET
DTSTART:20231029T010000
END:STANDARD
END:VTIMEZONE
BEGIN:VEVENT
DTSTART;TZID=Europe/Warsaw:20220922T160000
DTEND;TZID=Europe/Warsaw:20220922T180000
DTSTAMP:20260420T170831
CREATED:20220901T132918Z
LAST-MODIFIED:20220901T133047Z
UID:25945-1663862400-1663869600@biblioteka.szemud.pl
SUMMARY:Spotkanie "Kiedy zioła nie działają - wstęp do ziołolecznictwa" w bibliotece w Kielnie
DESCRIPTION:
URL:https://biblioteka.szemud.pl/index.php/event/spotkanie-kiedy-ziola-nie-dzialaja-wstep-do-ziololecznictwa-w-bibliotece-w-kielnie/
ATTACH;FMTTYPE=image/jpeg:https://biblioteka.szemud.pl/wp-content/uploads/2022/09/Ziola-2022_proc-e1662038696391.jpg
END:VEVENT
BEGIN:VEVENT
DTSTART;TZID=Europe/Warsaw:20220927T160000
DTEND;TZID=Europe/Warsaw:20220927T180000
DTSTAMP:20260420T170831
CREATED:20220912T131423Z
LAST-MODIFIED:20220912T131423Z
UID:26156-1664294400-1664301600@biblioteka.szemud.pl
SUMMARY:Warsztaty impro w Bibliotece w Bojanie
DESCRIPTION:
URL:https://biblioteka.szemud.pl/index.php/event/warsztaty-impro-w-bibliotece-w-bojanie/
LOCATION:Biblioteka w Bojanie\, ul. J. Wybickiego 38\, Bojano
ATTACH;FMTTYPE=image/png:https://biblioteka.szemud.pl/wp-content/uploads/2022/09/Biblioteka-Publiczna-w-Bojanie-zaprasza-1.png
END:VEVENT
BEGIN:VEVENT
DTSTART;TZID=Europe/Warsaw:20220929T160000
DTEND;TZID=Europe/Warsaw:20220929T180000
DTSTAMP:20260420T170831
CREATED:20220901T133018Z
LAST-MODIFIED:20220901T133018Z
UID:25947-1664467200-1664474400@biblioteka.szemud.pl
SUMMARY:Spotkanie "Kiedy zioła nie działają - wstęp do ziołolecznictwa" w bibliotece w Łebnie
DESCRIPTION:
URL:https://biblioteka.szemud.pl/index.php/event/spotkanie-kiedy-ziola-nie-dzialaja-wstep-do-ziololecznictwa-w-bibliotece-w-lebnie/
ATTACH;FMTTYPE=image/jpeg:https://biblioteka.szemud.pl/wp-content/uploads/2022/09/Ziola-2022_proc-e1662038696391.jpg
END:VEVENT
BEGIN:VEVENT
DTSTART;TZID=Europe/Warsaw:20221006T160000
DTEND;TZID=Europe/Warsaw:20221006T180000
DTSTAMP:20260420T170831
CREATED:20220901T133157Z
LAST-MODIFIED:20220901T133157Z
UID:25949-1665072000-1665079200@biblioteka.szemud.pl
SUMMARY:Spotkanie "Kiedy zioła nie działają - wstęp do ziołolecznictwa" w bibliotece w Szemudzie
DESCRIPTION:
URL:https://biblioteka.szemud.pl/index.php/event/spotkanie-kiedy-ziola-nie-dzialaja-wstep-do-ziololecznictwa-w-bibliotece-w-szemudzie/
ATTACH;FMTTYPE=image/jpeg:https://biblioteka.szemud.pl/wp-content/uploads/2022/09/Ziola-2022_proc-e1662038696391.jpg
END:VEVENT
BEGIN:VEVENT
DTSTART;TZID=Europe/Warsaw:20221013T160000
DTEND;TZID=Europe/Warsaw:20221013T180000
DTSTAMP:20260420T170831
CREATED:20221011T123734Z
LAST-MODIFIED:20221011T123803Z
UID:26660-1665676800-1665684000@biblioteka.szemud.pl
SUMMARY:Warsztaty dla dorosłych "Dynie z materiału" w bibliotece w Bojanie
DESCRIPTION:
URL:https://biblioteka.szemud.pl/index.php/event/warsztaty-dla-doroslych-dynie-z-materialu-w-bibliotece-w-bojanie/
LOCATION:Biblioteka w Bojanie\, ul. J. Wybickiego 38\, Bojano
ATTACH;FMTTYPE=image/png:https://biblioteka.szemud.pl/wp-content/uploads/2022/10/310582430_669418387859486_3997448413277584567_n-e1665491842399.png
END:VEVENT
BEGIN:VEVENT
DTSTART;TZID=Europe/Warsaw:20221017T140000
DTEND;TZID=Europe/Warsaw:20221017T153000
DTSTAMP:20260420T170831
CREATED:20221004T124224Z
LAST-MODIFIED:20221004T124224Z
UID:26571-1666015200-1666020600@biblioteka.szemud.pl
SUMMARY:Warsztaty kreatywne "Jesienne dekoracje z szyszek" w bibliotece w Łebnie
DESCRIPTION:
URL:https://biblioteka.szemud.pl/index.php/event/warsztaty-kreatywne-jesienne-dekoracje-z-szyszek-w-bibliotece-w-lebnie/
LOCATION:Biblioteka w Łebnie\, ul. Kartuska 9\, Łebno
ATTACH;FMTTYPE=image/png:https://biblioteka.szemud.pl/wp-content/uploads/2022/10/Warsztat-Lebno-e1664887324120.png
END:VEVENT
BEGIN:VEVENT
DTSTART;TZID=Europe/Warsaw:20221017T143000
DTEND;TZID=Europe/Warsaw:20221017T163000
DTSTAMP:20260420T170831
CREATED:20220922T134154Z
LAST-MODIFIED:20220922T134154Z
UID:26378-1666017000-1666024200@biblioteka.szemud.pl
SUMMARY:Warsztaty programowania Lego Mindstorms w Bibliotece w Szemudzie
DESCRIPTION:
URL:https://biblioteka.szemud.pl/index.php/event/warsztaty-programowania-lego-mindstorms-w-bibliotece-w-szemudzie-5/
LOCATION:Biblioteka w Szemudzie\, Samorządowa 1\, Szemud
ATTACH;FMTTYPE=image/png:https://biblioteka.szemud.pl/wp-content/uploads/2022/09/Lego-X-2022-e1663854009327.png
END:VEVENT
BEGIN:VEVENT
DTSTART;TZID=Europe/Warsaw:20221020T150000
DTEND;TZID=Europe/Warsaw:20221020T160000
DTSTAMP:20260420T170831
CREATED:20221004T125838Z
LAST-MODIFIED:20221004T125838Z
UID:26577-1666278000-1666281600@biblioteka.szemud.pl
SUMMARY:Planszomania w bibliotece w Bojanie
DESCRIPTION:
URL:https://biblioteka.szemud.pl/index.php/event/planszomania-w-bibliotece-w-bojanie-7/
LOCATION:Biblioteka w Bojanie\, ul. J. Wybickiego 38\, Bojano
ATTACH;FMTTYPE=image/png:https://biblioteka.szemud.pl/wp-content/uploads/2022/10/Biblioteka-Bojano-e1664888292995.png
END:VEVENT
BEGIN:VEVENT
DTSTART;TZID=Europe/Warsaw:20221020T153000
DTEND;TZID=Europe/Warsaw:20221020T163000
DTSTAMP:20260420T170831
CREATED:20221004T131253Z
LAST-MODIFIED:20221004T131253Z
UID:26582-1666279800-1666283400@biblioteka.szemud.pl
SUMMARY:Warsztaty kreatywne "Jesienne lampiony" w bibliotece w Kielnie
DESCRIPTION:
URL:https://biblioteka.szemud.pl/index.php/event/warsztaty-kreatywne-jesienne-lampiony-w-bibliotece-w-kielnie/
LOCATION:Biblioteka w Kielnie\, ul. Oliwska 46\, Kielno
ATTACH;FMTTYPE=image/png:https://biblioteka.szemud.pl/wp-content/uploads/2022/10/Kielno-warsztaty-X-2022-e1664889124236.png
END:VEVENT
BEGIN:VEVENT
DTSTART;TZID=Europe/Warsaw:20221025T120000
DTEND;TZID=Europe/Warsaw:20221025T140000
DTSTAMP:20260420T170831
CREATED:20220922T134035Z
LAST-MODIFIED:20220922T134035Z
UID:26375-1666699200-1666706400@biblioteka.szemud.pl
SUMMARY:Warsztaty programowania Lego Mindstorms w Bibliotece w Łebnie
DESCRIPTION:
URL:https://biblioteka.szemud.pl/index.php/event/warsztaty-programowania-lego-mindstorms-w-bibliotece-w-lebnie-3/
LOCATION:Biblioteka w Łebnie\, ul. Kartuska 9\, Łebno
ATTACH;FMTTYPE=image/png:https://biblioteka.szemud.pl/wp-content/uploads/2022/09/Lego-X-2022-e1663854009327.png
END:VEVENT
BEGIN:VEVENT
DTSTART;TZID=Europe/Warsaw:20221103T160000
DTEND;TZID=Europe/Warsaw:20221103T180000
DTSTAMP:20260420T170831
CREATED:20221025T132030Z
LAST-MODIFIED:20221025T132811Z
UID:26952-1667491200-1667498400@biblioteka.szemud.pl
SUMMARY:“Spotkanie twórcze z szydełkiem” w Bibliotece w Bojanie
DESCRIPTION:
URL:https://biblioteka.szemud.pl/index.php/event/spotkanie-tworcze-z-szydelkiem-w-bibliotece-w-bojanie-2/
LOCATION:Biblioteka w Bojanie\, ul. J. Wybickiego 38\, Bojano
ATTACH;FMTTYPE=image/png:https://biblioteka.szemud.pl/wp-content/uploads/2022/10/Szydelko-Bojano-1.png
END:VEVENT
BEGIN:VEVENT
DTSTART;TZID=Europe/Warsaw:20221108T160000
DTEND;TZID=Europe/Warsaw:20221108T180000
DTSTAMP:20260420T170831
CREATED:20221025T135251Z
LAST-MODIFIED:20221025T135251Z
UID:26955-1667923200-1667930400@biblioteka.szemud.pl
SUMMARY:Warsztaty impro w Bibliotece w Bojanie
DESCRIPTION:
URL:https://biblioteka.szemud.pl/index.php/event/warsztaty-impro-w-bibliotece-w-bojanie-2/
LOCATION:Biblioteka w Bojanie\, ul. J. Wybickiego 38\, Bojano
ATTACH;FMTTYPE=image/png:https://biblioteka.szemud.pl/wp-content/uploads/2022/10/Warsztaty-IMPRO-Bojano.png
END:VEVENT
BEGIN:VEVENT
DTSTART;TZID=Europe/Warsaw:20221110T100000
DTEND;TZID=Europe/Warsaw:20221110T113000
DTSTAMP:20260420T170831
CREATED:20221025T140741Z
LAST-MODIFIED:20221025T140741Z
UID:26964-1668074400-1668079800@biblioteka.szemud.pl
SUMMARY:Fitness dla mózgu w bibliotece w Bojanie
DESCRIPTION:
URL:https://biblioteka.szemud.pl/index.php/event/fitness-dla-mozgu-w-bibliotece-w-bojanie/
LOCATION:Biblioteka w Bojanie\, ul. J. Wybickiego 38\, Bojano
ATTACH;FMTTYPE=image/png:https://biblioteka.szemud.pl/wp-content/uploads/2022/10/Fitness-dla-mozgu-1.png
END:VEVENT
BEGIN:VEVENT
DTSTART;TZID=Europe/Warsaw:20221110T120000
DTEND;TZID=Europe/Warsaw:20221110T133000
DTSTAMP:20260420T170831
CREATED:20221025T140930Z
LAST-MODIFIED:20221025T140930Z
UID:26966-1668081600-1668087000@biblioteka.szemud.pl
SUMMARY:Fitness dla mózgu w bibliotece w Kielnie
DESCRIPTION:
URL:https://biblioteka.szemud.pl/index.php/event/fitness-dla-mozgu-w-bibliotece-w-kielnie/
LOCATION:Biblioteka w Kielnie\, ul. Oliwska 46\, Kielno
ATTACH;FMTTYPE=image/png:https://biblioteka.szemud.pl/wp-content/uploads/2022/10/Fitness-dla-mozgu-1.png
END:VEVENT
BEGIN:VEVENT
DTSTART;TZID=Europe/Warsaw:20221114T083000
DTEND;TZID=Europe/Warsaw:20221114T100000
DTSTAMP:20260420T170831
CREATED:20221027T125158Z
LAST-MODIFIED:20221027T125158Z
UID:26986-1668414600-1668420000@biblioteka.szemud.pl
SUMMARY:Warsztaty "Mapa myśli - kreatywne notatki" w bibliotece w Łebnie
DESCRIPTION:
URL:https://biblioteka.szemud.pl/index.php/event/warsztaty-mapa-mysli-kreatywne-notatki-w-bibliotece-w-lebnie/
LOCATION:Biblioteka w Łebnie\, ul. Kartuska 9\, Łebno
ATTACH;FMTTYPE=image/png:https://biblioteka.szemud.pl/wp-content/uploads/2022/10/Mapa-mysli-warsztaty.png
END:VEVENT
BEGIN:VEVENT
DTSTART;TZID=Europe/Warsaw:20221114T104000
DTEND;TZID=Europe/Warsaw:20221114T122000
DTSTAMP:20260420T170831
CREATED:20221027T125727Z
LAST-MODIFIED:20221027T125727Z
UID:26988-1668422400-1668428400@biblioteka.szemud.pl
SUMMARY:Warsztaty "Mapa myśli - kreatywne notatki" w bibliotece w Szemudzie
DESCRIPTION:
URL:https://biblioteka.szemud.pl/index.php/event/warsztaty-mapa-mysli-kreatywne-notatki-w-bibliotece-w-szemudzie/
LOCATION:Biblioteka w Szemudzie\, Samorządowa 1\, Szemud
ATTACH;FMTTYPE=image/png:https://biblioteka.szemud.pl/wp-content/uploads/2022/10/Mapa-mysli-warsztaty.png
END:VEVENT
BEGIN:VEVENT
DTSTART;TZID=Europe/Warsaw:20221114T110000
DTEND;TZID=Europe/Warsaw:20221114T130000
DTSTAMP:20260420T170831
CREATED:20221027T135202Z
LAST-MODIFIED:20221027T135202Z
UID:27008-1668423600-1668430800@biblioteka.szemud.pl
SUMMARY:Warsztaty "Rysunek dla seniora" w bibliotece w Kielnie
DESCRIPTION:
URL:https://biblioteka.szemud.pl/index.php/event/warsztaty-rysunek-dla-seniora-w-bibliotece-w-kielnie/
LOCATION:Biblioteka w Kielnie\, ul. Oliwska 46\, Kielno
ATTACH;FMTTYPE=image/png:https://biblioteka.szemud.pl/wp-content/uploads/2022/10/Rysunek-dla-Seniora.png
END:VEVENT
BEGIN:VEVENT
DTSTART;TZID=Europe/Warsaw:20221114T160000
DTEND;TZID=Europe/Warsaw:20221114T180000
DTSTAMP:20260420T170831
CREATED:20221027T133600Z
LAST-MODIFIED:20221027T133600Z
UID:26994-1668441600-1668448800@biblioteka.szemud.pl
SUMMARY:Wykład "Aby pożywienie było lekarstwem\, a lekarstwo pożywieniem" w bibliotece w Szemudzie
DESCRIPTION:
URL:https://biblioteka.szemud.pl/index.php/event/wyklad-aby-pozywienie-bylo-lekarstwem-a-lekarstwo-pozywieniem-w-bibliotece-w-szemudzie/
LOCATION:Biblioteka w Szemudzie\, Samorządowa 1\, Szemud
ATTACH;FMTTYPE=image/png:https://biblioteka.szemud.pl/wp-content/uploads/2022/10/Wyklad-zdrowie-XI-2022-1.png
END:VEVENT
BEGIN:VEVENT
DTSTART;TZID=Europe/Warsaw:20221115T160000
DTEND;TZID=Europe/Warsaw:20221115T180000
DTSTAMP:20260420T170831
CREATED:20221027T133913Z
LAST-MODIFIED:20221027T133913Z
UID:26999-1668528000-1668535200@biblioteka.szemud.pl
SUMMARY:Wykład "Aby pożywienie było lekarstwem\, a lekarstwo pożywieniem" w bibliotece w Bojanie
DESCRIPTION:
URL:https://biblioteka.szemud.pl/index.php/event/wyklad-aby-pozywienie-bylo-lekarstwem-a-lekarstwo-pozywieniem-w-bibliotece-w-bojanie/
LOCATION:Biblioteka w Bojanie\, ul. J. Wybickiego 38\, Bojano
ATTACH;FMTTYPE=image/png:https://biblioteka.szemud.pl/wp-content/uploads/2022/10/Wyklad-zdrowie-XI-2022-1.png
END:VEVENT
BEGIN:VEVENT
DTSTART;TZID=Europe/Warsaw:20221116T120000
DTEND;TZID=Europe/Warsaw:20221116T140000
DTSTAMP:20260420T170831
CREATED:20221027T140007Z
LAST-MODIFIED:20221027T140007Z
UID:27012-1668600000-1668607200@biblioteka.szemud.pl
SUMMARY:Świąteczne warsztaty ceramiczne dla członków Stowarzyszenia "Lesôk" - lepienie
DESCRIPTION:
URL:https://biblioteka.szemud.pl/index.php/event/swiateczne-warsztaty-ceramiczne-dla-czlonkow-stowarzyszenia-lesok-lepienie/
LOCATION:Centrum Muzyczne w Kielnie\, ul. Oliwska 85\, Kielno\, pomorskie\, 84-208\, Poland
ATTACH;FMTTYPE=image/webp:https://biblioteka.szemud.pl/wp-content/uploads/2022/10/warsztaty-ceramiczne-seniorzy.webp
END:VEVENT
BEGIN:VEVENT
DTSTART;TZID=Europe/Warsaw:20221117T100000
DTEND;TZID=Europe/Warsaw:20221117T113000
DTSTAMP:20260420T170831
CREATED:20221025T141041Z
LAST-MODIFIED:20221025T141041Z
UID:26968-1668679200-1668684600@biblioteka.szemud.pl
SUMMARY:Fitness dla mózgu w bibliotece w Łebnie
DESCRIPTION:
URL:https://biblioteka.szemud.pl/index.php/event/fitness-dla-mozgu-w-bibliotece-w-lebnie/
LOCATION:Biblioteka w Łebnie\, ul. Kartuska 9\, Łebno
ATTACH;FMTTYPE=image/png:https://biblioteka.szemud.pl/wp-content/uploads/2022/10/Fitness-dla-mozgu-1.png
END:VEVENT
BEGIN:VEVENT
DTSTART;TZID=Europe/Warsaw:20221117T120000
DTEND;TZID=Europe/Warsaw:20221117T133000
DTSTAMP:20260420T170831
CREATED:20221025T141131Z
LAST-MODIFIED:20221025T141131Z
UID:26970-1668686400-1668691800@biblioteka.szemud.pl
SUMMARY:Fitness dla mózgu w bibliotece w Szemudzie
DESCRIPTION:
URL:https://biblioteka.szemud.pl/index.php/event/fitness-dla-mozgu-w-bibliotece-w-szemudzie/
LOCATION:Biblioteka w Szemudzie\, Samorządowa 1\, Szemud
ATTACH;FMTTYPE=image/png:https://biblioteka.szemud.pl/wp-content/uploads/2022/10/Fitness-dla-mozgu-1.png
END:VEVENT
BEGIN:VEVENT
DTSTART;TZID=Europe/Warsaw:20221117T150000
DTEND;TZID=Europe/Warsaw:20221117T170000
DTSTAMP:20260420T170831
CREATED:20221107T154244Z
LAST-MODIFIED:20221107T154710Z
UID:27109-1668697200-1668704400@biblioteka.szemud.pl
SUMMARY:Planszomania w bibliotece w Bojanie
DESCRIPTION:
URL:https://biblioteka.szemud.pl/index.php/event/planszomania-w-bibliotece-w-bojanie-8/
LOCATION:Biblioteka w Bojanie\, ul. J. Wybickiego 38\, Bojano
ATTACH;FMTTYPE=image/png:https://biblioteka.szemud.pl/wp-content/uploads/2022/11/Planszomania-Bojano-1.png
END:VEVENT
BEGIN:VEVENT
DTSTART;TZID=Europe/Warsaw:20221121T160000
DTEND;TZID=Europe/Warsaw:20221121T180000
DTSTAMP:20260420T170831
CREATED:20221027T134033Z
LAST-MODIFIED:20221027T134232Z
UID:27001-1669046400-1669053600@biblioteka.szemud.pl
SUMMARY:Wykład "Aby pożywienie było lekarstwem\, a lekarstwo pożywieniem" w bibliotece w Łebnie
DESCRIPTION:
URL:https://biblioteka.szemud.pl/index.php/event/wyklad-aby-pozywienie-bylo-lekarstwem-a-lekarstwo-pozywieniem-w-bibliotece-w-lebnie/
LOCATION:Biblioteka w Łebnie\, ul. Kartuska 9\, Łebno
ATTACH;FMTTYPE=image/png:https://biblioteka.szemud.pl/wp-content/uploads/2022/10/Wyklad-zdrowie-XI-2022-1.png
END:VEVENT
BEGIN:VEVENT
DTSTART;TZID=Europe/Warsaw:20221122T120000
DTEND;TZID=Europe/Warsaw:20221122T140000
DTSTAMP:20260420T170831
CREATED:20221027T150949Z
LAST-MODIFIED:20221027T150949Z
UID:27030-1669118400-1669125600@biblioteka.szemud.pl
SUMMARY:Warsztaty z Lego Mindstorms w bibliotece w Łebnie
DESCRIPTION:
URL:https://biblioteka.szemud.pl/index.php/event/warsztaty-z-lego-mindstorms-w-bibliotece-w-lebnie-8/
LOCATION:Biblioteka w Łebnie\, ul. Kartuska 9\, Łebno
ATTACH;FMTTYPE=image/png:https://biblioteka.szemud.pl/wp-content/uploads/2022/10/Lego-XI-2022.png
END:VEVENT
BEGIN:VEVENT
DTSTART;TZID=Europe/Warsaw:20221124T085000
DTEND;TZID=Europe/Warsaw:20221124T103000
DTSTAMP:20260420T170831
CREATED:20221027T125953Z
LAST-MODIFIED:20221027T130010Z
UID:26990-1669279800-1669285800@biblioteka.szemud.pl
SUMMARY:Warsztaty "Mapa myśli - kreatywne notatki" w bibliotece w Bojanie
DESCRIPTION:
URL:https://biblioteka.szemud.pl/index.php/event/warsztaty-mapa-mysli-kreatywne-notatki-w-bibliotece-w-bojanie/
LOCATION:Biblioteka w Bojanie\, ul. J. Wybickiego 38\, Bojano
ATTACH;FMTTYPE=image/png:https://biblioteka.szemud.pl/wp-content/uploads/2022/10/Mapa-mysli-warsztaty.png
END:VEVENT
BEGIN:VEVENT
DTSTART;TZID=Europe/Warsaw:20221124T111500
DTEND;TZID=Europe/Warsaw:20221124T130000
DTSTAMP:20260420T170831
CREATED:20221027T130112Z
LAST-MODIFIED:20221027T130112Z
UID:26992-1669288500-1669294800@biblioteka.szemud.pl
SUMMARY:Warsztaty "Mapa myśli - kreatywne notatki" w bibliotece w Kielnie
DESCRIPTION:
URL:https://biblioteka.szemud.pl/index.php/event/warsztaty-mapa-mysli-kreatywne-notatki-w-bibliotece-w-kielnie/
LOCATION:Biblioteka w Kielnie\, ul. Oliwska 46\, Kielno
ATTACH;FMTTYPE=image/png:https://biblioteka.szemud.pl/wp-content/uploads/2022/10/Mapa-mysli-warsztaty.png
END:VEVENT
BEGIN:VEVENT
DTSTART;TZID=Europe/Warsaw:20221124T143000
DTEND;TZID=Europe/Warsaw:20221124T163000
DTSTAMP:20260420T170831
CREATED:20221027T151246Z
LAST-MODIFIED:20221027T151246Z
UID:27032-1669300200-1669307400@biblioteka.szemud.pl
SUMMARY:Warsztaty z Lego Mindstorms w bibliotece w Szemudzie
DESCRIPTION:
URL:https://biblioteka.szemud.pl/index.php/event/warsztaty-z-lego-mindstorms-w-bibliotece-w-szemudzie-9/
LOCATION:Biblioteka w Szemudzie\, Samorządowa 1\, Szemud
ATTACH;FMTTYPE=image/png:https://biblioteka.szemud.pl/wp-content/uploads/2022/10/Lego-XI-2022.png
END:VEVENT
BEGIN:VEVENT
DTSTART;TZID=Europe/Warsaw:20221124T160000
DTEND;TZID=Europe/Warsaw:20221124T180000
DTSTAMP:20260420T170831
CREATED:20221027T134438Z
LAST-MODIFIED:20221027T134438Z
UID:27003-1669305600-1669312800@biblioteka.szemud.pl
SUMMARY:Wykład "Aby pożywienie było lekarstwem\, a lekarstwo pożywieniem" w bibliotece w Kielnie
DESCRIPTION:
URL:https://biblioteka.szemud.pl/index.php/event/wyklad-aby-pozywienie-bylo-lekarstwem-a-lekarstwo-pozywieniem-w-bibliotece-w-kielnie/
LOCATION:Biblioteka w Kielnie\, ul. Oliwska 46\, Kielno
ATTACH;FMTTYPE=image/png:https://biblioteka.szemud.pl/wp-content/uploads/2022/10/Wyklad-zdrowie-XI-2022-1.png
END:VEVENT
BEGIN:VEVENT
DTSTART;TZID=Europe/Warsaw:20221201T160000
DTEND;TZID=Europe/Warsaw:20221201T180000
DTSTAMP:20260420T170831
CREATED:20221107T133505Z
LAST-MODIFIED:20221107T133505Z
UID:27088-1669910400-1669917600@biblioteka.szemud.pl
SUMMARY:Świąteczne warsztaty kreatywne "Choinka makramowa - breloczek" w bibliotece w Łebnie
DESCRIPTION:
URL:https://biblioteka.szemud.pl/index.php/event/swiateczne-warsztaty-kreatywne-choinka-makramowa-breloczek-w-bibliotece-w-lebnie/
LOCATION:Biblioteka w Łebnie\, ul. Kartuska 9\, Łebno
ATTACH;FMTTYPE=image/png:https://biblioteka.szemud.pl/wp-content/uploads/2022/11/Warsztaty-Makramowe-w-Lebnie.png
END:VEVENT
END:VCALENDAR