BEGIN:VCALENDAR
VERSION:2.0
PRODID:-//Biblioteka Publiczna Gminy Szemud - ECPv6.15.20//NONSGML v1.0//EN
CALSCALE:GREGORIAN
METHOD:PUBLISH
X-WR-CALNAME:Biblioteka Publiczna Gminy Szemud
X-ORIGINAL-URL:https://biblioteka.szemud.pl
X-WR-CALDESC:Wydarzenia dla Biblioteka Publiczna Gminy Szemud
REFRESH-INTERVAL;VALUE=DURATION:PT1H
X-Robots-Tag:noindex
X-PUBLISHED-TTL:PT1H
BEGIN:VTIMEZONE
TZID:Europe/Warsaw
BEGIN:DAYLIGHT
TZOFFSETFROM:+0100
TZOFFSETTO:+0200
TZNAME:CEST
DTSTART:20210328T010000
END:DAYLIGHT
BEGIN:STANDARD
TZOFFSETFROM:+0200
TZOFFSETTO:+0100
TZNAME:CET
DTSTART:20211031T010000
END:STANDARD
BEGIN:DAYLIGHT
TZOFFSETFROM:+0100
TZOFFSETTO:+0200
TZNAME:CEST
DTSTART:20220327T010000
END:DAYLIGHT
BEGIN:STANDARD
TZOFFSETFROM:+0200
TZOFFSETTO:+0100
TZNAME:CET
DTSTART:20221030T010000
END:STANDARD
BEGIN:DAYLIGHT
TZOFFSETFROM:+0100
TZOFFSETTO:+0200
TZNAME:CEST
DTSTART:20230326T010000
END:DAYLIGHT
BEGIN:STANDARD
TZOFFSETFROM:+0200
TZOFFSETTO:+0100
TZNAME:CET
DTSTART:20231029T010000
END:STANDARD
END:VTIMEZONE
BEGIN:VEVENT
DTSTART;TZID=Europe/Warsaw:20220511T090000
DTEND;TZID=Europe/Warsaw:20220511T110000
DTSTAMP:20260420T235950
CREATED:20220428T090532Z
LAST-MODIFIED:20220428T090532Z
UID:22197-1652259600-1652266800@biblioteka.szemud.pl
SUMMARY:Konkurs "Mistrz Pięknego Czytania" w Bibliotece w Łebnie
DESCRIPTION:
URL:https://biblioteka.szemud.pl/index.php/event/konkurs-mistrz-pieknego-czytania-w-bibliotece-w-lebnie-4/
LOCATION:Biblioteka w Łebnie\, ul. Kartuska 9\, Łebno
ATTACH;FMTTYPE=image/png:https://biblioteka.szemud.pl/wp-content/uploads/2022/04/XIX-OGOLNOPOLSKI-TYDZIEN-BIBLIOTEK-e1651135400897.png
END:VEVENT
BEGIN:VEVENT
DTSTART;TZID=Europe/Warsaw:20220511T090000
DTEND;TZID=Europe/Warsaw:20220511T120000
DTSTAMP:20260420T235950
CREATED:20220428T092153Z
LAST-MODIFIED:20220428T092153Z
UID:22207-1652259600-1652270400@biblioteka.szemud.pl
SUMMARY:Warsztaty czytelnicze w Bibliotece w Bojanie
DESCRIPTION:
URL:https://biblioteka.szemud.pl/index.php/event/warsztaty-czytelnicze-w-bibliotece-w-bojanie-9/
LOCATION:Biblioteka w Bojanie\, ul. J. Wybickiego 38\, Bojano
ATTACH;FMTTYPE=image/png:https://biblioteka.szemud.pl/wp-content/uploads/2022/04/XIX-OGOLNOPOLSKI-TYDZIEN-BIBLIOTEK-e1651135400897.png
END:VEVENT
BEGIN:VEVENT
DTSTART;TZID=Europe/Warsaw:20220512T090000
DTEND;TZID=Europe/Warsaw:20220512T110000
DTSTAMP:20260420T235950
CREATED:20220428T084630Z
LAST-MODIFIED:20220428T084630Z
UID:22193-1652346000-1652353200@biblioteka.szemud.pl
SUMMARY:Warsztaty z teatrem Kamishibai w Bibliotece w Kielnie
DESCRIPTION:
URL:https://biblioteka.szemud.pl/index.php/event/warsztaty-z-teatrem-kamishibai-w-bibliotece-w-kielnie/
LOCATION:Biblioteka w Kielnie\, ul. Oliwska 46\, Kielno
ATTACH;FMTTYPE=image/png:https://biblioteka.szemud.pl/wp-content/uploads/2022/04/XIX-OGOLNOPOLSKI-TYDZIEN-BIBLIOTEK-e1651135400897.png
END:VEVENT
BEGIN:VEVENT
DTSTART;TZID=Europe/Warsaw:20220512T090000
DTEND;TZID=Europe/Warsaw:20220512T110000
DTSTAMP:20260420T235950
CREATED:20220428T090750Z
LAST-MODIFIED:20220428T090750Z
UID:22199-1652346000-1652353200@biblioteka.szemud.pl
SUMMARY:Warsztaty z teatrem Kamishibai w Bibliotece w Łebnie
DESCRIPTION:
URL:https://biblioteka.szemud.pl/index.php/event/warsztaty-z-teatrem-kamishibai-w-bibliotece-w-lebnie/
LOCATION:Biblioteka w Łebnie\, ul. Kartuska 9\, Łebno
ATTACH;FMTTYPE=image/png:https://biblioteka.szemud.pl/wp-content/uploads/2022/04/XIX-OGOLNOPOLSKI-TYDZIEN-BIBLIOTEK-e1651135400897.png
END:VEVENT
BEGIN:VEVENT
DTSTART;TZID=Europe/Warsaw:20220512T090000
DTEND;TZID=Europe/Warsaw:20220512T120000
DTSTAMP:20260420T235950
CREATED:20220428T093101Z
LAST-MODIFIED:20220428T093101Z
UID:22215-1652346000-1652356800@biblioteka.szemud.pl
SUMMARY:Warsztaty czytelnicze w Bibliotece w Szemudzie
DESCRIPTION:
URL:https://biblioteka.szemud.pl/index.php/event/warsztaty-czytelnicze-w-bibliotece-w-szemudzie-10/
LOCATION:Biblioteka w Szemudzie\, Samorządowa 1\, Szemud
ATTACH;FMTTYPE=image/png:https://biblioteka.szemud.pl/wp-content/uploads/2022/04/XIX-OGOLNOPOLSKI-TYDZIEN-BIBLIOTEK-e1651135400897.png
END:VEVENT
BEGIN:VEVENT
DTSTART;TZID=Europe/Warsaw:20220512T160000
DTEND;TZID=Europe/Warsaw:20220512T180000
DTSTAMP:20260420T235950
CREATED:20220428T092257Z
LAST-MODIFIED:20220428T092257Z
UID:22209-1652371200-1652378400@biblioteka.szemud.pl
SUMMARY:Warsztaty tworzenia motanek dla dorosłych w Bibliotece w Bojanie
DESCRIPTION:
URL:https://biblioteka.szemud.pl/index.php/event/warsztaty-tworzenia-motanek-dla-doroslych-w-bibliotece-w-bojanie/
ATTACH;FMTTYPE=image/png:https://biblioteka.szemud.pl/wp-content/uploads/2022/04/XIX-OGOLNOPOLSKI-TYDZIEN-BIBLIOTEK-e1651135400897.png
END:VEVENT
BEGIN:VEVENT
DTSTART;TZID=Europe/Warsaw:20220513T090000
DTEND;TZID=Europe/Warsaw:20220513T110000
DTSTAMP:20260420T235950
CREATED:20220428T090900Z
LAST-MODIFIED:20220428T090900Z
UID:22201-1652432400-1652439600@biblioteka.szemud.pl
SUMMARY:Konkurs "Gminny Mistrz Pięknego Czytania" w Bibliotece w Łebnie
DESCRIPTION:
URL:https://biblioteka.szemud.pl/index.php/event/konkurs-gminny-mistrz-pieknego-czytania-w-bibliotece-w-lebnie/
LOCATION:Biblioteka w Łebnie\, ul. Kartuska 9\, Łebno
ATTACH;FMTTYPE=image/png:https://biblioteka.szemud.pl/wp-content/uploads/2022/04/XIX-OGOLNOPOLSKI-TYDZIEN-BIBLIOTEK-e1651135400897.png
END:VEVENT
BEGIN:VEVENT
DTSTART;TZID=Europe/Warsaw:20220513T090000
DTEND;TZID=Europe/Warsaw:20220513T110000
DTSTAMP:20260420T235950
CREATED:20220428T093154Z
LAST-MODIFIED:20220428T093154Z
UID:22217-1652432400-1652439600@biblioteka.szemud.pl
SUMMARY:Warsztaty z teatrem Kamishibai w Bibliotece w Szemudzie
DESCRIPTION:
URL:https://biblioteka.szemud.pl/index.php/event/warsztaty-z-teatrem-kamishibai-w-bibliotece-w-szemudzie-2/
LOCATION:Biblioteka w Szemudzie\, Samorządowa 1\, Szemud
ATTACH;FMTTYPE=image/png:https://biblioteka.szemud.pl/wp-content/uploads/2022/04/XIX-OGOLNOPOLSKI-TYDZIEN-BIBLIOTEK-e1651135400897.png
END:VEVENT
BEGIN:VEVENT
DTSTART;TZID=Europe/Warsaw:20220516T100000
DTEND;TZID=Europe/Warsaw:20220516T120000
DTSTAMP:20260420T235950
CREATED:20220428T091008Z
LAST-MODIFIED:20220428T091008Z
UID:22203-1652695200-1652702400@biblioteka.szemud.pl
SUMMARY:Rajd Nordic Walking bibliotekarzy i czytelników w Bibliotece w Łebnie
DESCRIPTION:
URL:https://biblioteka.szemud.pl/index.php/event/rajd-nordic-walking-bibliotekarzy-i-czytelnikow-w-bibliotece-w-lebnie-2/
LOCATION:Biblioteka w Łebnie\, ul. Kartuska 9\, Łebno
ATTACH;FMTTYPE=image/png:https://biblioteka.szemud.pl/wp-content/uploads/2022/04/XIX-OGOLNOPOLSKI-TYDZIEN-BIBLIOTEK-e1651135400897.png
END:VEVENT
BEGIN:VEVENT
DTSTART;TZID=Europe/Warsaw:20220519T160000
DTEND;TZID=Europe/Warsaw:20220519T170000
DTSTAMP:20260420T235950
CREATED:20220513T120837Z
LAST-MODIFIED:20220513T120837Z
UID:22837-1652976000-1652979600@biblioteka.szemud.pl
SUMMARY:Warsztaty kreatywne "Serduszko dla mamy" w Bibliotece w Łebnie
DESCRIPTION:
URL:https://biblioteka.szemud.pl/index.php/event/warsztaty-kreatywne-serduszko-dla-mamy-w-bibliotece-w-lebnie/
LOCATION:Biblioteka w Łebnie\, ul. Kartuska 9\, Łebno
ATTACH;FMTTYPE=image/png:https://biblioteka.szemud.pl/wp-content/uploads/2022/05/Biblioteka-Publiczna-W-Lebnie5-e1652443657571.png
END:VEVENT
BEGIN:VEVENT
DTSTART;TZID=Europe/Warsaw:20220530T100000
DTEND;TZID=Europe/Warsaw:20220530T130000
DTSTAMP:20260420T235950
CREATED:20220428T123146Z
LAST-MODIFIED:20220428T123702Z
UID:22395-1653904800-1653915600@biblioteka.szemud.pl
SUMMARY:Powiatowy Konkurs Recytatorski Twórczości Alojzego Nagla w Bibliotece w Kielnie
DESCRIPTION:
URL:https://biblioteka.szemud.pl/index.php/event/powiatowy-konkurs-recytatorski-tworczosci-alojzego-nagla-2/
LOCATION:Biblioteka w Kielnie\, ul. Oliwska 46\, Kielno
ATTACH;FMTTYPE=image/png:https://biblioteka.szemud.pl/wp-content/uploads/2022/04/Konkurs-Nagel-2022-e1651149012366.png
END:VEVENT
BEGIN:VEVENT
DTSTART;TZID=Europe/Warsaw:20220530T130000
DTEND;TZID=Europe/Warsaw:20220530T150000
DTSTAMP:20260420T235950
CREATED:20220505T100707Z
LAST-MODIFIED:20220511T101640Z
UID:22431-1653915600-1653922800@biblioteka.szemud.pl
SUMMARY:Warsztaty z Lego Mindstorms w Bibliotece w Łebnie
DESCRIPTION:
URL:https://biblioteka.szemud.pl/index.php/event/warsztaty-z-lego-mindstorms-w-bibliotece-w-lebnie-7/
LOCATION:Biblioteka w Łebnie\, ul. Kartuska 9\, Łebno
ATTACH;FMTTYPE=image/png:https://biblioteka.szemud.pl/wp-content/uploads/2022/05/Lego-V-VI-2022-e1652264111175.png
END:VEVENT
BEGIN:VEVENT
DTSTART;TZID=Europe/Warsaw:20220606T133000
DTEND;TZID=Europe/Warsaw:20220606T153000
DTSTAMP:20260420T235950
CREATED:20220505T100628Z
LAST-MODIFIED:20220511T101525Z
UID:22429-1654522200-1654529400@biblioteka.szemud.pl
SUMMARY:Warsztaty z Lego Mindstorms w Bibliotece w Szemudzie
DESCRIPTION:
URL:https://biblioteka.szemud.pl/index.php/event/warsztaty-z-lego-mindstorms-w-bibliotece-w-szemudzie-8/
LOCATION:Biblioteka w Szemudzie\, Samorządowa 1\, Szemud
ATTACH;FMTTYPE=image/png:https://biblioteka.szemud.pl/wp-content/uploads/2022/05/Lego-V-VI-2022-e1652264111175.png
END:VEVENT
BEGIN:VEVENT
DTSTART;TZID=Europe/Warsaw:20220606T150000
DTEND;TZID=Europe/Warsaw:20220606T170000
DTSTAMP:20260420T235950
CREATED:20220518T091158Z
LAST-MODIFIED:20220518T093704Z
UID:22933-1654527600-1654534800@biblioteka.szemud.pl
SUMMARY:"Wesołe gry i zabawy" z okazji Dnia Dziecka w bibliotece w Łebnie
DESCRIPTION:
URL:https://biblioteka.szemud.pl/index.php/event/wesole-gry-i-zabawy-z-okazji-dnia-dziecka-w-bibliotece-w-lebnie/
LOCATION:Biblioteka w Łebnie\, ul. Kartuska 9\, Łebno
ATTACH;FMTTYPE=image/png:https://biblioteka.szemud.pl/wp-content/uploads/2022/05/warsztaty-z-okazji-Dnia-Dziecka-2022-Lebno-e1652865082669.png
END:VEVENT
BEGIN:VEVENT
DTSTART;TZID=Europe/Warsaw:20220607T140000
DTEND;TZID=Europe/Warsaw:20220607T153000
DTSTAMP:20260420T235950
CREATED:20220526T103543Z
LAST-MODIFIED:20220526T103543Z
UID:23216-1654610400-1654615800@biblioteka.szemud.pl
SUMMARY:“Planszomania” z okazji Dnia Dziecka w bibliotece w Bojanie
DESCRIPTION:
URL:https://biblioteka.szemud.pl/index.php/event/planszomania-z-okazji-dnia-dziecka-w-bibliotece-w-bojanie/
LOCATION:Biblioteka w Bojanie\, ul. J. Wybickiego 38\, Bojano
ATTACH;FMTTYPE=image/png:https://biblioteka.szemud.pl/wp-content/uploads/2022/05/Dzien-Dziecka-Bojano.png
END:VEVENT
BEGIN:VEVENT
DTSTART;TZID=Europe/Warsaw:20220607T150000
DTEND;TZID=Europe/Warsaw:20220607T163000
DTSTAMP:20260420T235950
CREATED:20220526T105018Z
LAST-MODIFIED:20220526T105018Z
UID:23220-1654614000-1654619400@biblioteka.szemud.pl
SUMMARY:Dzień Dziecka w bibliotece w Kielnie
DESCRIPTION:
URL:https://biblioteka.szemud.pl/index.php/event/dzien-dziecka-w-bibliotece-w-kielnie/
LOCATION:Biblioteka w Kielnie\, ul. Oliwska 46\, Kielno
ATTACH;FMTTYPE=image/png:https://biblioteka.szemud.pl/wp-content/uploads/2022/05/Dzien-Dziecka-w-Kielnie-e1653562190407.png
END:VEVENT
BEGIN:VEVENT
DTSTART;TZID=Europe/Warsaw:20220608T100000
DTEND;TZID=Europe/Warsaw:20220608T130000
DTSTAMP:20260420T235950
CREATED:20220428T124514Z
LAST-MODIFIED:20220428T124514Z
UID:22399-1654682400-1654693200@biblioteka.szemud.pl
SUMMARY:Powiatowy Konkurs Recytatorski Poezji Jana Piepki w Bibliotece w Łebnie
DESCRIPTION:
URL:https://biblioteka.szemud.pl/index.php/event/powiatowy-konkurs-recytatorski-poezji-jana-piepki-w-bibliotece-w-lebnie/
LOCATION:Biblioteka w Kielnie\, ul. Oliwska 46\, Kielno
ATTACH;FMTTYPE=image/png:https://biblioteka.szemud.pl/wp-content/uploads/2022/04/Konkurs-Piepka-2022-e1651149883995.png
END:VEVENT
BEGIN:VEVENT
DTSTART;TZID=Europe/Warsaw:20220609T150000
DTEND;TZID=Europe/Warsaw:20220609T160000
DTSTAMP:20260420T235950
CREATED:20220520T074324Z
LAST-MODIFIED:20220520T074653Z
UID:23099-1654786800-1654790400@biblioteka.szemud.pl
SUMMARY:“Spotkanie z eksperymentem” z okazji Dnia Dziecka w bibliotece w Szemudzie
DESCRIPTION:
URL:https://biblioteka.szemud.pl/index.php/event/spotkanie-z-eksperymentem-z-okazji-dnia-dziecka-w-bibliotece-w-szemudzie/
LOCATION:Hala sportowa w Szemudzie\, Szkolna 4a\, Szemud\, pomorskie\, 84-217\, Polska
ATTACH;FMTTYPE=image/png:https://biblioteka.szemud.pl/wp-content/uploads/2022/05/spotkanie-z-eksperymentem-2022-e1653032170774.png
END:VEVENT
BEGIN:VEVENT
DTSTART;TZID=Europe/Warsaw:20220613T110000
DTEND;TZID=Europe/Warsaw:20220613T130000
DTSTAMP:20260420T235950
CREATED:20220609T104353Z
LAST-MODIFIED:20220609T104649Z
UID:23720-1655118000-1655125200@biblioteka.szemud.pl
SUMMARY:Spotkanie "Porozmawiajmy o skórze problematycznej i nie tylko" w bibliotece w Łebnie
DESCRIPTION:
URL:https://biblioteka.szemud.pl/index.php/event/spotkanie-porozmawiajmy-o-skorze-problematycznej-i-nie-tylko-w-bibliotece-w-lebnie/
LOCATION:Biblioteka w Łebnie\, ul. Kartuska 9\, Łebno
ATTACH;FMTTYPE=image/jpeg:https://biblioteka.szemud.pl/wp-content/uploads/2022/06/1654771164021-e1654771411207.jpeg
END:VEVENT
BEGIN:VEVENT
DTSTART;TZID=Europe/Warsaw:20220614T170000
DTEND;TZID=Europe/Warsaw:20220614T190000
DTSTAMP:20260420T235950
CREATED:20220520T074925Z
LAST-MODIFIED:20220610T082555Z
UID:23104-1655226000-1655233200@biblioteka.szemud.pl
SUMMARY:Uroczyste podsumowanie kół zainteresowań
DESCRIPTION:
URL:https://biblioteka.szemud.pl/index.php/event/uroczyste-podsumowanie-kol-zainteresowan-2/
LOCATION:Centrum Muzyczne w Kielnie\, ul. Oliwska 85\, Kielno\, pomorskie\, 84-208\, Poland
ATTACH;FMTTYPE=image/png:https://biblioteka.szemud.pl/wp-content/uploads/2022/06/a0-e1654849546324.png
END:VEVENT
BEGIN:VEVENT
DTSTART;TZID=Europe/Warsaw:20220705T110000
DTEND;TZID=Europe/Warsaw:20220705T130000
DTSTAMP:20260420T235950
CREATED:20220624T073804Z
LAST-MODIFIED:20220624T073804Z
UID:24418-1657018800-1657026000@biblioteka.szemud.pl
SUMMARY:Warsztaty z teatrem Kamishibai w bibliotece w Szemudzie
DESCRIPTION:
URL:https://biblioteka.szemud.pl/index.php/event/warsztaty-z-teatrem-kamishibai-w-bibliotece-w-szemudzie-3/
LOCATION:Biblioteka w Szemudzie\, Samorządowa 1\, Szemud
ATTACH;FMTTYPE=image/png:https://biblioteka.szemud.pl/wp-content/uploads/2022/06/Szemud-warsztaty-VII-2022-e1656056227586.png
END:VEVENT
BEGIN:VEVENT
DTSTART;TZID=Europe/Warsaw:20220707T100000
DTEND;TZID=Europe/Warsaw:20220707T103000
DTSTAMP:20260420T235950
CREATED:20220624T081559Z
LAST-MODIFIED:20220624T081630Z
UID:24429-1657188000-1657189800@biblioteka.szemud.pl
SUMMARY:Wakacyjne spotkanie z bajką w bibliotece w Kielnie
DESCRIPTION:
URL:https://biblioteka.szemud.pl/index.php/event/wakacyjne-spotkanie-z-bajka-w-bibliotece-w-kielnie/
LOCATION:Biblioteka w Kielnie\, ul. Oliwska 46\, Kielno
ATTACH;FMTTYPE=image/png:https://biblioteka.szemud.pl/wp-content/uploads/2022/06/Lipiec-Kielno-2022-e1656058576535.png
END:VEVENT
BEGIN:VEVENT
DTSTART;TZID=Europe/Warsaw:20220712T110000
DTEND;TZID=Europe/Warsaw:20220712T123000
DTSTAMP:20260420T235950
CREATED:20220624T082349Z
LAST-MODIFIED:20220624T082830Z
UID:24438-1657623600-1657629000@biblioteka.szemud.pl
SUMMARY:Warsztaty "Kwietnik ze sznurka" w bibliotece w Kielnie
DESCRIPTION:
URL:https://biblioteka.szemud.pl/index.php/event/warsztaty-kwietnik-ze-sznurka-w-bibliotece-w-kielnie/
ATTACH;FMTTYPE=image/png:https://biblioteka.szemud.pl/wp-content/uploads/2022/06/Lipiec-Kielno-2022-e1656058576535.png
END:VEVENT
BEGIN:VEVENT
DTSTART;TZID=Europe/Warsaw:20220712T110000
DTEND;TZID=Europe/Warsaw:20220712T130000
DTSTAMP:20260420T235950
CREATED:20220624T073940Z
LAST-MODIFIED:20220624T073940Z
UID:24420-1657623600-1657630800@biblioteka.szemud.pl
SUMMARY:Planszomania w bibliotece w Szemudzie
DESCRIPTION:
URL:https://biblioteka.szemud.pl/index.php/event/planszomania-w-bibliotece-w-szemudzie-7/
LOCATION:Biblioteka w Szemudzie\, Samorządowa 1\, Szemud
ATTACH;FMTTYPE=image/png:https://biblioteka.szemud.pl/wp-content/uploads/2022/06/Szemud-warsztaty-VII-2022-e1656056227586.png
END:VEVENT
BEGIN:VEVENT
DTSTART;TZID=Europe/Warsaw:20220714T100000
DTEND;TZID=Europe/Warsaw:20220714T103000
DTSTAMP:20260420T235950
CREATED:20220624T081744Z
LAST-MODIFIED:20220624T081911Z
UID:24431-1657792800-1657794600@biblioteka.szemud.pl
SUMMARY:Wakacyjne spotkanie z bajką w bibliotece w Kielnie
DESCRIPTION:
URL:https://biblioteka.szemud.pl/index.php/event/wakacyjne-spotkanie-z-bajka-w-bibliotece-w-kielnie-2/
ATTACH;FMTTYPE=image/png:https://biblioteka.szemud.pl/wp-content/uploads/2022/06/Lipiec-Kielno-2022-e1656058576535.png
END:VEVENT
BEGIN:VEVENT
DTSTART;TZID=Europe/Warsaw:20220714T110000
DTEND;TZID=Europe/Warsaw:20220714T123000
DTSTAMP:20260420T235950
CREATED:20220624T083008Z
LAST-MODIFIED:20220624T083008Z
UID:24441-1657796400-1657801800@biblioteka.szemud.pl
SUMMARY:Wakacyjne gry i zabawy w bibliotece w Kielnie
DESCRIPTION:
URL:https://biblioteka.szemud.pl/index.php/event/wakacyjne-gry-i-zabawy-w-bibliotece-w-kielnie/
ATTACH;FMTTYPE=image/png:https://biblioteka.szemud.pl/wp-content/uploads/2022/06/Lipiec-Kielno-2022-e1656058576535.png
END:VEVENT
BEGIN:VEVENT
DTSTART;TZID=Europe/Warsaw:20220714T110000
DTEND;TZID=Europe/Warsaw:20220714T130000
DTSTAMP:20260420T235950
CREATED:20220624T090806Z
LAST-MODIFIED:20220624T090855Z
UID:24450-1657796400-1657803600@biblioteka.szemud.pl
SUMMARY:Warsztaty "Kreda chodnikowa" w Bibliotece w Łebnie
DESCRIPTION:
URL:https://biblioteka.szemud.pl/index.php/event/warsztaty-kreda-chodnikowa-w-bibliotece-w-lebnie/
LOCATION:Biblioteka w Łebnie\, ul. Kartuska 9\, Łebno
ATTACH;FMTTYPE=image/png:https://biblioteka.szemud.pl/wp-content/uploads/2022/06/Lipiec-Lebno-2022-e1656061640907.png
END:VEVENT
BEGIN:VEVENT
DTSTART;TZID=Europe/Warsaw:20220715T090000
DTEND;TZID=Europe/Warsaw:20220715T110000
DTSTAMP:20260420T235950
CREATED:20220520T075754Z
LAST-MODIFIED:20220520T075826Z
UID:23109-1657875600-1657882800@biblioteka.szemud.pl
SUMMARY:Warsztaty ceramiczne "Kwiaty" - lepienie dla członków Stowarzyszenia Lesok
DESCRIPTION:
URL:https://biblioteka.szemud.pl/index.php/event/warsztaty-ceramiczne-kwiaty-stowarzyszenie-lesok/
LOCATION:Centrum Muzyczne w Kielnie\, ul. Oliwska 85\, Kielno\, pomorskie\, 84-208\, Poland
ATTACH;FMTTYPE=image/png:https://biblioteka.szemud.pl/wp-content/uploads/2022/05/warsztaty-dla-senorow-e1653033430828.png
END:VEVENT
BEGIN:VEVENT
DTSTART;TZID=Europe/Warsaw:20220715T120000
DTEND;TZID=Europe/Warsaw:20220715T140000
DTSTAMP:20260420T235950
CREATED:20220520T075901Z
LAST-MODIFIED:20220520T075901Z
UID:23112-1657886400-1657893600@biblioteka.szemud.pl
SUMMARY:Warsztaty ceramiczne "Kwiaty" - lepienie dla członków Stowarzyszenia Lesok
DESCRIPTION:
URL:https://biblioteka.szemud.pl/index.php/event/warsztaty-ceramiczne-kwiaty-lepienie-dla-czlonkow-stowarzyszenia-lesok/
LOCATION:Centrum Muzyczne w Kielnie\, ul. Oliwska 85\, Kielno\, pomorskie\, 84-208\, Poland
ATTACH;FMTTYPE=image/png:https://biblioteka.szemud.pl/wp-content/uploads/2022/05/warsztaty-dla-senorow-e1653033430828.png
END:VEVENT
BEGIN:VEVENT
DTSTART;TZID=Europe/Warsaw:20220719T110000
DTEND;TZID=Europe/Warsaw:20220719T120000
DTSTAMP:20260420T235950
CREATED:20220624T074106Z
LAST-MODIFIED:20220624T074106Z
UID:24422-1658228400-1658232000@biblioteka.szemud.pl
SUMMARY:Warsztaty plastyczne "Pocztówka znad morza" w bibliotece w Szemudzie
DESCRIPTION:
URL:https://biblioteka.szemud.pl/index.php/event/warsztaty-plastyczne-pocztowka-znad-morza-w-bibliotece-w-szemudzie/
LOCATION:Biblioteka w Szemudzie\, Samorządowa 1\, Szemud
ATTACH;FMTTYPE=image/png:https://biblioteka.szemud.pl/wp-content/uploads/2022/06/Szemud-warsztaty-VII-2022-e1656056227586.png
END:VEVENT
END:VCALENDAR