BEGIN:VCALENDAR
VERSION:2.0
PRODID:-//Biblioteka Publiczna Gminy Szemud - ECPv6.15.20//NONSGML v1.0//EN
CALSCALE:GREGORIAN
METHOD:PUBLISH
X-WR-CALNAME:Biblioteka Publiczna Gminy Szemud
X-ORIGINAL-URL:https://biblioteka.szemud.pl
X-WR-CALDESC:Wydarzenia dla Biblioteka Publiczna Gminy Szemud
REFRESH-INTERVAL;VALUE=DURATION:PT1H
X-Robots-Tag:noindex
X-PUBLISHED-TTL:PT1H
BEGIN:VTIMEZONE
TZID:Europe/Warsaw
BEGIN:DAYLIGHT
TZOFFSETFROM:+0100
TZOFFSETTO:+0200
TZNAME:CEST
DTSTART:20200329T010000
END:DAYLIGHT
BEGIN:STANDARD
TZOFFSETFROM:+0200
TZOFFSETTO:+0100
TZNAME:CET
DTSTART:20201025T010000
END:STANDARD
BEGIN:DAYLIGHT
TZOFFSETFROM:+0100
TZOFFSETTO:+0200
TZNAME:CEST
DTSTART:20210328T010000
END:DAYLIGHT
BEGIN:STANDARD
TZOFFSETFROM:+0200
TZOFFSETTO:+0100
TZNAME:CET
DTSTART:20211031T010000
END:STANDARD
BEGIN:DAYLIGHT
TZOFFSETFROM:+0100
TZOFFSETTO:+0200
TZNAME:CEST
DTSTART:20220327T010000
END:DAYLIGHT
BEGIN:STANDARD
TZOFFSETFROM:+0200
TZOFFSETTO:+0100
TZNAME:CET
DTSTART:20221030T010000
END:STANDARD
END:VTIMEZONE
BEGIN:VEVENT
DTSTART;TZID=Europe/Warsaw:20211011T110000
DTEND;TZID=Europe/Warsaw:20211011T120000
DTSTAMP:20260421T141614
CREATED:20211007T080815Z
LAST-MODIFIED:20211007T081202Z
UID:16828-1633950000-1633953600@biblioteka.szemud.pl
SUMMARY:Akcja "W kafejce aktywnego seniora" Łebno
DESCRIPTION:
URL:https://biblioteka.szemud.pl/index.php/event/w-kafejce-aktywnego-seniora-w-bibliotece-w-lebnie/
LOCATION:Biblioteka w Łebnie\, ul. Kartuska 9\, Łebno
ATTACH;FMTTYPE=image/jpeg:https://biblioteka.szemud.pl/wp-content/uploads/2021/10/plakat-A2GMINA-SZEMUD-DLA-SENIORA3-e1633594024162.jpg
END:VEVENT
BEGIN:VEVENT
DTSTART;TZID=Europe/Warsaw:20211012T110000
DTEND;TZID=Europe/Warsaw:20211012T120000
DTSTAMP:20260421T141614
CREATED:20211007T081108Z
LAST-MODIFIED:20211007T081215Z
UID:16830-1634036400-1634040000@biblioteka.szemud.pl
SUMMARY:Akcja "W kafejce aktywnego seniora" Szemud
DESCRIPTION:
URL:https://biblioteka.szemud.pl/index.php/event/w-kafejce-aktywnego-seniora-w-szemudzie/
LOCATION:Hala sportowa w Szemudzie\, Szkolna 4a\, Szemud\, pomorskie\, 84-217\, Polska
ATTACH;FMTTYPE=image/jpeg:https://biblioteka.szemud.pl/wp-content/uploads/2021/10/plakat-A2GMINA-SZEMUD-DLA-SENIORA3-e1633594024162.jpg
END:VEVENT
BEGIN:VEVENT
DTSTART;TZID=Europe/Warsaw:20211012T133000
DTEND;TZID=Europe/Warsaw:20211012T150000
DTSTAMP:20260421T141614
CREATED:20211004T100646Z
LAST-MODIFIED:20211004T102339Z
UID:16788-1634045400-1634050800@biblioteka.szemud.pl
SUMMARY:Warsztaty z Lego Mindstorms w Bibliotece w Kielnie
DESCRIPTION:
URL:https://biblioteka.szemud.pl/index.php/event/warsztaty-z-lego-mindstorms-w-bibliotece-w-kielnie-2/
LOCATION:Biblioteka w Kielnie\, ul. Oliwska 46\, Kielno
ATTACH;FMTTYPE=image/png:https://biblioteka.szemud.pl/wp-content/uploads/2021/10/Lego-20212-1-e1633342942973.png
END:VEVENT
BEGIN:VEVENT
DTSTART;TZID=Europe/Warsaw:20211014T110000
DTEND;TZID=Europe/Warsaw:20211014T120000
DTSTAMP:20260421T141614
CREATED:20211007T081321Z
LAST-MODIFIED:20211007T081321Z
UID:16834-1634209200-1634212800@biblioteka.szemud.pl
SUMMARY:Akcja "W kafejce aktywnego seniora" Kielno
DESCRIPTION:
URL:https://biblioteka.szemud.pl/index.php/event/akcja-w-kafejce-aktywnego-seniora-kielno/
LOCATION:Biblioteka w Kielnie\, ul. Oliwska 46\, Kielno
ATTACH;FMTTYPE=image/jpeg:https://biblioteka.szemud.pl/wp-content/uploads/2021/10/plakat-A2GMINA-SZEMUD-DLA-SENIORA3-e1633594024162.jpg
END:VEVENT
BEGIN:VEVENT
DTSTART;TZID=Europe/Warsaw:20211015T110000
DTEND;TZID=Europe/Warsaw:20211015T120000
DTSTAMP:20260421T141614
CREATED:20211007T081358Z
LAST-MODIFIED:20211007T081751Z
UID:16836-1634295600-1634299200@biblioteka.szemud.pl
SUMMARY:Akcja "W kafejce aktywnego seniora" Bojano
DESCRIPTION:
URL:https://biblioteka.szemud.pl/index.php/event/akcja-w-kafejce-aktywnego-seniora-bojano/
LOCATION:Biblioteka w Bojanie\, ul. J. Wybickiego 38\, Bojano
ATTACH;FMTTYPE=image/jpeg:https://biblioteka.szemud.pl/wp-content/uploads/2021/10/plakat-A2GMINA-SZEMUD-DLA-SENIORA3-e1633594024162.jpg
END:VEVENT
BEGIN:VEVENT
DTSTART;TZID=Europe/Warsaw:20211018T150000
DTEND;TZID=Europe/Warsaw:20211018T163000
DTSTAMP:20260421T141614
CREATED:20211004T094231Z
LAST-MODIFIED:20211004T102416Z
UID:16784-1634569200-1634574600@biblioteka.szemud.pl
SUMMARY:Warsztaty z Lego Mindstorms w Bibliotece w Łebnie
DESCRIPTION:
URL:https://biblioteka.szemud.pl/index.php/event/warsztaty-z-lego-mindstorms-w-bibliotece-w-lebnie-2/
LOCATION:Biblioteka w Łebnie\, ul. Kartuska 9\, Łebno
ATTACH;FMTTYPE=image/png:https://biblioteka.szemud.pl/wp-content/uploads/2021/10/Lego-20212-1-e1633342942973.png
END:VEVENT
BEGIN:VEVENT
DTSTART;TZID=Europe/Warsaw:20211021T143000
DTEND;TZID=Europe/Warsaw:20211021T160000
DTSTAMP:20260421T141614
CREATED:20211004T102725Z
LAST-MODIFIED:20211004T102725Z
UID:16798-1634826600-1634832000@biblioteka.szemud.pl
SUMMARY:Warsztaty kreatywne "Jesienne jeżyki" w Bibliotece w Łebnie
DESCRIPTION:
URL:https://biblioteka.szemud.pl/index.php/event/warsztaty-kreatywne-jesienne-jezyki-w-bibliotece-w-lebnie/
LOCATION:Biblioteka w Łebnie\, ul. Kartuska 9\, Łebno
ATTACH;FMTTYPE=image/png:https://biblioteka.szemud.pl/wp-content/uploads/2021/10/Biblioteka-Publiczna-w-Lebnie-zaprasza-na-Warsztaty-Kreatywne-Jesienne-Jezyki-e1633343197560.png
END:VEVENT
BEGIN:VEVENT
DTSTART;TZID=Europe/Warsaw:20211028T140000
DTEND;TZID=Europe/Warsaw:20211028T150000
DTSTAMP:20260421T141614
CREATED:20211004T111932Z
LAST-MODIFIED:20211004T112107Z
UID:16804-1635429600-1635433200@biblioteka.szemud.pl
SUMMARY:Warsztaty "Cyjanotypia" w Bibliotece w Bojanie
DESCRIPTION:
URL:https://biblioteka.szemud.pl/index.php/event/warsztaty-cyjanotypia-w-bibliotece-w-bojanie/
LOCATION:Biblioteka w Bojanie\, ul. J. Wybickiego 38\, Bojano
ATTACH;FMTTYPE=image/png:https://biblioteka.szemud.pl/wp-content/uploads/2021/10/Biblioteka-Publiczna-w-Bojanie-1-e1633346434415.png
END:VEVENT
BEGIN:VEVENT
DTSTART;TZID=Europe/Warsaw:20211109T110000
DTEND;TZID=Europe/Warsaw:20211109T130000
DTSTAMP:20260421T141614
CREATED:20211025T092618Z
LAST-MODIFIED:20211103T101226Z
UID:17127-1636455600-1636462800@biblioteka.szemud.pl
SUMMARY:Muzyka Wielkich Mistrzów w Bibliotece w Kielnie
DESCRIPTION:
URL:https://biblioteka.szemud.pl/index.php/event/muzyka-wielkich-mistrzow-w-bibliotece-w-kielnie/
LOCATION:Biblioteka w Kielnie\, ul. Oliwska 46\, Kielno
ATTACH;FMTTYPE=image/jpeg:https://biblioteka.szemud.pl/wp-content/uploads/2021/11/Muzyka-mistrzow-AFISZE-1-e1635933625928.jpg
END:VEVENT
BEGIN:VEVENT
DTSTART;TZID=Europe/Warsaw:20211115T090000
DTEND;TZID=Europe/Warsaw:20211115T110000
DTSTAMP:20260421T141614
CREATED:20211104T091922Z
LAST-MODIFIED:20211104T091922Z
UID:17340-1636966800-1636974000@biblioteka.szemud.pl
SUMMARY:Warsztaty czytelnicze w Bibliotece w Szemudzie
DESCRIPTION:
URL:https://biblioteka.szemud.pl/index.php/event/warsztaty-czytelnicze-w-bibliotece-w-szemudzie-3/
LOCATION:Biblioteka w Szemudzie\, Samorządowa 1\, Szemud
ATTACH;FMTTYPE=image/png:https://biblioteka.szemud.pl/wp-content/uploads/2021/11/warsztaty-czytelnicze--e1636017510519.png
END:VEVENT
BEGIN:VEVENT
DTSTART;TZID=Europe/Warsaw:20211115T143000
DTEND;TZID=Europe/Warsaw:20211115T163000
DTSTAMP:20260421T141614
CREATED:20211104T111915Z
LAST-MODIFIED:20211104T111915Z
UID:17374-1636986600-1636993800@biblioteka.szemud.pl
SUMMARY:Warsztaty z Lego Mindstorms w Bibliotece w Łebnie
DESCRIPTION:
URL:https://biblioteka.szemud.pl/index.php/event/warsztaty-z-lego-mindstorms-w-bibliotece-w-lebnie-3/
LOCATION:Biblioteka w Łebnie\, ul. Kartuska 9\, Łebno
ATTACH;FMTTYPE=image/png:https://biblioteka.szemud.pl/wp-content/uploads/2021/11/Lego-2021-e1636024709600.png
END:VEVENT
BEGIN:VEVENT
DTSTART;TZID=Europe/Warsaw:20211116T090000
DTEND;TZID=Europe/Warsaw:20211116T110000
DTSTAMP:20260421T141614
CREATED:20211104T092613Z
LAST-MODIFIED:20211104T092613Z
UID:17343-1637053200-1637060400@biblioteka.szemud.pl
SUMMARY:Warsztaty czytelnicze w Bibliotece w Kielnie
DESCRIPTION:
URL:https://biblioteka.szemud.pl/index.php/event/warsztaty-czytelnicze-w-bibliotece-w-kielnie-5/
LOCATION:Biblioteka w Kielnie\, ul. Oliwska 46\, Kielno
ATTACH;FMTTYPE=image/png:https://biblioteka.szemud.pl/wp-content/uploads/2021/11/warsztaty-czytelnicze--e1636017510519.png
END:VEVENT
BEGIN:VEVENT
DTSTART;TZID=Europe/Warsaw:20211116T110000
DTEND;TZID=Europe/Warsaw:20211116T130000
DTSTAMP:20260421T141614
CREATED:20211025T092930Z
LAST-MODIFIED:20211103T100521Z
UID:17129-1637060400-1637067600@biblioteka.szemud.pl
SUMMARY:Muzyka Wielkich Mistrzów w Bibliotece w Łebnie
DESCRIPTION:
URL:https://biblioteka.szemud.pl/index.php/event/muzyka-wielkich-mistrzow-w-bibliotece-w-lebnie/
LOCATION:Biblioteka w Łebnie\, ul. Kartuska 9\, Łebno
ATTACH;FMTTYPE=image/jpeg:https://biblioteka.szemud.pl/wp-content/uploads/2021/11/Muzyka-mistrzow-AFISZE-1-e1635933625928.jpg
END:VEVENT
BEGIN:VEVENT
DTSTART;TZID=Europe/Warsaw:20211117T090000
DTEND;TZID=Europe/Warsaw:20211117T110000
DTSTAMP:20260421T141614
CREATED:20211104T093528Z
LAST-MODIFIED:20211104T094315Z
UID:17345-1637139600-1637146800@biblioteka.szemud.pl
SUMMARY:Warsztaty czytelnicze w Bibliotece w Bojanie
DESCRIPTION:
URL:https://biblioteka.szemud.pl/index.php/event/warsztaty-czytelnicze-w-bibliotece-w-szemudzie-4/
LOCATION:Biblioteka w Bojanie\, ul. J. Wybickiego 38\, Bojano
ATTACH;FMTTYPE=image/png:https://biblioteka.szemud.pl/wp-content/uploads/2021/11/warsztaty-czytelnicze--e1636017510519.png
END:VEVENT
BEGIN:VEVENT
DTSTART;TZID=Europe/Warsaw:20211118T090000
DTEND;TZID=Europe/Warsaw:20211118T110000
DTSTAMP:20260421T141614
CREATED:20211104T094432Z
LAST-MODIFIED:20211104T094432Z
UID:17348-1637226000-1637233200@biblioteka.szemud.pl
SUMMARY:Warsztaty czytelnicze w Bibliotece w Łebnie
DESCRIPTION:
URL:https://biblioteka.szemud.pl/index.php/event/warsztaty-czytelnicze-w-bibliotece-w-lebnie-5/
LOCATION:Biblioteka w Bojanie\, ul. J. Wybickiego 38\, Bojano
ATTACH;FMTTYPE=image/png:https://biblioteka.szemud.pl/wp-content/uploads/2021/11/warsztaty-czytelnicze--e1636017510519.png
END:VEVENT
BEGIN:VEVENT
DTSTART;TZID=Europe/Warsaw:20211118T110000
DTEND;TZID=Europe/Warsaw:20211118T120000
DTSTAMP:20260421T141614
CREATED:20211116T102223Z
LAST-MODIFIED:20211116T102223Z
UID:17726-1637233200-1637236800@biblioteka.szemud.pl
SUMMARY:Spotkanie organizacyjne "Klubu Aktywnego Seniora" w Bibliotece w Kielnie
DESCRIPTION:
URL:https://biblioteka.szemud.pl/index.php/event/spotkanie-organizacyjne-klubu-aktywnego-seniora-w-bibliotece-w-kielnie/
LOCATION:Biblioteka w Kielnie\, ul. Oliwska 46\, Kielno
ATTACH;FMTTYPE=image/png:https://biblioteka.szemud.pl/wp-content/uploads/2021/11/Biblioteka-Publiczna-w-Kielnie-e1637058131318.png
END:VEVENT
BEGIN:VEVENT
DTSTART;TZID=Europe/Warsaw:20211118T160000
DTEND;TZID=Europe/Warsaw:20211118T180000
DTSTAMP:20260421T141614
CREATED:20211104T115242Z
LAST-MODIFIED:20211104T115342Z
UID:17387-1637251200-1637258400@biblioteka.szemud.pl
SUMMARY:"Spotkanie twórcze z szydełkiem" w Bibliotece w Bojanie
DESCRIPTION:
URL:https://biblioteka.szemud.pl/index.php/event/spotkanie-tworcze-z-szydelkiem-w-bibliotece-w-bojanie/
LOCATION:Biblioteka w Bojanie\, ul. J. Wybickiego 38\, Bojano
ATTACH;FMTTYPE=image/png:https://biblioteka.szemud.pl/wp-content/uploads/2021/11/BIBLIOTEKA-PUBLICZNA-W-BOJANIE-e1636026808736.png
END:VEVENT
BEGIN:VEVENT
DTSTART;TZID=Europe/Warsaw:20211122T160000
DTEND;TZID=Europe/Warsaw:20211122T180000
DTSTAMP:20260421T141614
CREATED:20211104T120336Z
LAST-MODIFIED:20211104T120336Z
UID:17395-1637596800-1637604000@biblioteka.szemud.pl
SUMMARY:Warsztaty kreatywne "Piórko makramowe" w Bibliotece w Łebnie
DESCRIPTION:
URL:https://biblioteka.szemud.pl/index.php/event/warsztaty-kreatywne-piorko-makramowe-w-bibliotece-w-lebnie/
LOCATION:Biblioteka w Łebnie\, ul. Kartuska 9\, Łebno
ATTACH;FMTTYPE=image/png:https://biblioteka.szemud.pl/wp-content/uploads/2021/11/Warsztaty-Lebno-e1636027375270.png
END:VEVENT
BEGIN:VEVENT
DTSTART;TZID=Europe/Warsaw:20211123T110000
DTEND;TZID=Europe/Warsaw:20211123T130000
DTSTAMP:20260421T141614
CREATED:20211025T093041Z
LAST-MODIFIED:20211103T100203Z
UID:17131-1637665200-1637672400@biblioteka.szemud.pl
SUMMARY:Muzyka Wielkich Mistrzów w Bibliotece w Kielnie
DESCRIPTION:
URL:https://biblioteka.szemud.pl/index.php/event/muzyka-wielkich-mistrzow-w-bibliotece-w-kielnie-2/
LOCATION:Biblioteka w Kielnie\, ul. Oliwska 46\, Kielno
ATTACH;FMTTYPE=image/jpeg:https://biblioteka.szemud.pl/wp-content/uploads/2021/11/Muzyka-mistrzow-AFISZE-1-e1635933625928.jpg
END:VEVENT
BEGIN:VEVENT
DTSTART;TZID=Europe/Warsaw:20211123T133000
DTEND;TZID=Europe/Warsaw:20211123T153000
DTSTAMP:20260421T141614
CREATED:20211104T112113Z
LAST-MODIFIED:20211104T112224Z
UID:17376-1637674200-1637681400@biblioteka.szemud.pl
SUMMARY:Warsztaty z Lego Mindstorms w Bibliotece w Szemudzie
DESCRIPTION:
URL:https://biblioteka.szemud.pl/index.php/event/warsztaty-z-lego-mindstorms-w-bibliotece-w-szemudzie-4/
LOCATION:Biblioteka w Szemudzie\, Samorządowa 1\, Szemud
ATTACH;FMTTYPE=image/png:https://biblioteka.szemud.pl/wp-content/uploads/2021/11/Lego-2021-e1636024709600.png
END:VEVENT
BEGIN:VEVENT
DTSTART;TZID=Europe/Warsaw:20211125T140000
DTEND;TZID=Europe/Warsaw:20211125T153000
DTSTAMP:20260421T141614
CREATED:20211104T131440Z
LAST-MODIFIED:20211104T131440Z
UID:17400-1637848800-1637854200@biblioteka.szemud.pl
SUMMARY:Warsztaty "Bransoletki przyjaźni" w Bibliotece w Bojanie
DESCRIPTION:
URL:https://biblioteka.szemud.pl/index.php/event/warsztaty-bransoletki-przyjazni-w-bibliotece-w-bojanie/
LOCATION:Biblioteka w Bojanie\, ul. J. Wybickiego 38\, Bojano
ATTACH;FMTTYPE=image/png:https://biblioteka.szemud.pl/wp-content/uploads/2021/11/Warsztaty-Bojano-1-e1636031631890.png
END:VEVENT
BEGIN:VEVENT
DTSTART;TZID=Europe/Warsaw:20211125T160000
DTEND;TZID=Europe/Warsaw:20211125T180000
DTSTAMP:20260421T141614
CREATED:20211104T132734Z
LAST-MODIFIED:20211104T133019Z
UID:17405-1637856000-1637863200@biblioteka.szemud.pl
SUMMARY:Warsztaty dla dorosłych "Motanki" w Bibliotece w Bojanie
DESCRIPTION:
URL:https://biblioteka.szemud.pl/index.php/event/warsztaty-dla-doroslych-motanki-w-bibliotece-w-bojanie/
LOCATION:Biblioteka w Bojanie\, ul. J. Wybickiego 38\, Bojano
ATTACH;FMTTYPE=image/png:https://biblioteka.szemud.pl/wp-content/uploads/2021/11/Warsztaty-Bojano-2-e1636032395212.png
END:VEVENT
BEGIN:VEVENT
DTSTART;TZID=Europe/Warsaw:20211125T160000
DTEND;TZID=Europe/Warsaw:20211125T180000
DTSTAMP:20260421T141614
CREATED:20211117T085049Z
LAST-MODIFIED:20211117T085049Z
UID:17733-1637856000-1637863200@biblioteka.szemud.pl
SUMMARY:Warsztaty "Wieniec adwentowy" w Bibliotece w Kielnie
DESCRIPTION:
URL:https://biblioteka.szemud.pl/index.php/event/warsztaty-wieniec-adwentowy-w-bibliotece-w-kielnie/
LOCATION:Biblioteka w Kielnie\, ul. Oliwska 46\, Kielno
ATTACH;FMTTYPE=image/png:https://biblioteka.szemud.pl/wp-content/uploads/2021/11/Biblioteka-Publiczna-w-Kielnie-1-e1637139012521.png
END:VEVENT
BEGIN:VEVENT
DTSTART;TZID=Europe/Warsaw:20211130T110000
DTEND;TZID=Europe/Warsaw:20211130T130000
DTSTAMP:20260421T141614
CREATED:20211025T093204Z
LAST-MODIFIED:20211103T100113Z
UID:17133-1638270000-1638277200@biblioteka.szemud.pl
SUMMARY:Muzyka Wielkich Mistrzów w Bibliotece w Łebnie
DESCRIPTION:
URL:https://biblioteka.szemud.pl/index.php/event/muzyka-wielkich-mistrzow-w-bibliotece-w-lebnie-2/
LOCATION:Biblioteka w Łebnie\, ul. Kartuska 9\, Łebno
ATTACH;FMTTYPE=image/jpeg:https://biblioteka.szemud.pl/wp-content/uploads/2021/11/Muzyka-mistrzow-AFISZE-1-e1635933625928.jpg
END:VEVENT
BEGIN:VEVENT
DTSTART;TZID=Europe/Warsaw:20211130T133000
DTEND;TZID=Europe/Warsaw:20211130T150000
DTSTAMP:20260421T141614
CREATED:20211104T112408Z
LAST-MODIFIED:20211104T112408Z
UID:17378-1638279000-1638284400@biblioteka.szemud.pl
SUMMARY:Warsztaty z Lego Mindstorms w Bibliotece w Kielnie
DESCRIPTION:
URL:https://biblioteka.szemud.pl/index.php/event/warsztaty-z-lego-mindstorms-w-bibliotece-w-kielnie-3/
LOCATION:Biblioteka w Kielnie\, ul. Oliwska 46\, Kielno
ATTACH;FMTTYPE=image/png:https://biblioteka.szemud.pl/wp-content/uploads/2021/11/Lego-2021-e1636024709600.png
END:VEVENT
BEGIN:VEVENT
DTSTART;TZID=Europe/Warsaw:20211206T160000
DTEND;TZID=Europe/Warsaw:20211206T180000
DTSTAMP:20260421T141614
CREATED:20211123T113001Z
LAST-MODIFIED:20211123T113001Z
UID:18185-1638806400-1638813600@biblioteka.szemud.pl
SUMMARY:Rodzinne warsztaty świąteczne w Bibliotece w Łebnie
DESCRIPTION:
URL:https://biblioteka.szemud.pl/index.php/event/rodzinne-warsztaty-swiateczne-w-bibliotece-w-lebnie/
LOCATION:Biblioteka w Łebnie\, ul. Kartuska 9\, Łebno
ATTACH;FMTTYPE=image/png:https://biblioteka.szemud.pl/wp-content/uploads/2021/11/Warsztaty-Lebno-1-e1637666879854.png
END:VEVENT
BEGIN:VEVENT
DTSTART;TZID=Europe/Warsaw:20211207T150000
DTEND;TZID=Europe/Warsaw:20211207T170000
DTSTAMP:20260421T141614
CREATED:20211203T102538Z
LAST-MODIFIED:20211203T102538Z
UID:18482-1638889200-1638896400@biblioteka.szemud.pl
SUMMARY:Warsztaty kreatywne "Stroik Wigilijny i pieczenie pierników" w Bibliotece w Łebnie
DESCRIPTION:
URL:https://biblioteka.szemud.pl/index.php/event/warsztaty-kreatywne-stroik-wigilijny-i-pieczenie-piernikow-w-bibliotece-w-lebnie/
LOCATION:Biblioteka w Łebnie\, ul. Kartuska 9\, Łebno
ATTACH;FMTTYPE=image/png:https://biblioteka.szemud.pl/wp-content/uploads/2021/12/Biblioteka-Publiczna-oraz-Wiejski-Osrodek-Kultury-w-Lebnie-e1638527111469.png
END:VEVENT
BEGIN:VEVENT
DTSTART;TZID=Europe/Warsaw:20211209T130000
DTEND;TZID=Europe/Warsaw:20211209T150000
DTSTAMP:20260421T141614
CREATED:20211123T122912Z
LAST-MODIFIED:20211123T124525Z
UID:18192-1639054800-1639062000@biblioteka.szemud.pl
SUMMARY:Świąteczne warsztaty kreatywne dla seniorów w Bibliotece w Bojanie
DESCRIPTION:
URL:https://biblioteka.szemud.pl/index.php/event/swiateczne-warsztaty-kreatywne-dla-seniorow-w-bibliotece-w-bojanie/
LOCATION:Biblioteka w Bojanie\, ul. J. Wybickiego 38\, Bojano
ATTACH;FMTTYPE=image/png:https://biblioteka.szemud.pl/wp-content/uploads/2021/11/Warsztaty-Bojano-dorosli-e1637670469175.png
END:VEVENT
BEGIN:VEVENT
DTSTART;TZID=Europe/Warsaw:20211209T160000
DTEND;TZID=Europe/Warsaw:20211209T180000
DTSTAMP:20260421T141614
CREATED:20211123T122825Z
LAST-MODIFIED:20211123T122825Z
UID:18190-1639065600-1639072800@biblioteka.szemud.pl
SUMMARY:Świąteczne warsztaty kreatywne dla dorosłych w Bibliotece w Bojanie
DESCRIPTION:
URL:https://biblioteka.szemud.pl/index.php/event/swiateczne-warsztaty-kreatywne-dla-doroslych-w-bibliotece-w-bojanie/
LOCATION:Biblioteka w Bojanie\, ul. J. Wybickiego 38\, Bojano
ATTACH;FMTTYPE=image/png:https://biblioteka.szemud.pl/wp-content/uploads/2021/11/Warsztaty-Bojano-dorosli-e1637670469175.png
END:VEVENT
BEGIN:VEVENT
DTSTART;TZID=Europe/Warsaw:20211209T160000
DTEND;TZID=Europe/Warsaw:20211209T180000
DTSTAMP:20260421T141614
CREATED:20211123T130133Z
LAST-MODIFIED:20211123T130133Z
UID:18258-1639065600-1639072800@biblioteka.szemud.pl
SUMMARY:Warsztaty dla dorosłych "Makramowe ozdoby świąteczne" w Bibliotece w Kielnie
DESCRIPTION:
URL:https://biblioteka.szemud.pl/index.php/event/warsztaty-dla-doroslych-makramowe-ozdoby-swiateczne-w-bibliotece-w-kielnie/
LOCATION:Biblioteka w Kielnie\, ul. Oliwska 46\, Kielno
ATTACH;FMTTYPE=image/png:https://biblioteka.szemud.pl/wp-content/uploads/2021/11/Warsztaty-Kielno-1-e1637672394566.png
END:VEVENT
END:VCALENDAR