BEGIN:VCALENDAR
VERSION:2.0
PRODID:-//Biblioteka Publiczna Gminy Szemud - ECPv6.15.20//NONSGML v1.0//EN
CALSCALE:GREGORIAN
METHOD:PUBLISH
X-WR-CALNAME:Biblioteka Publiczna Gminy Szemud
X-ORIGINAL-URL:https://biblioteka.szemud.pl
X-WR-CALDESC:Wydarzenia dla Biblioteka Publiczna Gminy Szemud
REFRESH-INTERVAL;VALUE=DURATION:PT1H
X-Robots-Tag:noindex
X-PUBLISHED-TTL:PT1H
BEGIN:VTIMEZONE
TZID:Europe/Warsaw
BEGIN:DAYLIGHT
TZOFFSETFROM:+0100
TZOFFSETTO:+0200
TZNAME:CEST
DTSTART:20190331T010000
END:DAYLIGHT
BEGIN:STANDARD
TZOFFSETFROM:+0200
TZOFFSETTO:+0100
TZNAME:CET
DTSTART:20191027T010000
END:STANDARD
BEGIN:DAYLIGHT
TZOFFSETFROM:+0100
TZOFFSETTO:+0200
TZNAME:CEST
DTSTART:20200329T010000
END:DAYLIGHT
BEGIN:STANDARD
TZOFFSETFROM:+0200
TZOFFSETTO:+0100
TZNAME:CET
DTSTART:20201025T010000
END:STANDARD
BEGIN:DAYLIGHT
TZOFFSETFROM:+0100
TZOFFSETTO:+0200
TZNAME:CEST
DTSTART:20210328T010000
END:DAYLIGHT
BEGIN:STANDARD
TZOFFSETFROM:+0200
TZOFFSETTO:+0100
TZNAME:CET
DTSTART:20211031T010000
END:STANDARD
BEGIN:DAYLIGHT
TZOFFSETFROM:+0100
TZOFFSETTO:+0200
TZNAME:CEST
DTSTART:20220327T010000
END:DAYLIGHT
BEGIN:STANDARD
TZOFFSETFROM:+0200
TZOFFSETTO:+0100
TZNAME:CET
DTSTART:20221030T010000
END:STANDARD
END:VTIMEZONE
BEGIN:VEVENT
DTSTART;TZID=Europe/Warsaw:20200203T113000
DTEND;TZID=Europe/Warsaw:20200203T123000
DTSTAMP:20260423T005941
CREATED:20200203T102637Z
LAST-MODIFIED:20200203T102637Z
UID:12825-1580729400-1580733000@biblioteka.szemud.pl
SUMMARY:Warsztaty czytelnicze w Bibliotece w Częstkowie
DESCRIPTION:
URL:https://biblioteka.szemud.pl/index.php/event/warsztaty-czytelnicze-w-bibliotece-w-czestkowie-4/
LOCATION:Biblioteka w Częstkowie\, ul. Szkolna 9\, Czestkowo
ATTACH;FMTTYPE=image/png:https://biblioteka.szemud.pl/wp-content/uploads/2020/02/warsztaty-czytelnicze-1.png
END:VEVENT
BEGIN:VEVENT
DTSTART;TZID=Europe/Warsaw:20200210T090000
DTEND;TZID=Europe/Warsaw:20200210T100000
DTSTAMP:20260423T005941
CREATED:20200203T102531Z
LAST-MODIFIED:20200203T102531Z
UID:12823-1581325200-1581328800@biblioteka.szemud.pl
SUMMARY:Warsztaty czytelnicze w Bibliotece w Łebnie
DESCRIPTION:
URL:https://biblioteka.szemud.pl/index.php/event/warsztaty-czytelnicze-w-bibliotece-w-lebnie-3/
LOCATION:Biblioteka w Łebnie\, ul. Kartuska 9\, Łebno
ATTACH;FMTTYPE=image/png:https://biblioteka.szemud.pl/wp-content/uploads/2020/02/warsztaty-czytelnicze-1.png
END:VEVENT
BEGIN:VEVENT
DTSTART;TZID=Europe/Warsaw:20200210T113000
DTEND;TZID=Europe/Warsaw:20200210T123000
DTSTAMP:20260423T005941
CREATED:20200210T132408Z
LAST-MODIFIED:20200210T132408Z
UID:13069-1581334200-1581337800@biblioteka.szemud.pl
SUMMARY:Warsztaty czytelnicze w Bibliotece w Częstkowie
DESCRIPTION:
URL:https://biblioteka.szemud.pl/index.php/event/warsztaty-czytelnicze-w-bibliotece-w-czestkowie-5/
LOCATION:Biblioteka w Częstkowie\, ul. Szkolna 9\, Czestkowo
ATTACH;FMTTYPE=image/png:https://biblioteka.szemud.pl/wp-content/uploads/2020/02/warsztaty-czytelnicze-1.png
END:VEVENT
BEGIN:VEVENT
DTSTART;TZID=Europe/Warsaw:20200210T150000
DTEND;TZID=Europe/Warsaw:20200210T170000
DTSTAMP:20260423T005941
CREATED:20200203T133819Z
LAST-MODIFIED:20200203T133819Z
UID:12965-1581346800-1581354000@biblioteka.szemud.pl
SUMMARY:Warsztaty "String-art" w Bibliotece w Szemudzie
DESCRIPTION:
URL:https://biblioteka.szemud.pl/index.php/event/warsztaty-string-art-w-bibliotece-w-szemudzie/
LOCATION:Biblioteka w Szemudzie\, Samorządowa 1\, Szemud
ATTACH;FMTTYPE=image/png:https://biblioteka.szemud.pl/wp-content/uploads/2020/02/Warsztaty-luty-2020-Szemud.png
END:VEVENT
BEGIN:VEVENT
DTSTART;TZID=Europe/Warsaw:20200211T083000
DTEND;TZID=Europe/Warsaw:20200211T093000
DTSTAMP:20260423T005941
CREATED:20200203T103001Z
LAST-MODIFIED:20200203T103001Z
UID:12827-1581409800-1581413400@biblioteka.szemud.pl
SUMMARY:Warsztaty czytelnicze w Bibliotece w Szemudzie
DESCRIPTION:
URL:https://biblioteka.szemud.pl/index.php/event/warsztaty-czytelnicze-w-bibliotece-w-szemudzie-2/
LOCATION:Biblioteka w Szemudzie\, Samorządowa 1\, Szemud
ATTACH;FMTTYPE=image/png:https://biblioteka.szemud.pl/wp-content/uploads/2020/02/warsztaty-czytelnicze-1.png
END:VEVENT
BEGIN:VEVENT
DTSTART;TZID=Europe/Warsaw:20200211T180000
DTEND;TZID=Europe/Warsaw:20200211T200000
DTSTAMP:20260423T005941
CREATED:20200203T141812Z
LAST-MODIFIED:20200203T141852Z
UID:12969-1581444000-1581451200@biblioteka.szemud.pl
SUMMARY:Warsztaty walentynkowe dla dorosłych w Bibliotece i WOK Łebno
DESCRIPTION:
URL:https://biblioteka.szemud.pl/index.php/event/warsztaty-walentynkowe-dla-doroslych-w-bibliotece-i-wok-lebno/
LOCATION:Biblioteka w Łebnie\, ul. Kartuska 9\, Łebno
ATTACH;FMTTYPE=image/png:https://biblioteka.szemud.pl/wp-content/uploads/2020/02/Warsztaty-Łebno.png
END:VEVENT
BEGIN:VEVENT
DTSTART;TZID=Europe/Warsaw:20200212T095000
DTEND;TZID=Europe/Warsaw:20200212T105000
DTSTAMP:20260423T005941
CREATED:20200203T103051Z
LAST-MODIFIED:20200203T103051Z
UID:12829-1581501000-1581504600@biblioteka.szemud.pl
SUMMARY:Warsztaty czytelnicze w Bibliotece w Bojanie
DESCRIPTION:
URL:https://biblioteka.szemud.pl/index.php/event/warsztaty-czytelnicze-w-bibliotece-w-bojanie-3/
END:VEVENT
BEGIN:VEVENT
DTSTART;TZID=Europe/Warsaw:20200212T140000
DTEND;TZID=Europe/Warsaw:20200212T153000
DTSTAMP:20260423T005941
CREATED:20200203T142733Z
LAST-MODIFIED:20200203T142733Z
UID:12975-1581516000-1581521400@biblioteka.szemud.pl
SUMMARY:Warsztaty walentynkowe w Bibliotece w Bojanie
DESCRIPTION:
URL:https://biblioteka.szemud.pl/index.php/event/warsztaty-walentynkowe-w-bibliotece-w-bojanie/
LOCATION:Biblioteka w Bojanie\, ul. J. Wybickiego 38\, Bojano
ATTACH;FMTTYPE=image/png:https://biblioteka.szemud.pl/wp-content/uploads/2020/02/Warsztaty-dzieci-Bojano.png
END:VEVENT
BEGIN:VEVENT
DTSTART;TZID=Europe/Warsaw:20200212T160000
DTEND;TZID=Europe/Warsaw:20200212T170000
DTSTAMP:20260423T005941
CREATED:20200203T141946Z
LAST-MODIFIED:20200203T141946Z
UID:12971-1581523200-1581526800@biblioteka.szemud.pl
SUMMARY:Warsztaty walentynkowe dla dzieci w Bibliotece i WOK Łebno
DESCRIPTION:
URL:https://biblioteka.szemud.pl/index.php/event/warsztaty-walentynkowe-dla-dzieci-w-bibliotece-i-wok-lebno/
LOCATION:Biblioteka w Łebnie\, ul. Kartuska 9\, Łebno
ATTACH;FMTTYPE=image/png:https://biblioteka.szemud.pl/wp-content/uploads/2020/02/Warsztaty-Łebno.png
END:VEVENT
BEGIN:VEVENT
DTSTART;TZID=Europe/Warsaw:20200213T090000
DTEND;TZID=Europe/Warsaw:20200213T100000
DTSTAMP:20260423T005941
CREATED:20200203T103211Z
LAST-MODIFIED:20200203T103211Z
UID:12831-1581584400-1581588000@biblioteka.szemud.pl
SUMMARY:Warsztaty czytelnicze w Bibliotece w Kielnie
DESCRIPTION:
URL:https://biblioteka.szemud.pl/index.php/event/warsztaty-czytelnicze-w-bibliotece-w-kielnie-3/
LOCATION:Biblioteka w Kielnie\, ul. Oliwska 46\, Kielno
ATTACH;FMTTYPE=image/png:https://biblioteka.szemud.pl/wp-content/uploads/2020/02/warsztaty-czytelnicze-1.png
END:VEVENT
BEGIN:VEVENT
DTSTART;TZID=Europe/Warsaw:20200213T150000
DTEND;TZID=Europe/Warsaw:20200213T163000
DTSTAMP:20260423T005941
CREATED:20200204T074935Z
LAST-MODIFIED:20200204T074935Z
UID:12980-1581606000-1581611400@biblioteka.szemud.pl
SUMMARY:Warsztaty walentynkowe w Bibliotece w Częstkowie
DESCRIPTION:
URL:https://biblioteka.szemud.pl/index.php/event/warsztaty-walentynkowe-w-bibliotece-w-czestkowie/
LOCATION:Biblioteka w Częstkowie\, ul. Szkolna 9\, Czestkowo
ATTACH;FMTTYPE=image/png:https://biblioteka.szemud.pl/wp-content/uploads/2020/02/Warsztaty-Częstkowo.png
END:VEVENT
BEGIN:VEVENT
DTSTART;TZID=Europe/Warsaw:20200213T160000
DTEND;TZID=Europe/Warsaw:20200213T180000
DTSTAMP:20260423T005941
CREATED:20200204T075443Z
LAST-MODIFIED:20200204T075443Z
UID:12984-1581609600-1581616800@biblioteka.szemud.pl
SUMMARY:Warsztaty "Florystyczne inspiracje walentynkowe" w Bibliotece w Kielnie
DESCRIPTION:
URL:https://biblioteka.szemud.pl/index.php/event/warsztaty-florystyczne-inspiracje-walentynkowe-w-bibliotece-w-kielnie/
LOCATION:Biblioteka w Kielnie\, ul. Oliwska 46\, Kielno
ATTACH;FMTTYPE=image/png:https://biblioteka.szemud.pl/wp-content/uploads/2020/02/Warsztaty-Kielno.png
END:VEVENT
BEGIN:VEVENT
DTSTART;TZID=Europe/Warsaw:20200222T103000
DTEND;TZID=Europe/Warsaw:20200222T130000
DTSTAMP:20260423T005941
CREATED:20200204T081815Z
LAST-MODIFIED:20200204T081815Z
UID:12990-1582367400-1582376400@biblioteka.szemud.pl
SUMMARY:Warsztaty GO_PRO! w Bibliotece w Szemudzie
DESCRIPTION:
URL:https://biblioteka.szemud.pl/index.php/event/warsztaty-go_pro-w-bibliotece-w-szemudzie-5/
LOCATION:Biblioteka w Szemudzie\, Samorządowa 1\, Szemud
ATTACH;FMTTYPE=image/png:https://biblioteka.szemud.pl/wp-content/uploads/2020/02/warsztaty-robot-Tank-Bot.png
END:VEVENT
BEGIN:VEVENT
DTSTART;TZID=Europe/Warsaw:20200227T150000
DTEND;TZID=Europe/Warsaw:20200227T160000
DTSTAMP:20260423T005941
CREATED:20200224T145358Z
LAST-MODIFIED:20200224T145412Z
UID:13414-1582815600-1582819200@biblioteka.szemud.pl
SUMMARY:Spotkanie z bajką “Czerwony Kapturek” w Bibliotece w Łebnie
DESCRIPTION:
URL:https://biblioteka.szemud.pl/index.php/event/spotkanie-z-bajka-czerwony-kapturek-w-bibliotece-w-lebnie/
LOCATION:Biblioteka w Łebnie\, ul. Kartuska 9\, Łebno
ATTACH;FMTTYPE=image/jpeg:https://biblioteka.szemud.pl/wp-content/uploads/2020/02/kartka-z-kalendarza...5XI-dzień-postaci-bajkowych.jpg
END:VEVENT
BEGIN:VEVENT
DTSTART;TZID=Europe/Warsaw:20200227T160000
DTEND;TZID=Europe/Warsaw:20200227T180000
DTSTAMP:20260423T005941
CREATED:20200204T082156Z
LAST-MODIFIED:20200204T082156Z
UID:12994-1582819200-1582826400@biblioteka.szemud.pl
SUMMARY:Warsztaty "Filcowanie na sucho" w Bibliotece w Bojanie
DESCRIPTION:
URL:https://biblioteka.szemud.pl/index.php/event/warsztaty-filcowanie-na-sucho-w-bibliotece-w-bojanie/
LOCATION:Biblioteka w Bojanie\, ul. J. Wybickiego 38\, Bojano
ATTACH;FMTTYPE=image/png:https://biblioteka.szemud.pl/wp-content/uploads/2020/02/Warsztaty-dorośli-Bojano.png
END:VEVENT
BEGIN:VEVENT
DTSTART;TZID=Europe/Warsaw:20200305T170000
DTEND;TZID=Europe/Warsaw:20200305T190000
DTSTAMP:20260423T005941
CREATED:20200220T143239Z
LAST-MODIFIED:20200220T143239Z
UID:13366-1583427600-1583434800@biblioteka.szemud.pl
SUMMARY:Dzień Kobiet w Bibliotece w Kielnie
DESCRIPTION:
URL:https://biblioteka.szemud.pl/index.php/event/dzien-kobiet-w-bibliotece-w-kielnie/
LOCATION:Biblioteka w Kielnie\, ul. Oliwska 46\, Kielno
ATTACH;FMTTYPE=image/png:https://biblioteka.szemud.pl/wp-content/uploads/2020/02/Dzień-Kobiet-Kielno-2020.png
END:VEVENT
BEGIN:VEVENT
DTSTART;TZID=Europe/Warsaw:20200309T090000
DTEND;TZID=Europe/Warsaw:20200309T100000
DTSTAMP:20260423T005941
CREATED:20200221T101046Z
LAST-MODIFIED:20200221T101245Z
UID:13370-1583744400-1583748000@biblioteka.szemud.pl
SUMMARY:Warsztaty czytelnicze w Bibliotece w Łebnie
DESCRIPTION:
URL:https://biblioteka.szemud.pl/index.php/event/warsztaty-czytelnicze-w-bibliotece-w-lebnie-4/
LOCATION:Biblioteka w Łebnie\, ul. Kartuska 9\, Łebno
ATTACH;FMTTYPE=image/png:https://biblioteka.szemud.pl/wp-content/uploads/2020/02/warsztaty-czytelnicze-.png
END:VEVENT
BEGIN:VEVENT
DTSTART;TZID=Europe/Warsaw:20200309T160000
DTEND;TZID=Europe/Warsaw:20200309T180000
DTSTAMP:20260423T005941
CREATED:20200221T103136Z
LAST-MODIFIED:20200221T103136Z
UID:13383-1583769600-1583776800@biblioteka.szemud.pl
SUMMARY:Warsztaty z okazji Dnia Kobiet w Bibliotece w Szemudzie
DESCRIPTION:
URL:https://biblioteka.szemud.pl/index.php/event/warsztaty-z-okazji-dnia-kobiet-w-bibliotece-w-szemudzie-2/
LOCATION:Biblioteka w Szemudzie\, Samorządowa 1\, Szemud
ATTACH;FMTTYPE=image/png:https://biblioteka.szemud.pl/wp-content/uploads/2020/02/Warsztaty-Dzień-Kobiet-Szemud.png
END:VEVENT
BEGIN:VEVENT
DTSTART;TZID=Europe/Warsaw:20200310T090000
DTEND;TZID=Europe/Warsaw:20200310T100000
DTSTAMP:20260423T005941
CREATED:20200221T101156Z
LAST-MODIFIED:20200221T101156Z
UID:13372-1583830800-1583834400@biblioteka.szemud.pl
SUMMARY:Warsztaty czytelnicze w Bibliotece w Kielnie
DESCRIPTION:
URL:https://biblioteka.szemud.pl/index.php/event/warsztaty-czytelnicze-w-bibliotece-w-kielnie-4/
LOCATION:Biblioteka w Kielnie\, ul. Oliwska 46\, Kielno
ATTACH;FMTTYPE=image/png:https://biblioteka.szemud.pl/wp-content/uploads/2020/02/warsztaty-czytelnicze-.png
END:VEVENT
BEGIN:VEVENT
DTSTART;TZID=Europe/Warsaw:20200310T090000
DTEND;TZID=Europe/Warsaw:20200310T120000
DTSTAMP:20260423T005941
CREATED:20200221T103806Z
LAST-MODIFIED:20200221T103806Z
UID:13387-1583830800-1583841600@biblioteka.szemud.pl
SUMMARY:Gminny Konkurs Poezji Polskiej w Bibliotece w Szemudzie
DESCRIPTION:
URL:https://biblioteka.szemud.pl/index.php/event/gminny-konkurs-poezji-polskiej-w-bibliotece-w-szemudzie/
LOCATION:Biblioteka w Szemudzie\, Samorządowa 1\, Szemud
ATTACH;FMTTYPE=image/png:https://biblioteka.szemud.pl/wp-content/uploads/2020/02/Poezja-Polska-2020.png
END:VEVENT
BEGIN:VEVENT
DTSTART;TZID=Europe/Warsaw:20200311T090000
DTEND;TZID=Europe/Warsaw:20200311T120000
DTSTAMP:20260423T005941
CREATED:20200401T094122Z
LAST-MODIFIED:20200401T094419Z
UID:13837-1583917200-1583928000@biblioteka.szemud.pl
SUMMARY:Warsztaty czytelnicze Wydawnictwa Zakamarki pt. Dunia i Mattis
DESCRIPTION:
URL:https://biblioteka.szemud.pl/index.php/event/warsztaty-czytelnicze-wydawnictwa-zakamarki-pt-dunia-i-mattis/
END:VEVENT
BEGIN:VEVENT
DTSTART;TZID=Europe/Warsaw:20200311T095000
DTEND;TZID=Europe/Warsaw:20200311T105000
DTSTAMP:20260423T005941
CREATED:20200221T101342Z
LAST-MODIFIED:20200221T101342Z
UID:13375-1583920200-1583923800@biblioteka.szemud.pl
SUMMARY:Warsztaty czytelnicze w Bibliotece w Bojanie
DESCRIPTION:
URL:https://biblioteka.szemud.pl/index.php/event/warsztaty-czytelnicze-w-bibliotece-w-bojanie-4/
LOCATION:Biblioteka w Bojanie\, ul. J. Wybickiego 38\, Bojano
ATTACH;FMTTYPE=image/png:https://biblioteka.szemud.pl/wp-content/uploads/2020/02/warsztaty-czytelnicze-.png
END:VEVENT
BEGIN:VEVENT
DTSTART;TZID=Europe/Warsaw:20200311T140000
DTEND;TZID=Europe/Warsaw:20200311T153000
DTSTAMP:20260423T005941
CREATED:20200221T120943Z
LAST-MODIFIED:20200302T095712Z
UID:13403-1583935200-1583940600@biblioteka.szemud.pl
SUMMARY:Warsztaty "Motanki" dla dzieci w Bibliotece w Bojanie
DESCRIPTION:
URL:https://biblioteka.szemud.pl/index.php/event/warsztaty-motanki-dla-dzieci-w-bibliotece-w-bojanie/
LOCATION:Biblioteka w Bojanie\, ul. J. Wybickiego 38\, Bojano
ATTACH;FMTTYPE=image/png:https://biblioteka.szemud.pl/wp-content/uploads/2020/02/Warsztaty-Bojano.png
END:VEVENT
BEGIN:VEVENT
DTSTART;TZID=Europe/Warsaw:20200311T170000
DTEND;TZID=Europe/Warsaw:20200311T200000
DTSTAMP:20260423T005941
CREATED:20200302T101557Z
LAST-MODIFIED:20200302T101557Z
UID:13425-1583946000-1583956800@biblioteka.szemud.pl
SUMMARY:Babskie warsztaty - biżuteria decoupage w Bibliotece i WOK Łebno
DESCRIPTION:
URL:https://biblioteka.szemud.pl/index.php/event/babskie-warsztaty-bizuteria-decoupage-w-bibliotece-i-wok-lebno/
LOCATION:Biblioteka w Łebnie\, ul. Kartuska 9\, Łebno
ATTACH;FMTTYPE=image/jpeg:https://biblioteka.szemud.pl/wp-content/uploads/2020/03/Wiejski-Osrodek-Kultury-i-Biblioteka-Publiczna-w-Łebnie-zapraszają-na-Wróżby-na-wesoło-27-listopada-godz.-16.00-17.00-1.jpg
END:VEVENT
BEGIN:VEVENT
DTSTART;TZID=Europe/Warsaw:20200804T110000
DTEND;TZID=Europe/Warsaw:20200804T123000
DTSTAMP:20260423T005941
CREATED:20200728T075512Z
LAST-MODIFIED:20200728T075512Z
UID:14232-1596538800-1596544200@biblioteka.szemud.pl
SUMMARY:Warsztaty "Pejzaż - malarstwo" w Bibliotece w Szemudzie
DESCRIPTION:
URL:https://biblioteka.szemud.pl/index.php/event/warsztaty-pejzaz-malarstwo-w-bibliotece-w-szemudzie/
LOCATION:Biblioteka w Szemudzie\, Samorządowa 1\, Szemud
ATTACH;FMTTYPE=image/png:https://biblioteka.szemud.pl/wp-content/uploads/2020/07/wakacje-szemud-2020.png
END:VEVENT
BEGIN:VEVENT
DTSTART;TZID=Europe/Warsaw:20200804T130000
DTEND;TZID=Europe/Warsaw:20200804T143000
DTSTAMP:20260423T005941
CREATED:20200728T075756Z
LAST-MODIFIED:20200728T075756Z
UID:14236-1596546000-1596551400@biblioteka.szemud.pl
SUMMARY:"Muzykowanie z gitarą" w Bibliotece w Szemudzie
DESCRIPTION:
URL:https://biblioteka.szemud.pl/index.php/event/muzykowanie-z-gitara-w-bibliotece-w-szemudzie-4/
LOCATION:Biblioteka w Szemudzie\, Samorządowa 1\, Szemud
ATTACH;FMTTYPE=image/png:https://biblioteka.szemud.pl/wp-content/uploads/2020/07/wakacje-szemud-2020.png
END:VEVENT
BEGIN:VEVENT
DTSTART;TZID=Europe/Warsaw:20200811T110000
DTEND;TZID=Europe/Warsaw:20200811T123000
DTSTAMP:20260423T005941
CREATED:20200728T075631Z
LAST-MODIFIED:20200728T075631Z
UID:14234-1597143600-1597149000@biblioteka.szemud.pl
SUMMARY:Warsztaty "Podstawowy kurs rysunkowy" w Bibliotece w Szemudzie
DESCRIPTION:
URL:https://biblioteka.szemud.pl/index.php/event/warsztaty-podstawowy-kurs-rysunkowy-w-bibliotece-w-szemudzie/
LOCATION:Biblioteka w Szemudzie\, Samorządowa 1\, Szemud
ATTACH;FMTTYPE=image/png:https://biblioteka.szemud.pl/wp-content/uploads/2020/07/wakacje-szemud-2020.png
END:VEVENT
BEGIN:VEVENT
DTSTART;TZID=Europe/Warsaw:20200811T130000
DTEND;TZID=Europe/Warsaw:20200811T143000
DTSTAMP:20260423T005941
CREATED:20200728T075838Z
LAST-MODIFIED:20200728T075838Z
UID:14238-1597150800-1597156200@biblioteka.szemud.pl
SUMMARY:"Muzykowanie z gitarą" w Bibliotece w Szemudzie
DESCRIPTION:
URL:https://biblioteka.szemud.pl/index.php/event/muzykowanie-z-gitara-w-bibliotece-w-szemudzie-5/
LOCATION:Biblioteka w Szemudzie\, Samorządowa 1\, Szemud
ATTACH;FMTTYPE=image/png:https://biblioteka.szemud.pl/wp-content/uploads/2020/07/wakacje-szemud-2020.png
END:VEVENT
BEGIN:VEVENT
DTSTART;TZID=Europe/Warsaw:20210531T160000
DTEND;TZID=Europe/Warsaw:20210531T180000
DTSTAMP:20260423T005941
CREATED:20210621T093350Z
LAST-MODIFIED:20210621T093350Z
UID:15862-1622476800-1622484000@biblioteka.szemud.pl
SUMMARY:Warsztaty "Motyl - witraż z papieru" w Bibliotece w Kielnie
DESCRIPTION:
URL:https://biblioteka.szemud.pl/index.php/event/warsztaty-motyl-witraz-z-papieru-w-bibliotece-w-kielnie/
LOCATION:Biblioteka w Kielnie\, ul. Oliwska 46\, Kielno
ATTACH;FMTTYPE=image/png:https://biblioteka.szemud.pl/wp-content/uploads/2021/05/Our-December-Birthday-Celebrants.png
END:VEVENT
BEGIN:VEVENT
DTSTART;TZID=Europe/Warsaw:20210601T160000
DTEND;TZID=Europe/Warsaw:20210601T180000
DTSTAMP:20260423T005941
CREATED:20210621T093450Z
LAST-MODIFIED:20210621T093450Z
UID:15864-1622563200-1622570400@biblioteka.szemud.pl
SUMMARY:Warsztaty "Motyl - witraż z papieru" w Bibliotece w Bojanie
DESCRIPTION:
URL:https://biblioteka.szemud.pl/index.php/event/warsztaty-motyl-witraz-z-papieru-w-bibliotece-w-bojanie/
LOCATION:Biblioteka w Bojanie\, ul. J. Wybickiego 38\, Bojano
ATTACH;FMTTYPE=image/png:https://biblioteka.szemud.pl/wp-content/uploads/2021/05/Our-December-Birthday-Celebrants.png
END:VEVENT
END:VCALENDAR