BEGIN:VCALENDAR
VERSION:2.0
PRODID:-//Biblioteka Publiczna Gminy Szemud - ECPv6.15.20//NONSGML v1.0//EN
CALSCALE:GREGORIAN
METHOD:PUBLISH
X-WR-CALNAME:Biblioteka Publiczna Gminy Szemud
X-ORIGINAL-URL:https://biblioteka.szemud.pl
X-WR-CALDESC:Wydarzenia dla Biblioteka Publiczna Gminy Szemud
REFRESH-INTERVAL;VALUE=DURATION:PT1H
X-Robots-Tag:noindex
X-PUBLISHED-TTL:PT1H
BEGIN:VTIMEZONE
TZID:Europe/Warsaw
BEGIN:DAYLIGHT
TZOFFSETFROM:+0100
TZOFFSETTO:+0200
TZNAME:CEST
DTSTART:20180325T010000
END:DAYLIGHT
BEGIN:STANDARD
TZOFFSETFROM:+0200
TZOFFSETTO:+0100
TZNAME:CET
DTSTART:20181028T010000
END:STANDARD
BEGIN:DAYLIGHT
TZOFFSETFROM:+0100
TZOFFSETTO:+0200
TZNAME:CEST
DTSTART:20190331T010000
END:DAYLIGHT
BEGIN:STANDARD
TZOFFSETFROM:+0200
TZOFFSETTO:+0100
TZNAME:CET
DTSTART:20191027T010000
END:STANDARD
BEGIN:DAYLIGHT
TZOFFSETFROM:+0100
TZOFFSETTO:+0200
TZNAME:CEST
DTSTART:20200329T010000
END:DAYLIGHT
BEGIN:STANDARD
TZOFFSETFROM:+0200
TZOFFSETTO:+0100
TZNAME:CET
DTSTART:20201025T010000
END:STANDARD
END:VTIMEZONE
BEGIN:VEVENT
DTSTART;TZID=Europe/Warsaw:20191112T160000
DTEND;TZID=Europe/Warsaw:20191112T180000
DTSTAMP:20260423T064818
CREATED:20191024T111151Z
LAST-MODIFIED:20191024T111151Z
UID:10224-1573574400-1573581600@biblioteka.szemud.pl
SUMMARY:Spotkanie stylistyczne “Włosy owiane wierszem…” z Katariną Lavmel w Bibliotece w Bojanie
DESCRIPTION:
URL:https://biblioteka.szemud.pl/index.php/event/spotkanie-stylistyczne-wlosy-owiane-wierszem-z-katarina-lavmel-w-bibliotece-w-bojanie/
LOCATION:Biblioteka w Bojanie\, ul. J. Wybickiego 38\, Bojano
ATTACH;FMTTYPE=image/png:https://biblioteka.szemud.pl/wp-content/uploads/2019/10/Spotkanie-ze-stylistką.png
END:VEVENT
BEGIN:VEVENT
DTSTART;TZID=Europe/Warsaw:20191113T090000
DTEND;TZID=Europe/Warsaw:20191113T100000
DTSTAMP:20260423T064818
CREATED:20191024T123426Z
LAST-MODIFIED:20191024T123426Z
UID:10230-1573635600-1573639200@biblioteka.szemud.pl
SUMMARY:Spektakl marionetkowy "Calineczka" w Bibliotece w Łebnie
DESCRIPTION:
URL:https://biblioteka.szemud.pl/index.php/event/spektakl-marionetkowy-calineczka-w-bibliotece-w-lebnie/
LOCATION:Biblioteka w Łebnie\, ul. Kartuska 9\, Łebno
ATTACH;FMTTYPE=image/png:https://biblioteka.szemud.pl/wp-content/uploads/2019/10/Calineczka.png
END:VEVENT
BEGIN:VEVENT
DTSTART;TZID=Europe/Warsaw:20191113T110000
DTEND;TZID=Europe/Warsaw:20191113T120000
DTSTAMP:20260423T064818
CREATED:20191024T124536Z
LAST-MODIFIED:20191024T124710Z
UID:10232-1573642800-1573646400@biblioteka.szemud.pl
SUMMARY:Spektakl marionetkowy "Calineczka" w Bibliotece w Częstkowie
DESCRIPTION:
URL:https://biblioteka.szemud.pl/index.php/event/spektakl-marionetkowy-calineczka-w-bibliotece-w-czestkowie/
LOCATION:Biblioteka w Częstkowie\, ul. Szkolna 9\, Czestkowo
ATTACH;FMTTYPE=image/png:https://biblioteka.szemud.pl/wp-content/uploads/2019/10/Calineczka.png
END:VEVENT
BEGIN:VEVENT
DTSTART;TZID=Europe/Warsaw:20191114T090000
DTEND;TZID=Europe/Warsaw:20191114T100000
DTSTAMP:20260423T064818
CREATED:20191024T124756Z
LAST-MODIFIED:20191024T124756Z
UID:10234-1573722000-1573725600@biblioteka.szemud.pl
SUMMARY:Spektakl marionetkowy "Calineczka" w Bibliotece w Bojanie
DESCRIPTION:
URL:https://biblioteka.szemud.pl/index.php/event/spektakl-marionetkowy-calineczka-w-bibliotece-w-bojanie/
LOCATION:Biblioteka w Bojanie\, ul. J. Wybickiego 38\, Bojano
ATTACH;FMTTYPE=image/png:https://biblioteka.szemud.pl/wp-content/uploads/2019/10/Calineczka.png
END:VEVENT
BEGIN:VEVENT
DTSTART;TZID=Europe/Warsaw:20191114T113000
DTEND;TZID=Europe/Warsaw:20191114T123000
DTSTAMP:20260423T064818
CREATED:20191024T124925Z
LAST-MODIFIED:20191024T124925Z
UID:10236-1573731000-1573734600@biblioteka.szemud.pl
SUMMARY:Spektakl marionetkowy "Calineczka" w Bibliotece w Szemudzie
DESCRIPTION:
URL:https://biblioteka.szemud.pl/index.php/event/spektakl-marionetkowy-calineczka-w-bibliotece-w-szemudzie/
LOCATION:Biblioteka w Szemudzie\, Samorządowa 1\, Szemud
ATTACH;FMTTYPE=image/png:https://biblioteka.szemud.pl/wp-content/uploads/2019/10/Calineczka.png
END:VEVENT
BEGIN:VEVENT
DTSTART;TZID=Europe/Warsaw:20191114T170000
DTEND;TZID=Europe/Warsaw:20191114T183000
DTSTAMP:20260423T064818
CREATED:20191105T090314Z
LAST-MODIFIED:20191105T090902Z
UID:10393-1573750800-1573756200@biblioteka.szemud.pl
SUMMARY:Spotkanie z Szymonem Hołownią w Szemudzie
DESCRIPTION:
URL:https://biblioteka.szemud.pl/index.php/event/spotkanie-z-szymonem-holownia-w-szemudzie/
LOCATION:Biblioteka w Szemudzie\, Samorządowa 1\, Szemud
ATTACH;FMTTYPE=image/png:https://biblioteka.szemud.pl/wp-content/uploads/2019/11/Brown-Dog-Photo-Missing-Pet-Poster.png
END:VEVENT
BEGIN:VEVENT
DTSTART;TZID=Europe/Warsaw:20191115T100000
DTEND;TZID=Europe/Warsaw:20191115T110000
DTSTAMP:20260423T064818
CREATED:20191024T125011Z
LAST-MODIFIED:20191024T125011Z
UID:10238-1573812000-1573815600@biblioteka.szemud.pl
SUMMARY:Spektakl marionetkowy "Calineczka" w Bibliotece w Kielnie
DESCRIPTION:
URL:https://biblioteka.szemud.pl/index.php/event/spektakl-marionetkowy-calineczka-w-bibliotece-w-kielnie/
LOCATION:Biblioteka w Kielnie\, ul. Oliwska 46\, Kielno
ATTACH;FMTTYPE=image/png:https://biblioteka.szemud.pl/wp-content/uploads/2019/10/Calineczka.png
END:VEVENT
BEGIN:VEVENT
DTSTART;TZID=Europe/Warsaw:20191115T190000
DTEND;TZID=Europe/Warsaw:20191115T203000
DTSTAMP:20260423T064818
CREATED:20191024T125813Z
LAST-MODIFIED:20191024T125813Z
UID:10245-1573844400-1573849800@biblioteka.szemud.pl
SUMMARY:Koncert "Pieśni i utwory patriotyczne" w Bibliotece w Szemudzie
DESCRIPTION:
URL:https://biblioteka.szemud.pl/index.php/event/koncert-piesni-i-utwory-patriotyczne-w-bibliotece-w-szemudzie/
LOCATION:Biblioteka w Szemudzie\, Samorządowa 1\, Szemud
ATTACH;FMTTYPE=image/png:https://biblioteka.szemud.pl/wp-content/uploads/2019/10/11-listopad-Koncert.png
END:VEVENT
BEGIN:VEVENT
DTSTART;TZID=Europe/Warsaw:20191118T110000
DTEND;TZID=Europe/Warsaw:20191118T120000
DTSTAMP:20260423T064818
CREATED:20191002T111117Z
LAST-MODIFIED:20191002T111117Z
UID:9757-1574074800-1574078400@biblioteka.szemud.pl
SUMMARY:Trening pamięci dla seniorów 60+ w Bibliotece w Szemudzie
DESCRIPTION:
URL:https://biblioteka.szemud.pl/index.php/event/trening-pamieci-dla-seniorow-60-w-bibliotece-w-szemudzie-2/
LOCATION:Biblioteka w Szemudzie\, Samorządowa 1\, Szemud
ATTACH;FMTTYPE=image/jpeg:https://biblioteka.szemud.pl/wp-content/uploads/2019/10/trening-pamięci.jpg
END:VEVENT
BEGIN:VEVENT
DTSTART;TZID=Europe/Warsaw:20191118T140000
DTEND;TZID=Europe/Warsaw:20191118T150000
DTSTAMP:20260423T064818
CREATED:20191002T111429Z
LAST-MODIFIED:20191002T111429Z
UID:9763-1574085600-1574089200@biblioteka.szemud.pl
SUMMARY:Trening pamięci dla seniorów 60+ w Bibliotece w Bojanie
DESCRIPTION:
URL:https://biblioteka.szemud.pl/index.php/event/trening-pamieci-dla-seniorow-60-w-bibliotece-w-bojanie-2/
LOCATION:Biblioteka w Bojanie\, ul. J. Wybickiego 38\, Bojano
ATTACH;FMTTYPE=image/jpeg:https://biblioteka.szemud.pl/wp-content/uploads/2019/10/trening-pamięci.jpg
END:VEVENT
BEGIN:VEVENT
DTSTART;TZID=Europe/Warsaw:20191118T150000
DTEND;TZID=Europe/Warsaw:20191118T163000
DTSTAMP:20260423T064818
CREATED:20191030T100243Z
LAST-MODIFIED:20191030T100655Z
UID:10296-1574089200-1574094600@biblioteka.szemud.pl
SUMMARY:Warsztaty "Włóczkowe stworki" w Bibliotece w Szemudzie
DESCRIPTION:
URL:https://biblioteka.szemud.pl/index.php/event/warsztaty-wloczkowe-stworki-w-bibliotece-w-szemudzie/
LOCATION:Biblioteka w Szemudzie\, Samorządowa 1\, Szemud
ATTACH;FMTTYPE=image/png:https://biblioteka.szemud.pl/wp-content/uploads/2019/10/Warsztaty-Szemud.png
END:VEVENT
BEGIN:VEVENT
DTSTART;TZID=Europe/Warsaw:20191118T170000
DTEND;TZID=Europe/Warsaw:20191118T190000
DTSTAMP:20260423T064818
CREATED:20191030T101002Z
LAST-MODIFIED:20191030T101002Z
UID:10300-1574096400-1574103600@biblioteka.szemud.pl
SUMMARY:X Wieczór Kaszubski "Ewakuacja obozu koncentracyjnego Stutthof - Marsz Śmierci"
DESCRIPTION:
URL:https://biblioteka.szemud.pl/index.php/event/x-wieczor-kaszubski-ewakuacja-obozu-koncentracyjnego-stutthof-marsz-smierci/
LOCATION:Biblioteka w Szemudzie\, Samorządowa 1\, Szemud
ATTACH;FMTTYPE=image/png:https://biblioteka.szemud.pl/wp-content/uploads/2019/10/Wieczór-Kaszubski..png
END:VEVENT
BEGIN:VEVENT
DTSTART;TZID=Europe/Warsaw:20191119T160000
DTEND;TZID=Europe/Warsaw:20191119T173000
DTSTAMP:20260423T064818
CREATED:20191030T103530Z
LAST-MODIFIED:20191030T103530Z
UID:10304-1574179200-1574184600@biblioteka.szemud.pl
SUMMARY:Warsztaty dla dzieci "Tradycyjny aniołek w nowoczesnej formie" w Bibliotece w Kielnie
DESCRIPTION:
URL:https://biblioteka.szemud.pl/index.php/event/warsztaty-dla-dzieci-tradycyjny-aniolek-w-nowoczesnej-formie-w-bibliotece-w-kielnie/
LOCATION:Biblioteka w Kielnie\, ul. Oliwska 46\, Kielno
ATTACH;FMTTYPE=image/png:https://biblioteka.szemud.pl/wp-content/uploads/2019/10/Tradycyjny-aniołek-w-nowoczesnej-formie.png
END:VEVENT
BEGIN:VEVENT
DTSTART;TZID=Europe/Warsaw:20191119T170000
DTEND;TZID=Europe/Warsaw:20191119T190000
DTSTAMP:20260423T064818
CREATED:20191024T111316Z
LAST-MODIFIED:20191024T111316Z
UID:10226-1574182800-1574190000@biblioteka.szemud.pl
SUMMARY:Spotkanie stylistyczne “Włosy owiane wierszem…” z Katariną Lavmel w Bibliotece w Szemudzie
DESCRIPTION:
URL:https://biblioteka.szemud.pl/index.php/event/spotkanie-stylistyczne-wlosy-owiane-wierszem-z-katarina-lavmel-w-bibliotece-w-szemudzie/
LOCATION:Biblioteka w Szemudzie\, Samorządowa 1\, Szemud
ATTACH;FMTTYPE=image/png:https://biblioteka.szemud.pl/wp-content/uploads/2019/10/Spotkanie-ze-stylistką.png
END:VEVENT
BEGIN:VEVENT
DTSTART;TZID=Europe/Warsaw:20191119T180000
DTEND;TZID=Europe/Warsaw:20191119T200000
DTSTAMP:20260423T064818
CREATED:20191030T115700Z
LAST-MODIFIED:20191030T120921Z
UID:10327-1574186400-1574193600@biblioteka.szemud.pl
SUMMARY:Warsztaty "Lampiony Art Deco" w Bibliotece i WOK w Łebnie
DESCRIPTION:
URL:https://biblioteka.szemud.pl/index.php/event/warsztaty-lampiony-art-deco-w-bibliotece-i-wok-w-lebnie/
LOCATION:Biblioteka w Łebnie\, ul. Kartuska 9\, Łebno
ATTACH;FMTTYPE=image/png:https://biblioteka.szemud.pl/wp-content/uploads/2019/10/Warsztaty-Łebno.png
END:VEVENT
BEGIN:VEVENT
DTSTART;TZID=Europe/Warsaw:20191121T160000
DTEND;TZID=Europe/Warsaw:20191121T170000
DTSTAMP:20260423T064818
CREATED:20191115T174720Z
LAST-MODIFIED:20191115T174720Z
UID:10583-1574352000-1574355600@biblioteka.szemud.pl
SUMMARY:Spotkanie z bajką "Od Sasa do Lasa" w Bibliotece w Łebnie
DESCRIPTION:
URL:https://biblioteka.szemud.pl/index.php/event/spotkanie-z-bajka-od-sasa-do-lasa-w-bibliotece-w-lebnie/
ATTACH;FMTTYPE=image/png:https://biblioteka.szemud.pl/wp-content/uploads/2019/11/kartka-z-kalendarza...5XI-dzień-postaci-bajkowych.png
END:VEVENT
BEGIN:VEVENT
DTSTART;TZID=Europe/Warsaw:20191123T100000
DTEND;TZID=Europe/Warsaw:20191123T130000
DTSTAMP:20260423T064818
CREATED:20191031T122318Z
LAST-MODIFIED:20191031T122318Z
UID:10346-1574503200-1574514000@biblioteka.szemud.pl
SUMMARY:Warsztaty GO_PRO! w Bibliotece w Szemudzie
DESCRIPTION:
URL:https://biblioteka.szemud.pl/index.php/event/warsztaty-go_pro-w-bibliotece-w-szemudzie-3/
LOCATION:Biblioteka w Bojanie\, ul. J. Wybickiego 38\, Bojano
ATTACH;FMTTYPE=image/png:https://biblioteka.szemud.pl/wp-content/uploads/2019/10/warsztaty-lego.png
END:VEVENT
BEGIN:VEVENT
DTSTART;TZID=Europe/Warsaw:20191127T140000
DTEND;TZID=Europe/Warsaw:20191127T153000
DTSTAMP:20260423T064818
CREATED:20191031T134107Z
LAST-MODIFIED:20191031T134626Z
UID:10351-1574863200-1574868600@biblioteka.szemud.pl
SUMMARY:Warsztaty "Jesienne krasnale" w Bibliotece w Bojanie
DESCRIPTION:
URL:https://biblioteka.szemud.pl/index.php/event/warsztaty-jesienne-krasnale-w-bibliotece-w-bojanie/
LOCATION:Biblioteka w Bojanie\, ul. J. Wybickiego 38\, Bojano
ATTACH;FMTTYPE=image/png:https://biblioteka.szemud.pl/wp-content/uploads/2019/10/Warsztaty-Bojano.png
END:VEVENT
BEGIN:VEVENT
DTSTART;TZID=Europe/Warsaw:20191128T150000
DTEND;TZID=Europe/Warsaw:20191128T163000
DTSTAMP:20260423T064818
CREATED:20191104T145751Z
LAST-MODIFIED:20191104T145751Z
UID:10389-1574953200-1574958600@biblioteka.szemud.pl
SUMMARY:Warsztaty "Świece zapachowe i wróżby" w Bibliotece w Częstkowie
DESCRIPTION:
URL:https://biblioteka.szemud.pl/index.php/event/warsztaty-swiece-zapachowe-i-wrozby-w-bibliotece-w-czestkowie/
LOCATION:Biblioteka w Częstkowie\, ul. Szkolna 9\, Czestkowo
ATTACH;FMTTYPE=image/png:https://biblioteka.szemud.pl/wp-content/uploads/2019/11/Warsztaty-Częstkowo.png
END:VEVENT
BEGIN:VEVENT
DTSTART;TZID=Europe/Warsaw:20191202T090000
DTEND;TZID=Europe/Warsaw:20191202T100000
DTSTAMP:20260423T064818
CREATED:20191126T125134Z
LAST-MODIFIED:20191126T125134Z
UID:10799-1575277200-1575280800@biblioteka.szemud.pl
SUMMARY:Warsztaty czytelnicze w Bibliotece w Łebnie
DESCRIPTION:
URL:https://biblioteka.szemud.pl/index.php/event/warsztaty-czytelnicze-w-bibliotece-w-lebnie/
LOCATION:Biblioteka w Łebnie\, ul. Kartuska 9\, Łebno
ATTACH;FMTTYPE=image/png:https://biblioteka.szemud.pl/wp-content/uploads/2019/11/warsztaty-czytelnicze-.png
END:VEVENT
BEGIN:VEVENT
DTSTART;TZID=Europe/Warsaw:20191204T095000
DTEND;TZID=Europe/Warsaw:20191204T105000
DTSTAMP:20260423T064818
CREATED:20191126T125247Z
LAST-MODIFIED:20191126T125247Z
UID:10802-1575453000-1575456600@biblioteka.szemud.pl
SUMMARY:Warsztaty czytelnicze w Bibliotece w Bojanie
DESCRIPTION:
URL:https://biblioteka.szemud.pl/index.php/event/warsztaty-czytelnicze-w-bibliotece-w-bojanie/
LOCATION:Biblioteka w Bojanie\, ul. J. Wybickiego 38\, Bojano
ATTACH;FMTTYPE=image/png:https://biblioteka.szemud.pl/wp-content/uploads/2019/11/warsztaty-czytelnicze-.png
END:VEVENT
BEGIN:VEVENT
DTSTART;TZID=Europe/Warsaw:20191205T100000
DTEND;TZID=Europe/Warsaw:20191205T110000
DTSTAMP:20260423T064818
CREATED:20191126T132906Z
LAST-MODIFIED:20191126T142612Z
UID:10813-1575540000-1575543600@biblioteka.szemud.pl
SUMMARY:Spektakl mikołajkowy "Świąteczny dar - magia i czar" w Bibliotece w Bojanie
DESCRIPTION:
URL:https://biblioteka.szemud.pl/index.php/event/spektakl-mikolajkowy-swiateczny-dar-magia-i-czar-w-bibliotece-w-bojanie/
LOCATION:Biblioteka w Bojanie\, ul. J. Wybickiego 38\, Bojano
ATTACH;FMTTYPE=image/png:https://biblioteka.szemud.pl/wp-content/uploads/2019/11/Teatrzyk-Mikołajkowy.png
END:VEVENT
BEGIN:VEVENT
DTSTART;TZID=Europe/Warsaw:20191205T102000
DTEND;TZID=Europe/Warsaw:20191205T112000
DTSTAMP:20260423T064818
CREATED:20191126T125443Z
LAST-MODIFIED:20191126T125443Z
UID:10804-1575541200-1575544800@biblioteka.szemud.pl
SUMMARY:Warsztaty czytelnicze w Bibliotece w Częstkowie
DESCRIPTION:
URL:https://biblioteka.szemud.pl/index.php/event/warsztaty-czytelnicze-w-bibliotece-w-czestkowie/
LOCATION:Biblioteka w Częstkowie\, ul. Szkolna 9\, Czestkowo
ATTACH;FMTTYPE=image/png:https://biblioteka.szemud.pl/wp-content/uploads/2019/11/warsztaty-czytelnicze-.png
END:VEVENT
BEGIN:VEVENT
DTSTART;TZID=Europe/Warsaw:20191205T113000
DTEND;TZID=Europe/Warsaw:20191205T123000
DTSTAMP:20260423T064818
CREATED:20191126T142807Z
LAST-MODIFIED:20191126T142807Z
UID:10815-1575545400-1575549000@biblioteka.szemud.pl
SUMMARY:Spektakl mikołajkowy "Świąteczny dar - magia i czar" w Bibliotece w Kielnie
DESCRIPTION:
URL:https://biblioteka.szemud.pl/index.php/event/spektakl-mikolajkowy-swiateczny-dar-magia-i-czar-w-bibliotece-w-kielnie/
LOCATION:Biblioteka w Kielnie\, ul. Oliwska 46\, Kielno
ATTACH;FMTTYPE=image/png:https://biblioteka.szemud.pl/wp-content/uploads/2019/11/Teatrzyk-Mikołajkowy.png
END:VEVENT
BEGIN:VEVENT
DTSTART;TZID=Europe/Warsaw:20191206T090000
DTEND;TZID=Europe/Warsaw:20191206T100000
DTSTAMP:20260423T064818
CREATED:20191126T143236Z
LAST-MODIFIED:20191126T143549Z
UID:10817-1575622800-1575626400@biblioteka.szemud.pl
SUMMARY:Spektakl mikołajkowy "Świąteczny dar - magia i czar" w Bibliotece w Łebnie
DESCRIPTION:
URL:https://biblioteka.szemud.pl/index.php/event/spektakl-mikolajkowy-swiateczny-dar-magia-i-czar-w-bibliotece-w-lebnie/
LOCATION:Biblioteka w Łebnie\, ul. Kartuska 9\, Łebno
ATTACH;FMTTYPE=image/png:https://biblioteka.szemud.pl/wp-content/uploads/2019/11/Teatrzyk-Mikołajkowy.png
END:VEVENT
BEGIN:VEVENT
DTSTART;TZID=Europe/Warsaw:20191206T103000
DTEND;TZID=Europe/Warsaw:20191206T113000
DTSTAMP:20260423T064818
CREATED:20191126T143636Z
LAST-MODIFIED:20191126T143636Z
UID:10819-1575628200-1575631800@biblioteka.szemud.pl
SUMMARY:Spektakl mikołajkowy "Świąteczny dar - magia i czar" w Bibliotece w Szemudzie
DESCRIPTION:
URL:https://biblioteka.szemud.pl/index.php/event/spektakl-mikolajkowy-swiateczny-dar-magia-i-czar-w-bibliotece-w-szemudzie/
LOCATION:Biblioteka w Szemudzie\, Samorządowa 1\, Szemud
END:VEVENT
BEGIN:VEVENT
DTSTART;TZID=Europe/Warsaw:20191206T120000
DTEND;TZID=Europe/Warsaw:20191206T130000
DTSTAMP:20260423T064818
CREATED:20191126T143721Z
LAST-MODIFIED:20191126T143721Z
UID:10821-1575633600-1575637200@biblioteka.szemud.pl
SUMMARY:Spektakl mikołajkowy "Świąteczny dar - magia i czar" w Bibliotece w Częstkowie
DESCRIPTION:
URL:https://biblioteka.szemud.pl/index.php/event/spektakl-mikolajkowy-swiateczny-dar-magia-i-czar-w-bibliotece-w-czestkowie/
LOCATION:Biblioteka w Częstkowie\, ul. Szkolna 9\, Czestkowo
ATTACH;FMTTYPE=image/png:https://biblioteka.szemud.pl/wp-content/uploads/2019/11/Teatrzyk-Mikołajkowy.png
END:VEVENT
BEGIN:VEVENT
DTSTART;TZID=Europe/Warsaw:20191209T083000
DTEND;TZID=Europe/Warsaw:20191209T093000
DTSTAMP:20260423T064818
CREATED:20191126T125547Z
LAST-MODIFIED:20191126T125547Z
UID:10806-1575880200-1575883800@biblioteka.szemud.pl
SUMMARY:Warsztaty czytelnicze w Bibliotece w Kielnie
DESCRIPTION:
URL:https://biblioteka.szemud.pl/index.php/event/warsztaty-czytelnicze-w-bibliotece-w-kielnie/
LOCATION:Biblioteka w Kielnie\, ul. Oliwska 46\, Kielno
ATTACH;FMTTYPE=image/png:https://biblioteka.szemud.pl/wp-content/uploads/2019/11/warsztaty-czytelnicze-.png
END:VEVENT
BEGIN:VEVENT
DTSTART;TZID=Europe/Warsaw:20191209T153000
DTEND;TZID=Europe/Warsaw:20191209T173000
DTSTAMP:20260423T064818
CREATED:20191126T153720Z
LAST-MODIFIED:20191126T154101Z
UID:10851-1575905400-1575912600@biblioteka.szemud.pl
SUMMARY:Warsztaty świąteczne dla dorosłych w Bibliotece w Częstkowie
DESCRIPTION:
URL:https://biblioteka.szemud.pl/index.php/event/warsztaty-swiateczne-dla-doroslych-w-bibliotece-w-czestkowie/
LOCATION:Biblioteka w Częstkowie\, ul. Szkolna 9\, Czestkowo
ATTACH;FMTTYPE=image/png:https://biblioteka.szemud.pl/wp-content/uploads/2019/11/Warsztaty-świąteczne-Częstkowo.png
END:VEVENT
BEGIN:VEVENT
DTSTART;TZID=Europe/Warsaw:20191209T170000
DTEND;TZID=Europe/Warsaw:20191209T190000
DTSTAMP:20260423T064818
CREATED:20191126T144020Z
LAST-MODIFIED:20191126T144020Z
UID:10825-1575910800-1575918000@biblioteka.szemud.pl
SUMMARY:Świąteczne warsztaty rodzinne w Bibliotece w Szemudzie
DESCRIPTION:
URL:https://biblioteka.szemud.pl/index.php/event/swiateczne-warsztaty-rodzinne-w-bibliotece-w-szemudzie/
LOCATION:Biblioteka w Szemudzie\, Samorządowa 1\, Szemud
ATTACH;FMTTYPE=image/png:https://biblioteka.szemud.pl/wp-content/uploads/2019/11/Warsztaty-świąteczne-Szemud.png
END:VEVENT
END:VCALENDAR