BEGIN:VCALENDAR
VERSION:2.0
PRODID:-//Biblioteka Publiczna Gminy Szemud - ECPv6.15.20//NONSGML v1.0//EN
CALSCALE:GREGORIAN
METHOD:PUBLISH
X-WR-CALNAME:Biblioteka Publiczna Gminy Szemud
X-ORIGINAL-URL:https://biblioteka.szemud.pl
X-WR-CALDESC:Wydarzenia dla Biblioteka Publiczna Gminy Szemud
REFRESH-INTERVAL;VALUE=DURATION:PT1H
X-Robots-Tag:noindex
X-PUBLISHED-TTL:PT1H
BEGIN:VTIMEZONE
TZID:Europe/Warsaw
BEGIN:DAYLIGHT
TZOFFSETFROM:+0100
TZOFFSETTO:+0200
TZNAME:CEST
DTSTART:20180325T010000
END:DAYLIGHT
BEGIN:STANDARD
TZOFFSETFROM:+0200
TZOFFSETTO:+0100
TZNAME:CET
DTSTART:20181028T010000
END:STANDARD
BEGIN:DAYLIGHT
TZOFFSETFROM:+0100
TZOFFSETTO:+0200
TZNAME:CEST
DTSTART:20190331T010000
END:DAYLIGHT
BEGIN:STANDARD
TZOFFSETFROM:+0200
TZOFFSETTO:+0100
TZNAME:CET
DTSTART:20191027T010000
END:STANDARD
BEGIN:DAYLIGHT
TZOFFSETFROM:+0100
TZOFFSETTO:+0200
TZNAME:CEST
DTSTART:20200329T010000
END:DAYLIGHT
BEGIN:STANDARD
TZOFFSETFROM:+0200
TZOFFSETTO:+0100
TZNAME:CET
DTSTART:20201025T010000
END:STANDARD
END:VTIMEZONE
BEGIN:VEVENT
DTSTART;TZID=Europe/Warsaw:20190801T100000
DTEND;TZID=Europe/Warsaw:20190801T120000
DTSTAMP:20260423T122540
CREATED:20190724T095138Z
LAST-MODIFIED:20190724T095330Z
UID:9087-1564653600-1564660800@biblioteka.szemud.pl
SUMMARY:Warsztaty programowania Lego Mindstorms w Bibliotece w Bojanie
DESCRIPTION:
URL:https://biblioteka.szemud.pl/index.php/event/warsztaty-programowania-lego-mindstorms-w-bibliotece-w-bojanie-3/
LOCATION:Biblioteka w Bojanie\, ul. J. Wybickiego 38\, Bojano
ATTACH;FMTTYPE=image/jpeg:https://biblioteka.szemud.pl/wp-content/uploads/2019/07/sierpień-Bojano-i-Kielno.jpg
END:VEVENT
BEGIN:VEVENT
DTSTART;TZID=Europe/Warsaw:20190805T110000
DTEND;TZID=Europe/Warsaw:20190805T130000
DTSTAMP:20260423T122540
CREATED:20190724T123619Z
LAST-MODIFIED:20190724T123619Z
UID:9127-1565002800-1565010000@biblioteka.szemud.pl
SUMMARY:Warsztaty programowania Lego Mindstorms w Bibliotece w Szemudzie
DESCRIPTION:
URL:https://biblioteka.szemud.pl/index.php/event/warsztaty-programowania-lego-mindstorms-w-bibliotece-w-szemudzie-3/
LOCATION:Biblioteka w Szemudzie\, Samorządowa 1\, Szemud
ATTACH;FMTTYPE=image/png:https://biblioteka.szemud.pl/wp-content/uploads/2019/07/sierpień-Szemud.png
END:VEVENT
BEGIN:VEVENT
DTSTART;TZID=Europe/Warsaw:20190806T100000
DTEND;TZID=Europe/Warsaw:20190806T120000
DTSTAMP:20260423T122540
CREATED:20190724T100019Z
LAST-MODIFIED:20190801T162357Z
UID:9094-1565085600-1565092800@biblioteka.szemud.pl
SUMMARY:Planszomania w Bibliotece w Kielnie
DESCRIPTION:
URL:https://biblioteka.szemud.pl/index.php/event/planszomania-w-bibliotece-w-kielnie-2/
LOCATION:Biblioteka w Kielnie\, ul. Oliwska 46\, Kielno
ATTACH;FMTTYPE=image/jpeg:https://biblioteka.szemud.pl/wp-content/uploads/2019/07/sierpień-Bojano-i-Kielno.jpg
END:VEVENT
BEGIN:VEVENT
DTSTART;TZID=Europe/Warsaw:20190806T110000
DTEND;TZID=Europe/Warsaw:20190806T140000
DTSTAMP:20260423T122540
CREATED:20190724T123700Z
LAST-MODIFIED:20190724T123931Z
UID:9129-1565089200-1565100000@biblioteka.szemud.pl
SUMMARY:Warsztaty programowania Lego Mindstorms w Bibliotece w Szemudzie
DESCRIPTION:
URL:https://biblioteka.szemud.pl/index.php/event/warsztaty-programowania-lego-mindstorms-w-bibliotece-w-szemudzie-4/
LOCATION:Biblioteka w Szemudzie\, Samorządowa 1\, Szemud
ATTACH;FMTTYPE=image/png:https://biblioteka.szemud.pl/wp-content/uploads/2019/07/sierpień-Szemud.png
END:VEVENT
BEGIN:VEVENT
DTSTART;TZID=Europe/Warsaw:20190808T093000
DTEND;TZID=Europe/Warsaw:20190808T113000
DTSTAMP:20260423T122540
CREATED:20190724T111804Z
LAST-MODIFIED:20190724T112400Z
UID:9118-1565256600-1565263800@biblioteka.szemud.pl
SUMMARY:Warsztaty programowania Lego Mindstorms w Bibliotece w Kielnie
DESCRIPTION:
URL:https://biblioteka.szemud.pl/index.php/event/warsztaty-programowania-lego-mindstorms-w-bibliotece-w-kielnie/
LOCATION:Biblioteka w Kielnie\, ul. Oliwska 46\, Kielno
ATTACH;FMTTYPE=image/jpeg:https://biblioteka.szemud.pl/wp-content/uploads/2019/07/sierpień-Bojano-i-Kielno.jpg
END:VEVENT
BEGIN:VEVENT
DTSTART;TZID=Europe/Warsaw:20190808T120000
DTEND;TZID=Europe/Warsaw:20190808T140000
DTSTAMP:20260423T122540
CREATED:20190724T112456Z
LAST-MODIFIED:20190724T112456Z
UID:9120-1565265600-1565272800@biblioteka.szemud.pl
SUMMARY:Warsztaty programowania Lego Mindstorms w Bibliotece w Kielnie
DESCRIPTION:
URL:https://biblioteka.szemud.pl/index.php/event/warsztaty-programowania-lego-mindstorms-w-bibliotece-w-kielnie-2/
LOCATION:Biblioteka w Kielnie\, ul. Oliwska 46\, Kielno
ATTACH;FMTTYPE=image/jpeg:https://biblioteka.szemud.pl/wp-content/uploads/2019/07/sierpień-Bojano-i-Kielno.jpg
END:VEVENT
BEGIN:VEVENT
DTSTART;TZID=Europe/Warsaw:20190812T110000
DTEND;TZID=Europe/Warsaw:20190812T130000
DTSTAMP:20260423T122540
CREATED:20190724T095256Z
LAST-MODIFIED:20190724T111010Z
UID:9089-1565607600-1565614800@biblioteka.szemud.pl
SUMMARY:Planszomania w Bibliotece w Bojanie
DESCRIPTION:
URL:https://biblioteka.szemud.pl/index.php/event/planszomania-w-bibliotece-w-bojanie-3/
LOCATION:Biblioteka w Bojanie\, ul. J. Wybickiego 38\, Bojano
ATTACH;FMTTYPE=image/jpeg:https://biblioteka.szemud.pl/wp-content/uploads/2019/07/sierpień-Bojano-i-Kielno.jpg
END:VEVENT
BEGIN:VEVENT
DTSTART;TZID=Europe/Warsaw:20190813T100000
DTEND;TZID=Europe/Warsaw:20190813T110000
DTSTAMP:20260423T122540
CREATED:20190724T125304Z
LAST-MODIFIED:20190724T125304Z
UID:9141-1565690400-1565694000@biblioteka.szemud.pl
SUMMARY:Planszomania w Bibliotece w Łebnie
DESCRIPTION:
URL:https://biblioteka.szemud.pl/index.php/event/planszomania-w-bibliotece-w-lebnie/
LOCATION:Biblioteka w Łebnie\, ul. Kartuska 9\, Łebno
ATTACH;FMTTYPE=image/jpeg:https://biblioteka.szemud.pl/wp-content/uploads/2019/07/Szczegółowe-informacje-w-Bibliotece.-ZAPRASZAMY.jpg
END:VEVENT
BEGIN:VEVENT
DTSTART;TZID=Europe/Warsaw:20190813T110000
DTEND;TZID=Europe/Warsaw:20190813T120000
DTSTAMP:20260423T122540
CREATED:20190724T124529Z
LAST-MODIFIED:20190724T124529Z
UID:9131-1565694000-1565697600@biblioteka.szemud.pl
SUMMARY:Planszomania w Bibliotece w Szemudzie
DESCRIPTION:
URL:https://biblioteka.szemud.pl/index.php/event/planszomania-w-bibliotece-w-szemudzie-4/
LOCATION:Biblioteka w Szemudzie\, Samorządowa 1\, Szemud
ATTACH;FMTTYPE=image/png:https://biblioteka.szemud.pl/wp-content/uploads/2019/07/sierpień-Szemud.png
END:VEVENT
BEGIN:VEVENT
DTSTART;TZID=Europe/Warsaw:20190820T100000
DTEND;TZID=Europe/Warsaw:20190820T110000
DTSTAMP:20260423T122540
CREATED:20190724T125432Z
LAST-MODIFIED:20190724T125432Z
UID:9143-1566295200-1566298800@biblioteka.szemud.pl
SUMMARY:Wakacyjne spotkanie z bajką w Bibliotece w Łebnie
DESCRIPTION:
URL:https://biblioteka.szemud.pl/index.php/event/wakacyjne-spotkanie-z-bajka-w-bibliotece-w-lebnie/
LOCATION:Biblioteka w Łebnie\, ul. Kartuska 9\, Łebno
ATTACH;FMTTYPE=image/jpeg:https://biblioteka.szemud.pl/wp-content/uploads/2019/07/Szczegółowe-informacje-w-Bibliotece.-ZAPRASZAMY.jpg
END:VEVENT
BEGIN:VEVENT
DTSTART;TZID=Europe/Warsaw:20190820T110000
DTEND;TZID=Europe/Warsaw:20190820T120000
DTSTAMP:20260423T122540
CREATED:20190724T124644Z
LAST-MODIFIED:20190724T124644Z
UID:9133-1566298800-1566302400@biblioteka.szemud.pl
SUMMARY:Kodowanie z robotem Photon w Bibliotece w Szemudzie
DESCRIPTION:
URL:https://biblioteka.szemud.pl/index.php/event/kodowanie-z-robotem-photon-w-bibliotece-w-szemudzie/
LOCATION:Biblioteka w Szemudzie\, Samorządowa 1\, Szemud
ATTACH;FMTTYPE=image/png:https://biblioteka.szemud.pl/wp-content/uploads/2019/07/sierpień-Szemud.png
END:VEVENT
BEGIN:VEVENT
DTSTART;TZID=Europe/Warsaw:20190821T130000
DTEND;TZID=Europe/Warsaw:20190821T143000
DTSTAMP:20260423T122540
CREATED:20190724T112629Z
LAST-MODIFIED:20190724T112918Z
UID:9123-1566392400-1566397800@biblioteka.szemud.pl
SUMMARY:Zajęcia z gliną w Bibliotece w Kielnie
DESCRIPTION:
URL:https://biblioteka.szemud.pl/index.php/event/zajecia-z-glina-w-bibliotece-w-kielnie/
LOCATION:Biblioteka w Kielnie\, ul. Oliwska 46\, Kielno
ATTACH;FMTTYPE=image/jpeg:https://biblioteka.szemud.pl/wp-content/uploads/2019/07/sierpień-Bojano-i-Kielno.jpg
END:VEVENT
BEGIN:VEVENT
DTSTART;TZID=Europe/Warsaw:20190827T090000
DTEND;TZID=Europe/Warsaw:20190827T100000
DTSTAMP:20260423T122540
CREATED:20190724T095445Z
LAST-MODIFIED:20190724T110934Z
UID:9091-1566896400-1566900000@biblioteka.szemud.pl
SUMMARY:Zajęcia z gliną  w Bibliotece w Bojanie
DESCRIPTION:
URL:https://biblioteka.szemud.pl/index.php/event/zajecia-z-glina-w-bibliotece-w-bojanie/
LOCATION:Biblioteka w Bojanie\, ul. J. Wybickiego 38\, Bojano
ATTACH;FMTTYPE=image/jpeg:https://biblioteka.szemud.pl/wp-content/uploads/2019/07/sierpień-Bojano-i-Kielno.jpg
END:VEVENT
BEGIN:VEVENT
DTSTART;TZID=Europe/Warsaw:20190827T093000
DTEND;TZID=Europe/Warsaw:20190827T113000
DTSTAMP:20260423T122540
CREATED:20190724T125918Z
LAST-MODIFIED:20190724T125952Z
UID:9145-1566898200-1566905400@biblioteka.szemud.pl
SUMMARY:Warsztaty programowania Lego Mindstorms w Bibliotece w Łebnie
DESCRIPTION:
URL:https://biblioteka.szemud.pl/index.php/event/warsztaty-programowania-lego-mindstorms-w-bibliotece-w-lebnie/
LOCATION:Biblioteka w Łebnie\, ul. Kartuska 9\, Łebno
ATTACH;FMTTYPE=image/jpeg:https://biblioteka.szemud.pl/wp-content/uploads/2019/07/Szczegółowe-informacje-w-Bibliotece.-ZAPRASZAMY.jpg
END:VEVENT
BEGIN:VEVENT
DTSTART;TZID=Europe/Warsaw:20190827T110000
DTEND;TZID=Europe/Warsaw:20190827T120000
DTSTAMP:20260423T122540
CREATED:20190724T124751Z
LAST-MODIFIED:20190724T124751Z
UID:9135-1566903600-1566907200@biblioteka.szemud.pl
SUMMARY:Warsztaty "Glina ceramiczna" w Bibliotece w Szemudzie
DESCRIPTION:
URL:https://biblioteka.szemud.pl/index.php/event/warsztaty-glina-ceramiczna-w-bibliotece-w-szemudzie/
LOCATION:Biblioteka w Szemudzie\, Samorządowa 1\, Szemud
ATTACH;FMTTYPE=image/png:https://biblioteka.szemud.pl/wp-content/uploads/2019/07/sierpień-Szemud.png
END:VEVENT
BEGIN:VEVENT
DTSTART;TZID=Europe/Warsaw:20190827T120000
DTEND;TZID=Europe/Warsaw:20190827T130000
DTSTAMP:20260423T122540
CREATED:20190724T124958Z
LAST-MODIFIED:20190724T124958Z
UID:9137-1566907200-1566910800@biblioteka.szemud.pl
SUMMARY:"Muzykowanie z gitarą" w Bibliotece w Szemudzie
DESCRIPTION:
URL:https://biblioteka.szemud.pl/index.php/event/muzykowanie-z-gitara-w-bibliotece-w-szemudzie-2/
ATTACH;FMTTYPE=image/png:https://biblioteka.szemud.pl/wp-content/uploads/2019/07/sierpień-Szemud.png
END:VEVENT
BEGIN:VEVENT
DTSTART;TZID=Europe/Warsaw:20190827T120000
DTEND;TZID=Europe/Warsaw:20190827T140000
DTSTAMP:20260423T122540
CREATED:20190724T130021Z
LAST-MODIFIED:20190724T130341Z
UID:9148-1566907200-1566914400@biblioteka.szemud.pl
SUMMARY:Warsztaty programowania Lego Mindstorms w Bibliotece w Łebnie
DESCRIPTION:
URL:https://biblioteka.szemud.pl/index.php/event/warsztaty-programowania-lego-mindstorms-w-bibliotece-w-lebnie-2/
LOCATION:Biblioteka w Łebnie\, ul. Kartuska 9\, Łebno
ATTACH;FMTTYPE=image/jpeg:https://biblioteka.szemud.pl/wp-content/uploads/2019/07/Szczegółowe-informacje-w-Bibliotece.-ZAPRASZAMY.jpg
END:VEVENT
BEGIN:VEVENT
DTSTART;TZID=Europe/Warsaw:20190921T100000
DTEND;TZID=Europe/Warsaw:20190921T130000
DTSTAMP:20260423T122540
CREATED:20190910T065741Z
LAST-MODIFIED:20190910T065741Z
UID:9481-1569060000-1569070800@biblioteka.szemud.pl
SUMMARY:Warsztaty GO_PRO! w Bibliotece w Szemudzie
DESCRIPTION:
URL:https://biblioteka.szemud.pl/index.php/event/warsztaty-go_pro-w-bibliotece-w-szemudzie/
ATTACH;FMTTYPE=image/png:https://biblioteka.szemud.pl/wp-content/uploads/2019/09/warsztaty-GO_PRO-wrzesień-2019.png
END:VEVENT
BEGIN:VEVENT
DTSTART;TZID=Europe/Warsaw:20191010T090000
DTEND;TZID=Europe/Warsaw:20191010T100000
DTSTAMP:20260423T122540
CREATED:20190925T124553Z
LAST-MODIFIED:20190925T124553Z
UID:9659-1570698000-1570701600@biblioteka.szemud.pl
SUMMARY:Spotkanie autorskie z Romualdem Bławatem w Bibliotece w Szemudzie
DESCRIPTION:
URL:https://biblioteka.szemud.pl/index.php/event/spotkanie-autorskie-z-romualdem-blawatem-w-bibliotece-w-szemudzie/
ATTACH;FMTTYPE=image/jpeg:https://biblioteka.szemud.pl/wp-content/uploads/2019/09/Spotkanie-Bławat.jpg
END:VEVENT
BEGIN:VEVENT
DTSTART;TZID=Europe/Warsaw:20191010T160000
DTEND;TZID=Europe/Warsaw:20191010T170000
DTSTAMP:20260423T122540
CREATED:20190927T103729Z
LAST-MODIFIED:20190927T103729Z
UID:9706-1570723200-1570726800@biblioteka.szemud.pl
SUMMARY:Warsztaty "Jesienne lampiony" w Bibliotece i WOK Łebno
DESCRIPTION:
URL:https://biblioteka.szemud.pl/index.php/event/warsztaty-jesienne-lampiony-w-bibliotece-i-wok-lebno/
LOCATION:Biblioteka w Łebnie\, ul. Kartuska 9\, Łebno
ATTACH;FMTTYPE=image/jpeg:https://biblioteka.szemud.pl/wp-content/uploads/2019/09/Warsztaty-Łebno.jpg
END:VEVENT
BEGIN:VEVENT
DTSTART;TZID=Europe/Warsaw:20191011T190000
DTEND;TZID=Europe/Warsaw:20191011T210000
DTSTAMP:20260423T122540
CREATED:20190927T104741Z
LAST-MODIFIED:20190927T104741Z
UID:9710-1570820400-1570827600@biblioteka.szemud.pl
SUMMARY:Koncert z okazji "Roku Stanisława Moniuszki" w Bibliotece w Szemudzie
DESCRIPTION:
URL:https://biblioteka.szemud.pl/index.php/event/koncert-z-okazji-roku-stanislawa-moniuszki-w-bibliotece-w-szemudzie/
LOCATION:Biblioteka w Szemudzie\, Samorządowa 1\, Szemud
ATTACH;FMTTYPE=image/jpeg:https://biblioteka.szemud.pl/wp-content/uploads/2019/09/Koncert-Moniuszko-.jpg
END:VEVENT
BEGIN:VEVENT
DTSTART;TZID=Europe/Warsaw:20191014T150000
DTEND;TZID=Europe/Warsaw:20191014T170000
DTSTAMP:20260423T122540
CREATED:20190927T105550Z
LAST-MODIFIED:20190927T105812Z
UID:9714-1571065200-1571072400@biblioteka.szemud.pl
SUMMARY:Warsztaty kreatywne "Malowanie na tkaninach" w Bibliotece w Szemudzie
DESCRIPTION:
URL:https://biblioteka.szemud.pl/index.php/event/warsztaty-kreatywne-malowanie-na-tkaninach-w-bibliotece-w-szemudzie/
LOCATION:Biblioteka w Szemudzie\, Samorządowa 1\, Szemud
ATTACH;FMTTYPE=image/jpeg:https://biblioteka.szemud.pl/wp-content/uploads/2019/09/Warsztaty-Szemud.jpg
END:VEVENT
BEGIN:VEVENT
DTSTART;TZID=Europe/Warsaw:20191015T160000
DTEND;TZID=Europe/Warsaw:20191015T170000
DTSTAMP:20260423T122540
CREATED:20190927T110307Z
LAST-MODIFIED:20190927T110307Z
UID:9719-1571155200-1571158800@biblioteka.szemud.pl
SUMMARY:Warsztaty "Kwiaty z liści i kasztanów" w Bibliotece w Kielnie
DESCRIPTION:
URL:https://biblioteka.szemud.pl/index.php/event/warsztaty-kwiaty-z-lisci-i-kasztanow-w-bibliotece-w-kielnie/
LOCATION:Biblioteka w Kielnie\, ul. Oliwska 46\, Kielno
ATTACH;FMTTYPE=image/jpeg:https://biblioteka.szemud.pl/wp-content/uploads/2019/09/Warsztaty-Kielno.jpg
END:VEVENT
BEGIN:VEVENT
DTSTART;TZID=Europe/Warsaw:20191016T140000
DTEND;TZID=Europe/Warsaw:20191016T153000
DTSTAMP:20260423T122540
CREATED:20190927T111415Z
LAST-MODIFIED:20190927T111415Z
UID:9723-1571234400-1571239800@biblioteka.szemud.pl
SUMMARY:Warsztaty dla dzieci "Korale decoupage" w Bibliotece w Bojanie
DESCRIPTION:
URL:https://biblioteka.szemud.pl/index.php/event/warsztaty-dla-dzieci-korale-decoupage-w-bibliotece-w-bojanie/
LOCATION:Biblioteka w Bojanie\, ul. J. Wybickiego 38\, Bojano
ATTACH;FMTTYPE=image/jpeg:https://biblioteka.szemud.pl/wp-content/uploads/2019/09/Warsztaty-Bojano.jpg
END:VEVENT
BEGIN:VEVENT
DTSTART;TZID=Europe/Warsaw:20191017T150000
DTEND;TZID=Europe/Warsaw:20191017T163000
DTSTAMP:20260423T122540
CREATED:20190927T120351Z
LAST-MODIFIED:20190927T120413Z
UID:9727-1571324400-1571329800@biblioteka.szemud.pl
SUMMARY:Warsztaty "Jesienny stroik" w Bibliotece w Częstkowie
DESCRIPTION:
URL:https://biblioteka.szemud.pl/index.php/event/warsztaty-jesienny-stroik-w-bibliotece-w-czestkowie/
LOCATION:Biblioteka w Częstkowie\, ul. Szkolna 9\, Czestkowo
ATTACH;FMTTYPE=image/jpeg:https://biblioteka.szemud.pl/wp-content/uploads/2019/09/Warsztaty-Częstkowo.jpg
END:VEVENT
BEGIN:VEVENT
DTSTART;TZID=Europe/Warsaw:20191017T160000
DTEND;TZID=Europe/Warsaw:20191017T180000
DTSTAMP:20260423T122540
CREATED:20190927T111719Z
LAST-MODIFIED:20190927T111719Z
UID:9725-1571328000-1571335200@biblioteka.szemud.pl
SUMMARY:Warsztaty dla dorosłych “Korale decoupage” w Bibliotece w Bojanie
DESCRIPTION:
URL:https://biblioteka.szemud.pl/index.php/event/warsztaty-dla-doroslych-korale-decoupage-w-bibliotece-w-bojanie/
LOCATION:Biblioteka w Bojanie\, ul. J. Wybickiego 38\, Bojano
ATTACH;FMTTYPE=image/jpeg:https://biblioteka.szemud.pl/wp-content/uploads/2019/09/Warsztaty-Bojano.jpg
END:VEVENT
BEGIN:VEVENT
DTSTART;TZID=Europe/Warsaw:20191018T100000
DTEND;TZID=Europe/Warsaw:20191018T120000
DTSTAMP:20260423T122540
CREATED:20190912T105626Z
LAST-MODIFIED:20190918T125255Z
UID:9612-1571392800-1571400000@biblioteka.szemud.pl
SUMMARY:II Przegląd Polskiej Piosenki w Bibliotece w Szemudzie
DESCRIPTION:
URL:https://biblioteka.szemud.pl/index.php/event/ii-przeglad-polskiej-piosenki-w-bibliotece-w-szemudzie/
LOCATION:Biblioteka w Szemudzie\, Samorządowa 1\, Szemud
ATTACH;FMTTYPE=image/jpeg:https://biblioteka.szemud.pl/wp-content/uploads/2019/09/Przegląd-Polskiej-Piosenki.jpg
END:VEVENT
BEGIN:VEVENT
DTSTART;TZID=Europe/Warsaw:20191018T170000
DTEND;TZID=Europe/Warsaw:20191018T180000
DTSTAMP:20260423T122540
CREATED:20190912T110713Z
LAST-MODIFIED:20190912T110713Z
UID:9618-1571418000-1571421600@biblioteka.szemud.pl
SUMMARY:Rozstrzygnięcie II Konkursu Fotograficznego Pocztówka - "Wspomnienie z wakacji"  w Bibliotece w Szemudzie
DESCRIPTION:
URL:https://biblioteka.szemud.pl/index.php/event/rozstrzygniecie-ii-konkursu-fotograficznego-pocztowka-wspomnienie-z-wakacji-w-bibliotece-w-szemudzie/
LOCATION:Biblioteka w Szemudzie\, Samorządowa 1\, Szemud
ATTACH;FMTTYPE=image/jpeg:https://biblioteka.szemud.pl/wp-content/uploads/2019/09/II-konkurs-fotograficzny-wersja-2.jpg
END:VEVENT
BEGIN:VEVENT
DTSTART;TZID=Europe/Warsaw:20191019T100000
DTEND;TZID=Europe/Warsaw:20191019T130000
DTSTAMP:20260423T122540
CREATED:20190927T121304Z
LAST-MODIFIED:20190927T121304Z
UID:9734-1571479200-1571490000@biblioteka.szemud.pl
SUMMARY:Warsztaty GO_PRO! w Bibliotece w Szemudzie
DESCRIPTION:
URL:https://biblioteka.szemud.pl/index.php/event/warsztaty-go_pro-w-bibliotece-w-szemudzie-2/
LOCATION:Biblioteka w Szemudzie\, Samorządowa 1\, Szemud
ATTACH;FMTTYPE=image/png:https://biblioteka.szemud.pl/wp-content/uploads/2019/09/programowanie-m-c-X.png
END:VEVENT
BEGIN:VEVENT
DTSTART;TZID=Europe/Warsaw:20191021T090000
DTEND;TZID=Europe/Warsaw:20191021T100000
DTSTAMP:20260423T122540
CREATED:20191002T103858Z
LAST-MODIFIED:20191002T103858Z
UID:9741-1571648400-1571652000@biblioteka.szemud.pl
SUMMARY:Spotkanie autorskie ze Zbigniewem Kołbą w Bibliotece w Łebnie
DESCRIPTION:
URL:https://biblioteka.szemud.pl/index.php/event/spotkanie-autorskie-ze-zbigniewem-kolba-w-bibliotece-w-lebnie/
LOCATION:Biblioteka w Łebnie\, ul. Kartuska 9\, Łebno
ATTACH;FMTTYPE=image/jpeg:https://biblioteka.szemud.pl/wp-content/uploads/2019/10/spotkanie-autorskie1.jpg
END:VEVENT
END:VCALENDAR