BEGIN:VCALENDAR
VERSION:2.0
PRODID:-//Biblioteka Publiczna Gminy Szemud - ECPv6.15.20//NONSGML v1.0//EN
CALSCALE:GREGORIAN
METHOD:PUBLISH
X-WR-CALNAME:Biblioteka Publiczna Gminy Szemud
X-ORIGINAL-URL:https://biblioteka.szemud.pl
X-WR-CALDESC:Wydarzenia dla Biblioteka Publiczna Gminy Szemud
REFRESH-INTERVAL;VALUE=DURATION:PT1H
X-Robots-Tag:noindex
X-PUBLISHED-TTL:PT1H
BEGIN:VTIMEZONE
TZID:Europe/Warsaw
BEGIN:DAYLIGHT
TZOFFSETFROM:+0100
TZOFFSETTO:+0200
TZNAME:CEST
DTSTART:20180325T010000
END:DAYLIGHT
BEGIN:STANDARD
TZOFFSETFROM:+0200
TZOFFSETTO:+0100
TZNAME:CET
DTSTART:20181028T010000
END:STANDARD
BEGIN:DAYLIGHT
TZOFFSETFROM:+0100
TZOFFSETTO:+0200
TZNAME:CEST
DTSTART:20190331T010000
END:DAYLIGHT
BEGIN:STANDARD
TZOFFSETFROM:+0200
TZOFFSETTO:+0100
TZNAME:CET
DTSTART:20191027T010000
END:STANDARD
BEGIN:DAYLIGHT
TZOFFSETFROM:+0100
TZOFFSETTO:+0200
TZNAME:CEST
DTSTART:20200329T010000
END:DAYLIGHT
BEGIN:STANDARD
TZOFFSETFROM:+0200
TZOFFSETTO:+0100
TZNAME:CET
DTSTART:20201025T010000
END:STANDARD
END:VTIMEZONE
BEGIN:VEVENT
DTSTART;TZID=Europe/Warsaw:20190215T110000
DTEND;TZID=Europe/Warsaw:20190215T123000
DTSTAMP:20260423T222906
CREATED:20190124T130219Z
LAST-MODIFIED:20190124T130219Z
UID:4036-1550228400-1550233800@biblioteka.szemud.pl
SUMMARY:Warsztaty tańca nowoczesnego w Bibliotece i WOK Łebno
DESCRIPTION:
URL:https://biblioteka.szemud.pl/index.php/event/warsztaty-tanca-nowoczesnego-w-bibliotece-i-wok-lebno/
LOCATION:Biblioteka w Łebnie\, ul. Kartuska 9\, Łebno
ATTACH;FMTTYPE=image/jpeg:https://biblioteka.szemud.pl/wp-content/uploads/2016/10/Ferie-Łebno-WOK-i-Biblioteka-page-001.jpg
END:VEVENT
BEGIN:VEVENT
DTSTART;TZID=Europe/Warsaw:20190215T120000
DTEND;TZID=Europe/Warsaw:20190215T130000
DTSTAMP:20260423T222906
CREATED:20190124T134031Z
LAST-MODIFIED:20190124T134054Z
UID:4071-1550232000-1550235600@biblioteka.szemud.pl
SUMMARY:Warsztaty "Rzeźba z drutu" w Bibliotece w Szemudzie
DESCRIPTION:
URL:https://biblioteka.szemud.pl/index.php/event/warsztaty-rzezba-z-drutu-w-bibliotece-w-szemudzie/
LOCATION:Biblioteka w Szemudzie\, Samorządowa 1\, Szemud
ATTACH;FMTTYPE=image/jpeg:https://biblioteka.szemud.pl/wp-content/uploads/2016/10/Szemud-ferie-2019.jpg
END:VEVENT
BEGIN:VEVENT
DTSTART;TZID=Europe/Warsaw:20190216T100000
DTEND;TZID=Europe/Warsaw:20190216T120000
DTSTAMP:20260423T222906
CREATED:20190124T141751Z
LAST-MODIFIED:20190124T141751Z
UID:4111-1550311200-1550318400@biblioteka.szemud.pl
SUMMARY:Bajkowy Bal Przebierańców w Bibliotece w Kielnie
DESCRIPTION:
URL:https://biblioteka.szemud.pl/index.php/event/bajkowy-bal-przebierancow-w-bibliotece-w-kielnie-2/
LOCATION:Biblioteka w Kielnie\, ul. Oliwska 46\, Kielno
ATTACH;FMTTYPE=image/jpeg:https://biblioteka.szemud.pl/wp-content/uploads/2016/10/Ferie-Kielno.jpg
END:VEVENT
BEGIN:VEVENT
DTSTART;TZID=Europe/Warsaw:20190218T100000
DTEND;TZID=Europe/Warsaw:20190218T113000
DTSTAMP:20260423T222906
CREATED:20190124T130624Z
LAST-MODIFIED:20190124T130624Z
UID:4038-1550484000-1550489400@biblioteka.szemud.pl
SUMMARY:Zajęcia praktyczne w drewnie w Bibliotece i WOK Łebno
DESCRIPTION:
URL:https://biblioteka.szemud.pl/index.php/event/zajecia-praktyczne-w-drewnie-w-bibliotece-i-wok-lebno-2/
LOCATION:Biblioteka w Łebnie\, ul. Kartuska 9\, Łebno
ATTACH;FMTTYPE=image/jpeg:https://biblioteka.szemud.pl/wp-content/uploads/2016/10/Ferie-Łebno-WOK-i-Biblioteka-page-001.jpg
END:VEVENT
BEGIN:VEVENT
DTSTART;TZID=Europe/Warsaw:20190218T100000
DTEND;TZID=Europe/Warsaw:20190218T120000
DTSTAMP:20260423T222906
CREATED:20190124T145807Z
LAST-MODIFIED:20190215T133631Z
UID:4130-1550484000-1550491200@biblioteka.szemud.pl
SUMMARY:Planszomania w Bibliotece w Bojanie
DESCRIPTION:
URL:https://biblioteka.szemud.pl/index.php/event/planszomania-w-bibliotece-w-bojanie-2/
LOCATION:Biblioteka w Bojanie\, ul. J. Wybickiego 38\, Bojano
ATTACH;FMTTYPE=image/jpeg:https://biblioteka.szemud.pl/wp-content/uploads/2016/10/Ferie-Bojano.jpg
END:VEVENT
BEGIN:VEVENT
DTSTART;TZID=Europe/Warsaw:20190218T110000
DTEND;TZID=Europe/Warsaw:20190218T130000
DTSTAMP:20260423T222906
CREATED:20190124T135834Z
LAST-MODIFIED:20190124T135834Z
UID:4096-1550487600-1550494800@biblioteka.szemud.pl
SUMMARY:Planszomania po angielsku w Bibliotece w Częstkowie
DESCRIPTION:
URL:https://biblioteka.szemud.pl/index.php/event/planszomania-po-angielsku-w-bibliotece-w-czestkowie/
LOCATION:Biblioteka w Częstkowie\, ul. Szkolna 9\, Czestkowo
ATTACH;FMTTYPE=image/jpeg:https://biblioteka.szemud.pl/wp-content/uploads/2016/10/Ferie-Częstkowo.jpg
END:VEVENT
BEGIN:VEVENT
DTSTART;TZID=Europe/Warsaw:20190218T113000
DTEND;TZID=Europe/Warsaw:20190218T123000
DTSTAMP:20260423T222906
CREATED:20190124T130757Z
LAST-MODIFIED:20190124T130757Z
UID:4040-1550489400-1550493000@biblioteka.szemud.pl
SUMMARY:Szachy…i inne gry stolikowe w Bibliotece i WOK Łebno
DESCRIPTION:
URL:https://biblioteka.szemud.pl/index.php/event/szachyi-inne-gry-stolikowe-w-bibliotece-i-wok-lebno/
LOCATION:Biblioteka w Łebnie\, ul. Kartuska 9\, Łebno
ATTACH;FMTTYPE=image/jpeg:https://biblioteka.szemud.pl/wp-content/uploads/2016/10/Ferie-Łebno-WOK-i-Biblioteka-page-001.jpg
END:VEVENT
BEGIN:VEVENT
DTSTART;TZID=Europe/Warsaw:20190218T120000
DTEND;TZID=Europe/Warsaw:20190218T140000
DTSTAMP:20260423T222906
CREATED:20190124T134206Z
LAST-MODIFIED:20190124T134206Z
UID:4073-1550491200-1550498400@biblioteka.szemud.pl
SUMMARY:Planszomania w Bibliotece w Szemudzie
DESCRIPTION:
URL:https://biblioteka.szemud.pl/index.php/event/planszomania-w-bibliotece-w-szemudzie-2/
LOCATION:Biblioteka w Szemudzie\, Samorządowa 1\, Szemud
END:VEVENT
BEGIN:VEVENT
DTSTART;TZID=Europe/Warsaw:20190219T100000
DTEND;TZID=Europe/Warsaw:20190219T120000
DTSTAMP:20260423T222906
CREATED:20190124T150202Z
LAST-MODIFIED:20190124T150202Z
UID:4132-1550570400-1550577600@biblioteka.szemud.pl
SUMMARY:Warsztaty z ceramiki cz. II w Bibliotece w Bojanie
DESCRIPTION:
URL:https://biblioteka.szemud.pl/index.php/event/warsztaty-z-ceramiki-cz-ii-w-bibliotece-w-bojanie/
LOCATION:Biblioteka w Bojanie\, ul. J. Wybickiego 38\, Bojano
ATTACH;FMTTYPE=image/jpeg:https://biblioteka.szemud.pl/wp-content/uploads/2016/10/Ferie-Bojano.jpg
END:VEVENT
BEGIN:VEVENT
DTSTART;TZID=Europe/Warsaw:20190219T110000
DTEND;TZID=Europe/Warsaw:20190219T130000
DTSTAMP:20260423T222906
CREATED:20190124T130927Z
LAST-MODIFIED:20190124T131003Z
UID:4042-1550574000-1550581200@biblioteka.szemud.pl
SUMMARY:Warsztaty "Jeżykowe portmonetki - wyszywanki" w Bibliotece i WOK Łebno
DESCRIPTION:
URL:https://biblioteka.szemud.pl/index.php/event/warsztaty-jezykowe-portmonetki-wyszywanki/
LOCATION:Biblioteka w Łebnie\, ul. Kartuska 9\, Łebno
ATTACH;FMTTYPE=image/jpeg:https://biblioteka.szemud.pl/wp-content/uploads/2016/10/Ferie-Łebno-WOK-i-Biblioteka-page-001.jpg
END:VEVENT
BEGIN:VEVENT
DTSTART;TZID=Europe/Warsaw:20190219T110000
DTEND;TZID=Europe/Warsaw:20190219T130000
DTSTAMP:20260423T222906
CREATED:20190124T135954Z
LAST-MODIFIED:20190124T135954Z
UID:4098-1550574000-1550581200@biblioteka.szemud.pl
SUMMARY:Warsztaty z robotami Photon w Bibliotece w Częstkowie
DESCRIPTION:
URL:https://biblioteka.szemud.pl/index.php/event/warsztaty-z-robotami-photon-w-bibliotece-w-czestkowie/
LOCATION:Biblioteka w Częstkowie\, ul. Szkolna 9\, Czestkowo
ATTACH;FMTTYPE=image/jpeg:https://biblioteka.szemud.pl/wp-content/uploads/2016/10/Ferie-Częstkowo.jpg
END:VEVENT
BEGIN:VEVENT
DTSTART;TZID=Europe/Warsaw:20190219T123000
DTEND;TZID=Europe/Warsaw:20190219T143000
DTSTAMP:20260423T222906
CREATED:20190124T141857Z
LAST-MODIFIED:20190221T091141Z
UID:4113-1550579400-1550586600@biblioteka.szemud.pl
SUMMARY:Warsztaty z ceramiki cz. II w Bibliotece w Kielnie
DESCRIPTION:
URL:https://biblioteka.szemud.pl/index.php/event/warsztaty-z-ceramiki-cz-ii-w-bibliotece-w-w-kielnie/
LOCATION:Biblioteka w Kielnie\, ul. Oliwska 46\, Kielno
ATTACH;FMTTYPE=image/jpeg:https://biblioteka.szemud.pl/wp-content/uploads/2016/10/Ferie-Kielno.jpg
END:VEVENT
BEGIN:VEVENT
DTSTART;TZID=Europe/Warsaw:20190219T150000
DTEND;TZID=Europe/Warsaw:20190219T170000
DTSTAMP:20260423T222906
CREATED:20190124T134325Z
LAST-MODIFIED:20190124T134325Z
UID:4075-1550588400-1550595600@biblioteka.szemud.pl
SUMMARY:Warsztaty z ceramiki cz. II w Bibliotece w Szemudzie
DESCRIPTION:
URL:https://biblioteka.szemud.pl/index.php/event/warsztaty-z-ceramiki-cz-ii-w-bibliotece-w-szemudzie/
LOCATION:Biblioteka w Szemudzie\, Samorządowa 1\, Szemud
ATTACH;FMTTYPE=image/jpeg:https://biblioteka.szemud.pl/wp-content/uploads/2016/10/Szemud-ferie-2019.jpg
END:VEVENT
BEGIN:VEVENT
DTSTART;TZID=Europe/Warsaw:20190220T100000
DTEND;TZID=Europe/Warsaw:20190220T120000
DTSTAMP:20260423T222906
CREATED:20190124T140117Z
LAST-MODIFIED:20190124T140117Z
UID:4100-1550656800-1550664000@biblioteka.szemud.pl
SUMMARY:Warsztaty z ceramiki cz. II w Bibliotece w Częstkowie
DESCRIPTION:
URL:https://biblioteka.szemud.pl/index.php/event/warsztaty-z-ceramiki-cz-ii-w-bibliotece-w-czestkowie/
LOCATION:Biblioteka w Częstkowie\, ul. Szkolna 9\, Czestkowo
ATTACH;FMTTYPE=image/jpeg:https://biblioteka.szemud.pl/wp-content/uploads/2016/10/Ferie-Częstkowo.jpg
END:VEVENT
BEGIN:VEVENT
DTSTART;TZID=Europe/Warsaw:20190220T100000
DTEND;TZID=Europe/Warsaw:20190220T120000
DTSTAMP:20260423T222906
CREATED:20190124T142035Z
LAST-MODIFIED:20190221T091105Z
UID:4116-1550656800-1550664000@biblioteka.szemud.pl
SUMMARY:Warsztaty "Rzeźba z drutu" w Bibliotece w Kielnie
DESCRIPTION:
URL:https://biblioteka.szemud.pl/index.php/event/warsztaty-rzezba-z-drutu-w-bibliotece-w-w-kielnie/
LOCATION:Biblioteka w Kielnie\, ul. Oliwska 46\, Kielno
ATTACH;FMTTYPE=image/jpeg:https://biblioteka.szemud.pl/wp-content/uploads/2016/10/Ferie-Kielno.jpg
END:VEVENT
BEGIN:VEVENT
DTSTART;TZID=Europe/Warsaw:20190220T110000
DTEND;TZID=Europe/Warsaw:20190220T120000
DTSTAMP:20260423T222906
CREATED:20190124T131144Z
LAST-MODIFIED:20190124T131243Z
UID:4046-1550660400-1550664000@biblioteka.szemud.pl
SUMMARY:Warsztaty "Malowane krasnale" w Bibliotece i WOK Łebno
DESCRIPTION:
URL:https://biblioteka.szemud.pl/index.php/event/warsztaty-malowane-krasnale-w-bibliotece-i-wok-lebno/
LOCATION:Biblioteka w Łebnie\, ul. Kartuska 9\, Łebno
ATTACH;FMTTYPE=image/jpeg:https://biblioteka.szemud.pl/wp-content/uploads/2016/10/Ferie-Łebno-WOK-i-Biblioteka-page-001.jpg
END:VEVENT
BEGIN:VEVENT
DTSTART;TZID=Europe/Warsaw:20190220T110000
DTEND;TZID=Europe/Warsaw:20190220T120000
DTSTAMP:20260423T222906
CREATED:20190124T131347Z
LAST-MODIFIED:20190124T131347Z
UID:4048-1550660400-1550664000@biblioteka.szemud.pl
SUMMARY:Warsztaty z ceramiki cz. II w Bibliotece i WOK Łebno
DESCRIPTION:
URL:https://biblioteka.szemud.pl/index.php/event/warsztaty-z-ceramiki-cz-ii-w-bibliotece-i-wok-lebno/
LOCATION:Biblioteka w Łebnie\, ul. Kartuska 9\, Łebno
ATTACH;FMTTYPE=image/jpeg:https://biblioteka.szemud.pl/wp-content/uploads/2016/10/Ferie-Łebno-WOK-i-Biblioteka-page-001.jpg
END:VEVENT
BEGIN:VEVENT
DTSTART;TZID=Europe/Warsaw:20190220T120000
DTEND;TZID=Europe/Warsaw:20190220T140000
DTSTAMP:20260423T222906
CREATED:20190124T134547Z
LAST-MODIFIED:20190124T134547Z
UID:4077-1550664000-1550671200@biblioteka.szemud.pl
SUMMARY:Malowanie na szkle w Bibliotece w Szemudzie
DESCRIPTION:
URL:https://biblioteka.szemud.pl/index.php/event/malowanie-na-szkle-w-bibliotece-w-szemudzie-4/
LOCATION:Biblioteka w Szemudzie\, Samorządowa 1\, Szemud
ATTACH;FMTTYPE=image/jpeg:https://biblioteka.szemud.pl/wp-content/uploads/2016/10/Szemud-ferie-2019.jpg
END:VEVENT
BEGIN:VEVENT
DTSTART;TZID=Europe/Warsaw:20190220T140000
DTEND;TZID=Europe/Warsaw:20190220T153000
DTSTAMP:20260423T222906
CREATED:20190124T150329Z
LAST-MODIFIED:20190124T150329Z
UID:4134-1550671200-1550676600@biblioteka.szemud.pl
SUMMARY:Warsztaty "Rzeźba z drutu" w Bibliotece w Bojanie
DESCRIPTION:
URL:https://biblioteka.szemud.pl/index.php/event/warsztaty-rzezba-z-drutu-w-bibliotece-w-bojanie/
LOCATION:Biblioteka w Bojanie\, ul. J. Wybickiego 38\, Bojano
ATTACH;FMTTYPE=image/jpeg:https://biblioteka.szemud.pl/wp-content/uploads/2016/10/Ferie-Bojano.jpg
END:VEVENT
BEGIN:VEVENT
DTSTART;TZID=Europe/Warsaw:20190221T100000
DTEND;TZID=Europe/Warsaw:20190221T120000
DTSTAMP:20260423T222906
CREATED:20190124T142200Z
LAST-MODIFIED:20190221T091122Z
UID:4118-1550743200-1550750400@biblioteka.szemud.pl
SUMMARY:Warsztaty z robotem Photon w Bibliotece w Kielnie
DESCRIPTION:
URL:https://biblioteka.szemud.pl/index.php/event/warsztaty-z-robotem-photon-w-bibliotece-w-w-kielnie/
LOCATION:Biblioteka w Kielnie\, ul. Oliwska 46\, Kielno
ATTACH;FMTTYPE=image/jpeg:https://biblioteka.szemud.pl/wp-content/uploads/2016/10/Ferie-Kielno.jpg
END:VEVENT
BEGIN:VEVENT
DTSTART;TZID=Europe/Warsaw:20190221T110000
DTEND;TZID=Europe/Warsaw:20190221T123000
DTSTAMP:20260423T222906
CREATED:20190124T131503Z
LAST-MODIFIED:20190124T131503Z
UID:4050-1550746800-1550752200@biblioteka.szemud.pl
SUMMARY:Warsztaty "Kwiaty z bibuły" w Bibliotece i WOK Łebno
DESCRIPTION:
URL:https://biblioteka.szemud.pl/index.php/event/warsztaty-kwiaty-z-bibuly-w-bibliotece-i-wok-lebno/
LOCATION:Biblioteka w Łebnie\, ul. Kartuska 9\, Łebno
ATTACH;FMTTYPE=image/jpeg:https://biblioteka.szemud.pl/wp-content/uploads/2016/10/Ferie-Łebno-WOK-i-Biblioteka-page-001.jpg
END:VEVENT
BEGIN:VEVENT
DTSTART;TZID=Europe/Warsaw:20190221T120000
DTEND;TZID=Europe/Warsaw:20190221T130000
DTSTAMP:20260423T222906
CREATED:20190124T134649Z
LAST-MODIFIED:20190124T134649Z
UID:4079-1550750400-1550754000@biblioteka.szemud.pl
SUMMARY:Warsztaty z robotem Photon w Bibliotece w Szemudzie
DESCRIPTION:
URL:https://biblioteka.szemud.pl/index.php/event/warsztaty-z-robotem-photon-w-bibliotece-w-szemudzie/
LOCATION:Biblioteka w Szemudzie\, Samorządowa 1\, Szemud
ATTACH;FMTTYPE=image/jpeg:https://biblioteka.szemud.pl/wp-content/uploads/2016/10/Szemud-ferie-2019.jpg
END:VEVENT
BEGIN:VEVENT
DTSTART;TZID=Europe/Warsaw:20190221T140000
DTEND;TZID=Europe/Warsaw:20190221T150000
DTSTAMP:20260423T222906
CREATED:20190124T150445Z
LAST-MODIFIED:20190124T150445Z
UID:4136-1550757600-1550761200@biblioteka.szemud.pl
SUMMARY:Warsztaty z robotem Photon w Bibliotece w Bojanie
DESCRIPTION:
URL:https://biblioteka.szemud.pl/index.php/event/warsztaty-z-robotem-photon-w-bibliotece-w-bojanie/
LOCATION:Biblioteka w Bojanie\, ul. J. Wybickiego 38\, Bojano
ATTACH;FMTTYPE=image/jpeg:https://biblioteka.szemud.pl/wp-content/uploads/2016/10/Ferie-Bojano.jpg
END:VEVENT
BEGIN:VEVENT
DTSTART;TZID=Europe/Warsaw:20190222T110000
DTEND;TZID=Europe/Warsaw:20190222T123000
DTSTAMP:20260423T222906
CREATED:20190124T131635Z
LAST-MODIFIED:20190124T132043Z
UID:4052-1550833200-1550838600@biblioteka.szemud.pl
SUMMARY:Warsztaty "Miśka\, panda i królik- wyszywanki" w Bibliotece i WOK Łebno
DESCRIPTION:
URL:https://biblioteka.szemud.pl/index.php/event/warsztaty-miska-panda-i-krolik-wyszywanki-w-bibliotece-i-wok-lebno/
LOCATION:Biblioteka w Łebnie\, ul. Kartuska 9\, Łebno
ATTACH;FMTTYPE=image/jpeg:https://biblioteka.szemud.pl/wp-content/uploads/2016/10/Ferie-Łebno-WOK-i-Biblioteka-page-001.jpg
END:VEVENT
BEGIN:VEVENT
DTSTART;TZID=Europe/Warsaw:20190222T120000
DTEND;TZID=Europe/Warsaw:20190222T130000
DTSTAMP:20260423T222906
CREATED:20190124T134754Z
LAST-MODIFIED:20190124T134808Z
UID:4081-1550836800-1550840400@biblioteka.szemud.pl
SUMMARY:Zimowe spotkanie z bajką w Bibliotece w Szemudzie
DESCRIPTION:
URL:https://biblioteka.szemud.pl/index.php/event/zimowe-spotkanie-z-bajka-w-bibliotece-w-szemudzie/
LOCATION:Biblioteka w Szemudzie\, Samorządowa 1\, Szemud
ATTACH;FMTTYPE=image/jpeg:https://biblioteka.szemud.pl/wp-content/uploads/2016/10/Szemud-ferie-2019.jpg
END:VEVENT
BEGIN:VEVENT
DTSTART;TZID=Europe/Warsaw:20190223T100000
DTEND;TZID=Europe/Warsaw:20190223T120000
DTSTAMP:20260423T222906
CREATED:20190124T150558Z
LAST-MODIFIED:20190124T150558Z
UID:4138-1550916000-1550923200@biblioteka.szemud.pl
SUMMARY:Bajkowy Bal Przebierańców w Bibliotece w Bojanie
DESCRIPTION:
URL:https://biblioteka.szemud.pl/index.php/event/bajkowy-bal-przebierancow-w-bibliotece-w-bojanie-2/
LOCATION:Biblioteka w Bojanie\, ul. J. Wybickiego 38\, Bojano
ATTACH;FMTTYPE=image/jpeg:https://biblioteka.szemud.pl/wp-content/uploads/2016/10/Ferie-Bojano.jpg
END:VEVENT
BEGIN:VEVENT
DTSTART;TZID=Europe/Warsaw:20190224T160000
DTEND;TZID=Europe/Warsaw:20190224T180000
DTSTAMP:20260423T222906
CREATED:20190124T134910Z
LAST-MODIFIED:20190124T135145Z
UID:4083-1551024000-1551031200@biblioteka.szemud.pl
SUMMARY:Bajkowy Bal Przebierańców w Bibliotece w Szemudzie
DESCRIPTION:
URL:https://biblioteka.szemud.pl/index.php/event/bajkowy-bal-przebierancow-w-bibliotece-w-szemudzie-2/
ATTACH;FMTTYPE=image/jpeg:https://biblioteka.szemud.pl/wp-content/uploads/2019/01/Bale-Karnawałowe.jpg
END:VEVENT
BEGIN:VEVENT
DTSTART;TZID=Europe/Warsaw:20190226T190000
DTEND;TZID=Europe/Warsaw:20190226T210000
DTSTAMP:20260423T222906
CREATED:20190218T142947Z
LAST-MODIFIED:20190225T102426Z
UID:4183-1551207600-1551214800@biblioteka.szemud.pl
SUMMARY:Koncert karnawałowy w Bibliotece w Szemudzie
DESCRIPTION:
URL:https://biblioteka.szemud.pl/index.php/event/koncert-karnawalowy-w-bibliotece-w-szemudzie/
LOCATION:Biblioteka w Szemudzie\, Samorządowa 1\, Szemud
ATTACH;FMTTYPE=image/jpeg:https://biblioteka.szemud.pl/wp-content/uploads/2016/10/Koncert-Karnawałowy-2019-1.jpg
END:VEVENT
BEGIN:VEVENT
DTSTART;TZID=Europe/Warsaw:20190228T170000
DTEND;TZID=Europe/Warsaw:20190228T190000
DTSTAMP:20260423T222906
CREATED:20190215T144107Z
LAST-MODIFIED:20190215T144107Z
UID:4178-1551373200-1551380400@biblioteka.szemud.pl
SUMMARY:„Dźwięki Kaszub” w Bibliotece w Bojanie
DESCRIPTION:
URL:https://biblioteka.szemud.pl/index.php/event/dzwieki-kaszub-w-bibliotece-w-bojanie-2/
LOCATION:Biblioteka w Bojanie\, ul. J. Wybickiego 38\, Bojano
ATTACH;FMTTYPE=image/jpeg:https://biblioteka.szemud.pl/wp-content/uploads/2016/10/North-hillsInternationalSchool.jpg
END:VEVENT
BEGIN:VEVENT
DTSTART;TZID=Europe/Warsaw:20190305T160000
DTEND;TZID=Europe/Warsaw:20190305T180000
DTSTAMP:20260423T222906
CREATED:20190225T102846Z
LAST-MODIFIED:20190225T102904Z
UID:4214-1551801600-1551808800@biblioteka.szemud.pl
SUMMARY:Warsztaty z okazji Dnia Kobiet w Bibliotece w Kielnie
DESCRIPTION:
URL:https://biblioteka.szemud.pl/index.php/event/warsztaty-z-okazji-dnia-kobiet-w-bibliotece-w-kielnie/
LOCATION:Biblioteka w Kielnie\, ul. Oliwska 46\, Kielno
ATTACH;FMTTYPE=image/png:https://biblioteka.szemud.pl/wp-content/uploads/2016/10/dzień-kobiet-Bojano-i-Kielno.png
END:VEVENT
END:VCALENDAR