BEGIN:VCALENDAR
VERSION:2.0
PRODID:-//Biblioteka Publiczna Gminy Szemud - ECPv6.15.20//NONSGML v1.0//EN
CALSCALE:GREGORIAN
METHOD:PUBLISH
X-WR-CALNAME:Biblioteka Publiczna Gminy Szemud
X-ORIGINAL-URL:https://biblioteka.szemud.pl
X-WR-CALDESC:Wydarzenia dla Biblioteka Publiczna Gminy Szemud
REFRESH-INTERVAL;VALUE=DURATION:PT1H
X-Robots-Tag:noindex
X-PUBLISHED-TTL:PT1H
BEGIN:VTIMEZONE
TZID:Europe/Warsaw
BEGIN:DAYLIGHT
TZOFFSETFROM:+0100
TZOFFSETTO:+0200
TZNAME:CEST
DTSTART:20220327T010000
END:DAYLIGHT
BEGIN:STANDARD
TZOFFSETFROM:+0200
TZOFFSETTO:+0100
TZNAME:CET
DTSTART:20221030T010000
END:STANDARD
BEGIN:DAYLIGHT
TZOFFSETFROM:+0100
TZOFFSETTO:+0200
TZNAME:CEST
DTSTART:20230326T010000
END:DAYLIGHT
BEGIN:STANDARD
TZOFFSETFROM:+0200
TZOFFSETTO:+0100
TZNAME:CET
DTSTART:20231029T010000
END:STANDARD
BEGIN:DAYLIGHT
TZOFFSETFROM:+0100
TZOFFSETTO:+0200
TZNAME:CEST
DTSTART:20240331T010000
END:DAYLIGHT
BEGIN:STANDARD
TZOFFSETFROM:+0200
TZOFFSETTO:+0100
TZNAME:CET
DTSTART:20241027T010000
END:STANDARD
END:VTIMEZONE
BEGIN:VEVENT
DTSTART;TZID=Europe/Warsaw:20230606T110000
DTEND;TZID=Europe/Warsaw:20230606T130000
DTSTAMP:20260419T204003
CREATED:20230529T144712Z
LAST-MODIFIED:20230529T144712Z
UID:32908-1686049200-1686056400@biblioteka.szemud.pl
SUMMARY:Spacer z zielarzem w bibliotece w Bojanie
DESCRIPTION:
URL:https://biblioteka.szemud.pl/index.php/event/spacer-z-zielarzem-w-bibliotece-w-bojanie/
LOCATION:Biblioteka w Bojanie\, ul. J. Wybickiego 38\, Bojano
ATTACH;FMTTYPE=image/png:https://biblioteka.szemud.pl/wp-content/uploads/2023/05/Ziola-2023-e1685371606540.png
END:VEVENT
BEGIN:VEVENT
DTSTART;TZID=Europe/Warsaw:20230606T123000
DTEND;TZID=Europe/Warsaw:20230606T133000
DTSTAMP:20260419T204003
CREATED:20230530T131725Z
LAST-MODIFIED:20230530T131725Z
UID:33776-1686054600-1686058200@biblioteka.szemud.pl
SUMMARY:Odwiedziny i warsztaty z Lego Mindstorms kl.6 SP Łebieńska Huta w bibliotece w Łebnie
DESCRIPTION:
URL:https://biblioteka.szemud.pl/index.php/event/odwiedziny-i-warsztaty-z-lego-mindstorms-kl-6-sp-lebienska-huta-w-bibliotece-w-lebnie/
LOCATION:Biblioteka w Łebnie\, ul. Kartuska 9\, Łebno
END:VEVENT
BEGIN:VEVENT
DTSTART;TZID=Europe/Warsaw:20230606T143000
DTEND;TZID=Europe/Warsaw:20230606T163000
DTSTAMP:20260419T204003
CREATED:20230529T141141Z
LAST-MODIFIED:20230529T142015Z
UID:32903-1686061800-1686069000@biblioteka.szemud.pl
SUMMARY:Piracki Dzień Dziecka w bibliotece w Szemudzie
DESCRIPTION:
URL:https://biblioteka.szemud.pl/index.php/event/piracki-dzien-dziecka-w-bibliotece-w-szemudzie/
LOCATION:Biblioteka w Szemudzie\, Samorządowa 1\, Szemud
ATTACH;FMTTYPE=image/png:https://biblioteka.szemud.pl/wp-content/uploads/2023/05/Dzien-Dziecka-Sz-2023-e1685369480249.png
END:VEVENT
END:VCALENDAR