BEGIN:VCALENDAR
VERSION:2.0
PRODID:-//Biblioteka Publiczna Gminy Szemud - ECPv6.15.20//NONSGML v1.0//EN
CALSCALE:GREGORIAN
METHOD:PUBLISH
X-ORIGINAL-URL:https://biblioteka.szemud.pl
X-WR-CALDESC:Wydarzenia dla Biblioteka Publiczna Gminy Szemud
REFRESH-INTERVAL;VALUE=DURATION:PT1H
X-Robots-Tag:noindex
X-PUBLISHED-TTL:PT1H
BEGIN:VTIMEZONE
TZID:Europe/Warsaw
BEGIN:DAYLIGHT
TZOFFSETFROM:+0100
TZOFFSETTO:+0200
TZNAME:CEST
DTSTART:20220327T010000
END:DAYLIGHT
BEGIN:STANDARD
TZOFFSETFROM:+0200
TZOFFSETTO:+0100
TZNAME:CET
DTSTART:20221030T010000
END:STANDARD
BEGIN:DAYLIGHT
TZOFFSETFROM:+0100
TZOFFSETTO:+0200
TZNAME:CEST
DTSTART:20230326T010000
END:DAYLIGHT
BEGIN:STANDARD
TZOFFSETFROM:+0200
TZOFFSETTO:+0100
TZNAME:CET
DTSTART:20231029T010000
END:STANDARD
BEGIN:DAYLIGHT
TZOFFSETFROM:+0100
TZOFFSETTO:+0200
TZNAME:CEST
DTSTART:20240331T010000
END:DAYLIGHT
BEGIN:STANDARD
TZOFFSETFROM:+0200
TZOFFSETTO:+0100
TZNAME:CET
DTSTART:20241027T010000
END:STANDARD
END:VTIMEZONE
BEGIN:VEVENT
DTSTART;TZID=Europe/Warsaw:20230525T150000
DTEND;TZID=Europe/Warsaw:20230525T163000
DTSTAMP:20260420T000410
CREATED:20230427T111924Z
LAST-MODIFIED:20230427T111924Z
UID:31965-1685026800-1685032200@biblioteka.szemud.pl
SUMMARY:Warsztaty "Dla Ciebie Mamo!" w bibliotece w Kielnie
DESCRIPTION:
URL:https://biblioteka.szemud.pl/index.php/event/warsztaty-dla-ciebie-mamo-w-bibliotece-w-kielnie/
LOCATION:Biblioteka w Kielnie\, ul. Oliwska 46\, Kielno
ATTACH;FMTTYPE=image/jpeg:https://biblioteka.szemud.pl/wp-content/uploads/2023/04/Biblioteka-Publiczna-W-Lebnie.jpg
END:VEVENT
BEGIN:VEVENT
DTSTART;TZID=Europe/Warsaw:20230525T160000
DTEND;TZID=Europe/Warsaw:20230525T170000
DTSTAMP:20260420T000410
CREATED:20230427T112028Z
LAST-MODIFIED:20230427T112028Z
UID:31967-1685030400-1685034000@biblioteka.szemud.pl
SUMMARY:Warsztaty kreatywne dla dzieci "Kwiatki na Dzień Matki" w bibliotece w Łebnie
DESCRIPTION:
URL:https://biblioteka.szemud.pl/index.php/event/warsztaty-kreatywne-dla-dzieci-kwiatki-na-dzien-matki-w-bibliotece-w-lebnie/
LOCATION:Biblioteka w Łebnie\, ul. Kartuska 9\, Łebno
ATTACH;FMTTYPE=image/png:https://biblioteka.szemud.pl/wp-content/uploads/2023/04/Biblioteka-Publiczna-w-Lebnie.png
END:VEVENT
BEGIN:VEVENT
DTSTART;TZID=Europe/Warsaw:20230525T170000
DTEND;TZID=Europe/Warsaw:20230525T180000
DTSTAMP:20260420T000410
CREATED:20230427T111814Z
LAST-MODIFIED:20230427T111814Z
UID:31963-1685034000-1685037600@biblioteka.szemud.pl
SUMMARY:Świętujemy Dzień Mamy - spotkanie kosmetyczne w bibliotece w Szemudzie
DESCRIPTION:
URL:https://biblioteka.szemud.pl/index.php/event/swietujemy-dzien-mamy-spotkanie-kosmetyczne-w-bibliotece-w-szemudzie/
LOCATION:Biblioteka w Szemudzie\, Samorządowa 1\, Szemud
ATTACH;FMTTYPE=image/jpeg:https://biblioteka.szemud.pl/wp-content/uploads/2023/04/Blush-Pink-Decorative-Floral-Inspirational-Quote-Poster.jpg
END:VEVENT
END:VCALENDAR