BEGIN:VCALENDAR
VERSION:2.0
PRODID:-//Biblioteka Publiczna Gminy Szemud - ECPv6.15.20//NONSGML v1.0//EN
CALSCALE:GREGORIAN
METHOD:PUBLISH
X-ORIGINAL-URL:https://biblioteka.szemud.pl
X-WR-CALDESC:Wydarzenia dla Biblioteka Publiczna Gminy Szemud
REFRESH-INTERVAL;VALUE=DURATION:PT1H
X-Robots-Tag:noindex
X-PUBLISHED-TTL:PT1H
BEGIN:VTIMEZONE
TZID:Europe/Warsaw
BEGIN:DAYLIGHT
TZOFFSETFROM:+0100
TZOFFSETTO:+0200
TZNAME:CEST
DTSTART:20220327T010000
END:DAYLIGHT
BEGIN:STANDARD
TZOFFSETFROM:+0200
TZOFFSETTO:+0100
TZNAME:CET
DTSTART:20221030T010000
END:STANDARD
BEGIN:DAYLIGHT
TZOFFSETFROM:+0100
TZOFFSETTO:+0200
TZNAME:CEST
DTSTART:20230326T010000
END:DAYLIGHT
BEGIN:STANDARD
TZOFFSETFROM:+0200
TZOFFSETTO:+0100
TZNAME:CET
DTSTART:20231029T010000
END:STANDARD
BEGIN:DAYLIGHT
TZOFFSETFROM:+0100
TZOFFSETTO:+0200
TZNAME:CEST
DTSTART:20240331T010000
END:DAYLIGHT
BEGIN:STANDARD
TZOFFSETFROM:+0200
TZOFFSETTO:+0100
TZNAME:CET
DTSTART:20241027T010000
END:STANDARD
END:VTIMEZONE
BEGIN:VEVENT
DTSTART;TZID=Europe/Warsaw:20230523T130000
DTEND;TZID=Europe/Warsaw:20230523T150000
DTSTAMP:20260420T000340
CREATED:20230427T111022Z
LAST-MODIFIED:20230427T111049Z
UID:31957-1684846800-1684854000@biblioteka.szemud.pl
SUMMARY:Warsztaty Lego Mindstorms w bibliotece w Łebnie
DESCRIPTION:
URL:https://biblioteka.szemud.pl/index.php/event/warsztaty-lego-mindstorms-w-bibliotece-w-lebnie-2/
LOCATION:Biblioteka w Łebnie\, ul. Kartuska 9\, Łebno
ATTACH;FMTTYPE=image/png:https://biblioteka.szemud.pl/wp-content/uploads/2023/04/Lego-V-2023.png
END:VEVENT
BEGIN:VEVENT
DTSTART;TZID=Europe/Warsaw:20230523T143000
DTEND;TZID=Europe/Warsaw:20230523T153000
DTSTAMP:20260420T000340
CREATED:20230427T111204Z
LAST-MODIFIED:20230427T111227Z
UID:31959-1684852200-1684855800@biblioteka.szemud.pl
SUMMARY:Kreatywne warsztaty "Upominek dla mamy" w bibliotece w Szemudzie
DESCRIPTION:
URL:https://biblioteka.szemud.pl/index.php/event/kreatywne-warsztaty-upominek-dla-mamy-w-bibliotece-w-szemudzie/
LOCATION:Biblioteka w Szemudzie\, Samorządowa 1\, Szemud
ATTACH;FMTTYPE=image/png:https://biblioteka.szemud.pl/wp-content/uploads/2023/04/Upominek-Dzien-Matki-Szemud-V-2023.png
END:VEVENT
BEGIN:VEVENT
DTSTART;TZID=Europe/Warsaw:20230523T160000
DTEND;TZID=Europe/Warsaw:20230523T180000
DTSTAMP:20260420T000340
CREATED:20230427T111411Z
LAST-MODIFIED:20230427T111411Z
UID:31961-1684857600-1684864800@biblioteka.szemud.pl
SUMMARY:Wykład dr Teresy Opalińskiej - Gdy tarczyca choruje w bibliotece w Kielnie
DESCRIPTION:
URL:https://biblioteka.szemud.pl/index.php/event/wyklad-dr-teresy-opalinskiej-gdy-tarczyca-choruje-w-bibliotece-w-kielnie/
LOCATION:Biblioteka w Kielnie\, ul. Oliwska 46\, Kielno
ATTACH;FMTTYPE=image/png:https://biblioteka.szemud.pl/wp-content/uploads/2023/04/Wyklad-zdrowie-V-2023.png
END:VEVENT
END:VCALENDAR