BEGIN:VCALENDAR
VERSION:2.0
PRODID:-//Biblioteka Publiczna Gminy Szemud - ECPv6.15.20//NONSGML v1.0//EN
CALSCALE:GREGORIAN
METHOD:PUBLISH
X-ORIGINAL-URL:https://biblioteka.szemud.pl
X-WR-CALDESC:Wydarzenia dla Biblioteka Publiczna Gminy Szemud
REFRESH-INTERVAL;VALUE=DURATION:PT1H
X-Robots-Tag:noindex
X-PUBLISHED-TTL:PT1H
BEGIN:VTIMEZONE
TZID:Europe/Warsaw
BEGIN:DAYLIGHT
TZOFFSETFROM:+0100
TZOFFSETTO:+0200
TZNAME:CEST
DTSTART:20220327T010000
END:DAYLIGHT
BEGIN:STANDARD
TZOFFSETFROM:+0200
TZOFFSETTO:+0100
TZNAME:CET
DTSTART:20221030T010000
END:STANDARD
BEGIN:DAYLIGHT
TZOFFSETFROM:+0100
TZOFFSETTO:+0200
TZNAME:CEST
DTSTART:20230326T010000
END:DAYLIGHT
BEGIN:STANDARD
TZOFFSETFROM:+0200
TZOFFSETTO:+0100
TZNAME:CET
DTSTART:20231029T010000
END:STANDARD
BEGIN:DAYLIGHT
TZOFFSETFROM:+0100
TZOFFSETTO:+0200
TZNAME:CEST
DTSTART:20240331T010000
END:DAYLIGHT
BEGIN:STANDARD
TZOFFSETFROM:+0200
TZOFFSETTO:+0100
TZNAME:CET
DTSTART:20241027T010000
END:STANDARD
END:VTIMEZONE
BEGIN:VEVENT
DTSTART;TZID=Europe/Warsaw:20230126T100000
DTEND;TZID=Europe/Warsaw:20230126T110000
DTSTAMP:20260420T065153
CREATED:20230103T162213Z
LAST-MODIFIED:20230103T162213Z
UID:28421-1674727200-1674730800@biblioteka.szemud.pl
SUMMARY:Spotkanie z bajką w bibliotece w Szemudzie
DESCRIPTION:
URL:https://biblioteka.szemud.pl/index.php/event/spotkanie-z-bajka-w-bibliotece-w-szemudzie/
LOCATION:Biblioteka w Szemudzie\, Samorządowa 1\, Szemud
ATTACH;FMTTYPE=image/png:https://biblioteka.szemud.pl/wp-content/uploads/2023/01/Biblioteka-Publiczna-w-Szemudzie.png
END:VEVENT
BEGIN:VEVENT
DTSTART;TZID=Europe/Warsaw:20230126T100000
DTEND;TZID=Europe/Warsaw:20230126T113000
DTSTAMP:20260420T065153
CREATED:20230103T162327Z
LAST-MODIFIED:20230103T162327Z
UID:28423-1674727200-1674732600@biblioteka.szemud.pl
SUMMARY:Warsztaty "Naczynie z gliny ceramicznej" w bibliotece w Łebnie
DESCRIPTION:
URL:https://biblioteka.szemud.pl/index.php/event/warsztaty-naczynie-z-gliny-ceramicznej-w-bibliotece-w-lebnie/
LOCATION:Biblioteka w Łebnie\, ul. Kartuska 9\, Łebno
ATTACH;FMTTYPE=image/png:https://biblioteka.szemud.pl/wp-content/uploads/2023/01/Biblioteka-Publiczna-w-Lebnie.png
END:VEVENT
BEGIN:VEVENT
DTSTART;TZID=Europe/Warsaw:20230126T110000
DTEND;TZID=Europe/Warsaw:20230126T123000
DTSTAMP:20260420T065153
CREATED:20230103T162509Z
LAST-MODIFIED:20230103T162509Z
UID:28427-1674730800-1674736200@biblioteka.szemud.pl
SUMMARY:Planszomania w bibliotece w Kielnie
DESCRIPTION:
URL:https://biblioteka.szemud.pl/index.php/event/planszomania-w-bibliotece-w-kielnie-4/
LOCATION:Biblioteka w Kielnie\, ul. Oliwska 46\, Kielno
ATTACH;FMTTYPE=image/png:https://biblioteka.szemud.pl/wp-content/uploads/2023/01/Biblioteka-Publiczna-w-Kielnie.png
END:VEVENT
BEGIN:VEVENT
DTSTART;TZID=Europe/Warsaw:20230126T120000
DTEND;TZID=Europe/Warsaw:20230126T130000
DTSTAMP:20260420T065153
CREATED:20230103T162410Z
LAST-MODIFIED:20230103T162410Z
UID:28425-1674734400-1674738000@biblioteka.szemud.pl
SUMMARY:Muzykowanie z gitarą w bibliotece w Łebnie
DESCRIPTION:
URL:https://biblioteka.szemud.pl/index.php/event/muzykowanie-z-gitara-w-bibliotece-w-lebnie-2/
LOCATION:Biblioteka w Łebnie\, ul. Kartuska 9\, Łebno
ATTACH;FMTTYPE=image/png:https://biblioteka.szemud.pl/wp-content/uploads/2023/01/Biblioteka-Publiczna-w-Lebnie.png
END:VEVENT
BEGIN:VEVENT
DTSTART;TZID=Europe/Warsaw:20230126T120000
DTEND;TZID=Europe/Warsaw:20230126T143000
DTSTAMP:20260420T065153
CREATED:20230103T162643Z
LAST-MODIFIED:20230103T162643Z
UID:28431-1674734400-1674743400@biblioteka.szemud.pl
SUMMARY:Klub Planszomaniaka w bibliotece w Bojanie
DESCRIPTION:
URL:https://biblioteka.szemud.pl/index.php/event/klub-planszomaniaka-w-bibliotece-w-bojanie/
LOCATION:Biblioteka w Bojanie\, ul. J. Wybickiego 38\, Bojano
ATTACH;FMTTYPE=image/png:https://biblioteka.szemud.pl/wp-content/uploads/2023/01/Ferie-w-Bibliotece-w-Bojanie.png
END:VEVENT
BEGIN:VEVENT
DTSTART;TZID=Europe/Warsaw:20230126T140000
DTEND;TZID=Europe/Warsaw:20230126T150000
DTSTAMP:20260420T065153
CREATED:20230103T162553Z
LAST-MODIFIED:20230103T162553Z
UID:28429-1674741600-1674745200@biblioteka.szemud.pl
SUMMARY:Warsztaty z robotem Photon w bibliotece w Kielnie
DESCRIPTION:
URL:https://biblioteka.szemud.pl/index.php/event/warsztaty-z-robotem-photon-w-bibliotece-w-kielnie/
LOCATION:Biblioteka w Kielnie\, ul. Oliwska 46\, Kielno
ATTACH;FMTTYPE=image/png:https://biblioteka.szemud.pl/wp-content/uploads/2023/01/Biblioteka-Publiczna-w-Kielnie.png
END:VEVENT
END:VCALENDAR