BEGIN:VCALENDAR
VERSION:2.0
PRODID:-//Biblioteka Publiczna Gminy Szemud - ECPv6.15.20//NONSGML v1.0//EN
CALSCALE:GREGORIAN
METHOD:PUBLISH
X-WR-CALNAME:Biblioteka Publiczna Gminy Szemud
X-ORIGINAL-URL:https://biblioteka.szemud.pl
X-WR-CALDESC:Wydarzenia dla Biblioteka Publiczna Gminy Szemud
REFRESH-INTERVAL;VALUE=DURATION:PT1H
X-Robots-Tag:noindex
X-PUBLISHED-TTL:PT1H
BEGIN:VTIMEZONE
TZID:Europe/Warsaw
BEGIN:DAYLIGHT
TZOFFSETFROM:+0100
TZOFFSETTO:+0200
TZNAME:CEST
DTSTART:20220327T010000
END:DAYLIGHT
BEGIN:STANDARD
TZOFFSETFROM:+0200
TZOFFSETTO:+0100
TZNAME:CET
DTSTART:20221030T010000
END:STANDARD
BEGIN:DAYLIGHT
TZOFFSETFROM:+0100
TZOFFSETTO:+0200
TZNAME:CEST
DTSTART:20230326T010000
END:DAYLIGHT
BEGIN:STANDARD
TZOFFSETFROM:+0200
TZOFFSETTO:+0100
TZNAME:CET
DTSTART:20231029T010000
END:STANDARD
BEGIN:DAYLIGHT
TZOFFSETFROM:+0100
TZOFFSETTO:+0200
TZNAME:CEST
DTSTART:20240331T010000
END:DAYLIGHT
BEGIN:STANDARD
TZOFFSETFROM:+0200
TZOFFSETTO:+0100
TZNAME:CET
DTSTART:20241027T010000
END:STANDARD
END:VTIMEZONE
BEGIN:VEVENT
DTSTART;TZID=Europe/Warsaw:20230119T100000
DTEND;TZID=Europe/Warsaw:20230119T113000
DTSTAMP:20260420T064959
CREATED:20230103T152244Z
LAST-MODIFIED:20230103T152244Z
UID:28391-1674122400-1674127800@biblioteka.szemud.pl
SUMMARY:Warsztaty "Maska karnawałowa" w bibliotece w Szemudzie
DESCRIPTION:
URL:https://biblioteka.szemud.pl/index.php/event/warsztaty-maska-karnawalowa-w-bibliotece-w-szemudzie-2/
ATTACH;FMTTYPE=image/png:https://biblioteka.szemud.pl/wp-content/uploads/2023/01/Biblioteka-Publiczna-w-Szemudzie.png
END:VEVENT
BEGIN:VEVENT
DTSTART;TZID=Europe/Warsaw:20230119T100000
DTEND;TZID=Europe/Warsaw:20230119T113000
DTSTAMP:20260420T064959
CREATED:20230103T153124Z
LAST-MODIFIED:20230103T153124Z
UID:28395-1674122400-1674127800@biblioteka.szemud.pl
SUMMARY:Warsztaty "Pejzaż – nauka rysowania" w bibliotece w Łebnie
DESCRIPTION:
URL:https://biblioteka.szemud.pl/index.php/event/warsztaty-pejzaz-nauka-rysowania-w-bibliotece-w-lebnie/
LOCATION:Biblioteka w Łebnie\, ul. Kartuska 9\, Łebno
ATTACH;FMTTYPE=image/png:https://biblioteka.szemud.pl/wp-content/uploads/2023/01/Biblioteka-Publiczna-w-Lebnie.png
END:VEVENT
BEGIN:VEVENT
DTSTART;TZID=Europe/Warsaw:20230119T110000
DTEND;TZID=Europe/Warsaw:20230119T130000
DTSTAMP:20260420T064959
CREATED:20230103T152354Z
LAST-MODIFIED:20230103T152354Z
UID:28393-1674126000-1674133200@biblioteka.szemud.pl
SUMMARY:Warsztaty "Upominek dla Babci i Dziadka" w bibliotece w Kielnie
DESCRIPTION:
URL:https://biblioteka.szemud.pl/index.php/event/warsztaty-upominek-dla-babci-i-dziadka-w-bibliotece-w-kielnie/
LOCATION:Biblioteka w Kielnie\, ul. Oliwska 46\, Kielno
ATTACH;FMTTYPE=image/png:https://biblioteka.szemud.pl/wp-content/uploads/2023/01/Biblioteka-Publiczna-w-Kielnie.png
END:VEVENT
BEGIN:VEVENT
DTSTART;TZID=Europe/Warsaw:20230119T120000
DTEND;TZID=Europe/Warsaw:20230119T130000
DTSTAMP:20260420T064959
CREATED:20230103T153240Z
LAST-MODIFIED:20230103T153240Z
UID:28397-1674129600-1674133200@biblioteka.szemud.pl
SUMMARY:Muzykowanie z gitarą w bibliotece w Łebnie
DESCRIPTION:
URL:https://biblioteka.szemud.pl/index.php/event/muzykowanie-z-gitara-w-bibliotece-w-lebnie/
ATTACH;FMTTYPE=image/png:https://biblioteka.szemud.pl/wp-content/uploads/2023/01/Biblioteka-Publiczna-w-Lebnie.png
END:VEVENT
BEGIN:VEVENT
DTSTART;TZID=Europe/Warsaw:20230119T150000
DTEND;TZID=Europe/Warsaw:20230119T170000
DTSTAMP:20260420T064959
CREATED:20230103T153408Z
LAST-MODIFIED:20230103T153408Z
UID:28399-1674140400-1674147600@biblioteka.szemud.pl
SUMMARY:Kino feryjne w bibliotece w Bojanie
DESCRIPTION:
URL:https://biblioteka.szemud.pl/index.php/event/kino-feryjne-w-bibliotece-w-bojanie/
LOCATION:Biblioteka w Bojanie\, ul. J. Wybickiego 38\, Bojano
ATTACH;FMTTYPE=image/png:https://biblioteka.szemud.pl/wp-content/uploads/2023/01/Ferie-w-Bibliotece-w-Bojanie.png
END:VEVENT
END:VCALENDAR