BEGIN:VCALENDAR
VERSION:2.0
PRODID:-//Biblioteka Publiczna Gminy Szemud - ECPv6.15.20//NONSGML v1.0//EN
CALSCALE:GREGORIAN
METHOD:PUBLISH
X-ORIGINAL-URL:https://biblioteka.szemud.pl
X-WR-CALDESC:Wydarzenia dla Biblioteka Publiczna Gminy Szemud
REFRESH-INTERVAL;VALUE=DURATION:PT1H
X-Robots-Tag:noindex
X-PUBLISHED-TTL:PT1H
BEGIN:VTIMEZONE
TZID:Europe/Warsaw
BEGIN:DAYLIGHT
TZOFFSETFROM:+0100
TZOFFSETTO:+0200
TZNAME:CEST
DTSTART:20220327T010000
END:DAYLIGHT
BEGIN:STANDARD
TZOFFSETFROM:+0200
TZOFFSETTO:+0100
TZNAME:CET
DTSTART:20221030T010000
END:STANDARD
BEGIN:DAYLIGHT
TZOFFSETFROM:+0100
TZOFFSETTO:+0200
TZNAME:CEST
DTSTART:20230326T010000
END:DAYLIGHT
BEGIN:STANDARD
TZOFFSETFROM:+0200
TZOFFSETTO:+0100
TZNAME:CET
DTSTART:20231029T010000
END:STANDARD
BEGIN:DAYLIGHT
TZOFFSETFROM:+0100
TZOFFSETTO:+0200
TZNAME:CEST
DTSTART:20240331T010000
END:DAYLIGHT
BEGIN:STANDARD
TZOFFSETFROM:+0200
TZOFFSETTO:+0100
TZNAME:CET
DTSTART:20241027T010000
END:STANDARD
END:VTIMEZONE
BEGIN:VEVENT
DTSTART;TZID=Europe/Warsaw:20230117T100000
DTEND;TZID=Europe/Warsaw:20230117T120000
DTSTAMP:20260420T065134
CREATED:20230103T150625Z
LAST-MODIFIED:20230103T153608Z
UID:28379-1673949600-1673956800@biblioteka.szemud.pl
SUMMARY:Wesołe gry planszowe w bibliotece w Łebnie
DESCRIPTION:
URL:https://biblioteka.szemud.pl/index.php/event/wesole-gry-planszowe-w-bibliotece-w-lebnie/
LOCATION:Biblioteka w Łebnie\, ul. Kartuska 9\, Łebno
ATTACH;FMTTYPE=image/png:https://biblioteka.szemud.pl/wp-content/uploads/2023/01/Biblioteka-Publiczna-w-Lebnie.png
END:VEVENT
BEGIN:VEVENT
DTSTART;TZID=Europe/Warsaw:20230117T100000
DTEND;TZID=Europe/Warsaw:20230117T130000
DTSTAMP:20260420T065134
CREATED:20230103T150725Z
LAST-MODIFIED:20230103T150725Z
UID:28381-1673949600-1673960400@biblioteka.szemud.pl
SUMMARY:Warsztaty z Lego Mindstorms w bibliotece w Szemudzie
DESCRIPTION:
URL:https://biblioteka.szemud.pl/index.php/event/warsztaty-z-lego-mindstorms-w-bibliotece-w-szemudzie-10/
LOCATION:Biblioteka w Szemudzie\, Samorządowa 1\, Szemud
ATTACH;FMTTYPE=image/png:https://biblioteka.szemud.pl/wp-content/uploads/2023/01/Biblioteka-Publiczna-w-Szemudzie.png
END:VEVENT
BEGIN:VEVENT
DTSTART;TZID=Europe/Warsaw:20230117T110000
DTEND;TZID=Europe/Warsaw:20230117T123000
DTSTAMP:20260420T065134
CREATED:20230103T151537Z
LAST-MODIFIED:20230103T151537Z
UID:28383-1673953200-1673958600@biblioteka.szemud.pl
SUMMARY:Warsztaty "Pejzaż suchymi pastelami" w bibliotece w Bojanie
DESCRIPTION:
URL:https://biblioteka.szemud.pl/index.php/event/warsztaty-pejzaz-suchymi-pastelami-w-bibliotece-w-bojanie/
LOCATION:Hala sportowa w Bojanie\, ul. Wybickiego 38\, 84-207 Koleczkowo
ATTACH;FMTTYPE=image/png:https://biblioteka.szemud.pl/wp-content/uploads/2023/01/Ferie-w-Bibliotece-w-Bojanie.png
END:VEVENT
BEGIN:VEVENT
DTSTART;TZID=Europe/Warsaw:20230117T130000
DTEND;TZID=Europe/Warsaw:20230117T140000
DTSTAMP:20260420T065134
CREATED:20230103T151626Z
LAST-MODIFIED:20230103T153701Z
UID:28385-1673960400-1673964000@biblioteka.szemud.pl
SUMMARY:Muzykowanie z gitarą w bibliotece w Bojanie
DESCRIPTION:
URL:https://biblioteka.szemud.pl/index.php/event/muzykowanie-z-gitara-w-bibliotece-w-bojanie-2/
LOCATION:Biblioteka w Bojanie\, ul. J. Wybickiego 38\, Bojano
ATTACH;FMTTYPE=image/png:https://biblioteka.szemud.pl/wp-content/uploads/2023/01/Ferie-w-Bibliotece-w-Bojanie.png
END:VEVENT
END:VCALENDAR