BEGIN:VCALENDAR
VERSION:2.0
PRODID:-//Biblioteka Publiczna Gminy Szemud - ECPv6.15.20//NONSGML v1.0//EN
CALSCALE:GREGORIAN
METHOD:PUBLISH
X-WR-CALNAME:Biblioteka Publiczna Gminy Szemud
X-ORIGINAL-URL:https://biblioteka.szemud.pl
X-WR-CALDESC:Wydarzenia dla Biblioteka Publiczna Gminy Szemud
REFRESH-INTERVAL;VALUE=DURATION:PT1H
X-Robots-Tag:noindex
X-PUBLISHED-TTL:PT1H
BEGIN:VTIMEZONE
TZID:Europe/Warsaw
BEGIN:DAYLIGHT
TZOFFSETFROM:+0100
TZOFFSETTO:+0200
TZNAME:CEST
DTSTART:20220327T010000
END:DAYLIGHT
BEGIN:STANDARD
TZOFFSETFROM:+0200
TZOFFSETTO:+0100
TZNAME:CET
DTSTART:20221030T010000
END:STANDARD
BEGIN:DAYLIGHT
TZOFFSETFROM:+0100
TZOFFSETTO:+0200
TZNAME:CEST
DTSTART:20230326T010000
END:DAYLIGHT
BEGIN:STANDARD
TZOFFSETFROM:+0200
TZOFFSETTO:+0100
TZNAME:CET
DTSTART:20231029T010000
END:STANDARD
BEGIN:DAYLIGHT
TZOFFSETFROM:+0100
TZOFFSETTO:+0200
TZNAME:CEST
DTSTART:20240331T010000
END:DAYLIGHT
BEGIN:STANDARD
TZOFFSETFROM:+0200
TZOFFSETTO:+0100
TZNAME:CET
DTSTART:20241027T010000
END:STANDARD
END:VTIMEZONE
BEGIN:VEVENT
DTSTART;TZID=Europe/Warsaw:20230116T100000
DTEND;TZID=Europe/Warsaw:20230116T120000
DTSTAMP:20260420T064957
CREATED:20230102T161548Z
LAST-MODIFIED:20230102T161548Z
UID:28371-1673863200-1673870400@biblioteka.szemud.pl
SUMMARY:Warsztaty "Pudełko dla Babci i Dziadka" w bibliotece w Łebnie
DESCRIPTION:
URL:https://biblioteka.szemud.pl/index.php/event/warsztaty-pudelko-dla-babci-i-dziadka-w-bibliotece-w-lebnie/
LOCATION:Biblioteka w Łebnie\, ul. Kartuska 9\, Łebno
ATTACH;FMTTYPE=image/png:https://biblioteka.szemud.pl/wp-content/uploads/2023/01/Biblioteka-Publiczna-w-Lebnie.png
END:VEVENT
BEGIN:VEVENT
DTSTART;TZID=Europe/Warsaw:20230116T100000
DTEND;TZID=Europe/Warsaw:20230116T120000
DTSTAMP:20260420T064957
CREATED:20230102T161633Z
LAST-MODIFIED:20230102T161633Z
UID:28373-1673863200-1673870400@biblioteka.szemud.pl
SUMMARY:Planszomania w bibliotece w Szemudzie
DESCRIPTION:
URL:https://biblioteka.szemud.pl/index.php/event/planszomania-w-bibliotece-w-szemudzie-8/
LOCATION:Biblioteka w Szemudzie\, Samorządowa 1\, Szemud
ATTACH;FMTTYPE=image/png:https://biblioteka.szemud.pl/wp-content/uploads/2023/01/Biblioteka-Publiczna-w-Szemudzie.png
END:VEVENT
BEGIN:VEVENT
DTSTART;TZID=Europe/Warsaw:20230116T110000
DTEND;TZID=Europe/Warsaw:20230116T123000
DTSTAMP:20260420T064957
CREATED:20230102T161743Z
LAST-MODIFIED:20230102T161743Z
UID:28375-1673866800-1673872200@biblioteka.szemud.pl
SUMMARY:Warsztaty "Pejzaż suchymi pastelami" w bibliotece w Kielnie
DESCRIPTION:
URL:https://biblioteka.szemud.pl/index.php/event/warsztaty-pejzaz-suchymi-pastelami-w-bibliotece-w-kielnie/
LOCATION:Biblioteka w Kielnie\, ul. Oliwska 46\, Kielno
ATTACH;FMTTYPE=image/png:https://biblioteka.szemud.pl/wp-content/uploads/2023/01/Biblioteka-Publiczna-w-Kielnie.png
END:VEVENT
BEGIN:VEVENT
DTSTART;TZID=Europe/Warsaw:20230116T140000
DTEND;TZID=Europe/Warsaw:20230116T150000
DTSTAMP:20260420T064957
CREATED:20230103T150443Z
LAST-MODIFIED:20230103T150443Z
UID:28377-1673877600-1673881200@biblioteka.szemud.pl
SUMMARY:Muzykowanie z gitarą w bibliotece w Kielnie
DESCRIPTION:
URL:https://biblioteka.szemud.pl/index.php/event/muzykowanie-z-gitara-w-bibliotece-w-kielnie/
LOCATION:Biblioteka w Kielnie\, ul. Oliwska 46\, Kielno
ATTACH;FMTTYPE=image/png:https://biblioteka.szemud.pl/wp-content/uploads/2023/01/Biblioteka-Publiczna-w-Kielnie.png
END:VEVENT
END:VCALENDAR