BEGIN:VCALENDAR
VERSION:2.0
PRODID:-//Biblioteka Publiczna Gminy Szemud - ECPv6.15.20//NONSGML v1.0//EN
CALSCALE:GREGORIAN
METHOD:PUBLISH
X-WR-CALNAME:Biblioteka Publiczna Gminy Szemud
X-ORIGINAL-URL:https://biblioteka.szemud.pl
X-WR-CALDESC:Wydarzenia dla Biblioteka Publiczna Gminy Szemud
REFRESH-INTERVAL;VALUE=DURATION:PT1H
X-Robots-Tag:noindex
X-PUBLISHED-TTL:PT1H
BEGIN:VTIMEZONE
TZID:Europe/Warsaw
BEGIN:DAYLIGHT
TZOFFSETFROM:+0100
TZOFFSETTO:+0200
TZNAME:CEST
DTSTART:20210328T010000
END:DAYLIGHT
BEGIN:STANDARD
TZOFFSETFROM:+0200
TZOFFSETTO:+0100
TZNAME:CET
DTSTART:20211031T010000
END:STANDARD
BEGIN:DAYLIGHT
TZOFFSETFROM:+0100
TZOFFSETTO:+0200
TZNAME:CEST
DTSTART:20220327T010000
END:DAYLIGHT
BEGIN:STANDARD
TZOFFSETFROM:+0200
TZOFFSETTO:+0100
TZNAME:CET
DTSTART:20221030T010000
END:STANDARD
BEGIN:DAYLIGHT
TZOFFSETFROM:+0100
TZOFFSETTO:+0200
TZNAME:CEST
DTSTART:20230326T010000
END:DAYLIGHT
BEGIN:STANDARD
TZOFFSETFROM:+0200
TZOFFSETTO:+0100
TZNAME:CET
DTSTART:20231029T010000
END:STANDARD
END:VTIMEZONE
BEGIN:VEVENT
DTSTART;TZID=Europe/Warsaw:20221201T160000
DTEND;TZID=Europe/Warsaw:20221201T180000
DTSTAMP:20260420T083746
CREATED:20221107T133505Z
LAST-MODIFIED:20221107T133505Z
UID:27088-1669910400-1669917600@biblioteka.szemud.pl
SUMMARY:Świąteczne warsztaty kreatywne "Choinka makramowa - breloczek" w bibliotece w Łebnie
DESCRIPTION:
URL:https://biblioteka.szemud.pl/index.php/event/swiateczne-warsztaty-kreatywne-choinka-makramowa-breloczek-w-bibliotece-w-lebnie/
LOCATION:Biblioteka w Łebnie\, ul. Kartuska 9\, Łebno
ATTACH;FMTTYPE=image/png:https://biblioteka.szemud.pl/wp-content/uploads/2022/11/Warsztaty-Makramowe-w-Lebnie.png
END:VEVENT
BEGIN:VEVENT
DTSTART;TZID=Europe/Warsaw:20221201T160000
DTEND;TZID=Europe/Warsaw:20221201T180000
DTSTAMP:20260420T083746
CREATED:20221117T134056Z
LAST-MODIFIED:20221117T134056Z
UID:27242-1669910400-1669917600@biblioteka.szemud.pl
SUMMARY:Warsztaty "Zimowe bombki" w bibliotece w Bojanie
DESCRIPTION:
URL:https://biblioteka.szemud.pl/index.php/event/warsztaty-zimowe-bombki-w-bibliotece-w-bojanie/
LOCATION:Biblioteka w Bojanie\, ul. J. Wybickiego 38\, Bojano
ATTACH;FMTTYPE=image/png:https://biblioteka.szemud.pl/wp-content/uploads/2022/11/Warsztaty-swiateczne-Bojano.png
END:VEVENT
BEGIN:VEVENT
DTSTART;TZID=Europe/Warsaw:20221201T190000
DTEND;TZID=Europe/Warsaw:20221201T193000
DTSTAMP:20260420T083746
CREATED:20221124T154723Z
LAST-MODIFIED:20221124T154723Z
UID:27458-1669921200-1669923000@biblioteka.szemud.pl
SUMMARY:Wykład "Powstanie listopadowe - jak pokonać Rosję?"
DESCRIPTION:
URL:https://biblioteka.szemud.pl/index.php/event/wyklad-powstanie-listopadowe-jak-pokonac-rosje/
LOCATION:Biblioteka w Kielnie\, ul. Oliwska 46\, Kielno
ATTACH;FMTTYPE=image/png:https://biblioteka.szemud.pl/wp-content/uploads/2022/11/wyklad.png
END:VEVENT
END:VCALENDAR