BEGIN:VCALENDAR
VERSION:2.0
PRODID:-//Biblioteka Publiczna Gminy Szemud - ECPv6.15.20//NONSGML v1.0//EN
CALSCALE:GREGORIAN
METHOD:PUBLISH
X-WR-CALNAME:Biblioteka Publiczna Gminy Szemud
X-ORIGINAL-URL:https://biblioteka.szemud.pl
X-WR-CALDESC:Wydarzenia dla Biblioteka Publiczna Gminy Szemud
REFRESH-INTERVAL;VALUE=DURATION:PT1H
X-Robots-Tag:noindex
X-PUBLISHED-TTL:PT1H
BEGIN:VTIMEZONE
TZID:Europe/Warsaw
BEGIN:DAYLIGHT
TZOFFSETFROM:+0100
TZOFFSETTO:+0200
TZNAME:CEST
DTSTART:20210328T010000
END:DAYLIGHT
BEGIN:STANDARD
TZOFFSETFROM:+0200
TZOFFSETTO:+0100
TZNAME:CET
DTSTART:20211031T010000
END:STANDARD
BEGIN:DAYLIGHT
TZOFFSETFROM:+0100
TZOFFSETTO:+0200
TZNAME:CEST
DTSTART:20220327T010000
END:DAYLIGHT
BEGIN:STANDARD
TZOFFSETFROM:+0200
TZOFFSETTO:+0100
TZNAME:CET
DTSTART:20221030T010000
END:STANDARD
BEGIN:DAYLIGHT
TZOFFSETFROM:+0100
TZOFFSETTO:+0200
TZNAME:CEST
DTSTART:20230326T010000
END:DAYLIGHT
BEGIN:STANDARD
TZOFFSETFROM:+0200
TZOFFSETTO:+0100
TZNAME:CET
DTSTART:20231029T010000
END:STANDARD
END:VTIMEZONE
BEGIN:VEVENT
DTSTART;TZID=Europe/Warsaw:20221124T085000
DTEND;TZID=Europe/Warsaw:20221124T103000
DTSTAMP:20260420T101603
CREATED:20221027T125953Z
LAST-MODIFIED:20221027T130010Z
UID:26990-1669279800-1669285800@biblioteka.szemud.pl
SUMMARY:Warsztaty "Mapa myśli - kreatywne notatki" w bibliotece w Bojanie
DESCRIPTION:
URL:https://biblioteka.szemud.pl/index.php/event/warsztaty-mapa-mysli-kreatywne-notatki-w-bibliotece-w-bojanie/
LOCATION:Biblioteka w Bojanie\, ul. J. Wybickiego 38\, Bojano
ATTACH;FMTTYPE=image/png:https://biblioteka.szemud.pl/wp-content/uploads/2022/10/Mapa-mysli-warsztaty.png
END:VEVENT
BEGIN:VEVENT
DTSTART;TZID=Europe/Warsaw:20221124T111500
DTEND;TZID=Europe/Warsaw:20221124T130000
DTSTAMP:20260420T101603
CREATED:20221027T130112Z
LAST-MODIFIED:20221027T130112Z
UID:26992-1669288500-1669294800@biblioteka.szemud.pl
SUMMARY:Warsztaty "Mapa myśli - kreatywne notatki" w bibliotece w Kielnie
DESCRIPTION:
URL:https://biblioteka.szemud.pl/index.php/event/warsztaty-mapa-mysli-kreatywne-notatki-w-bibliotece-w-kielnie/
LOCATION:Biblioteka w Kielnie\, ul. Oliwska 46\, Kielno
ATTACH;FMTTYPE=image/png:https://biblioteka.szemud.pl/wp-content/uploads/2022/10/Mapa-mysli-warsztaty.png
END:VEVENT
BEGIN:VEVENT
DTSTART;TZID=Europe/Warsaw:20221124T143000
DTEND;TZID=Europe/Warsaw:20221124T163000
DTSTAMP:20260420T101603
CREATED:20221027T151246Z
LAST-MODIFIED:20221027T151246Z
UID:27032-1669300200-1669307400@biblioteka.szemud.pl
SUMMARY:Warsztaty z Lego Mindstorms w bibliotece w Szemudzie
DESCRIPTION:
URL:https://biblioteka.szemud.pl/index.php/event/warsztaty-z-lego-mindstorms-w-bibliotece-w-szemudzie-9/
LOCATION:Biblioteka w Szemudzie\, Samorządowa 1\, Szemud
ATTACH;FMTTYPE=image/png:https://biblioteka.szemud.pl/wp-content/uploads/2022/10/Lego-XI-2022.png
END:VEVENT
BEGIN:VEVENT
DTSTART;TZID=Europe/Warsaw:20221124T160000
DTEND;TZID=Europe/Warsaw:20221124T180000
DTSTAMP:20260420T101603
CREATED:20221027T134438Z
LAST-MODIFIED:20221027T134438Z
UID:27003-1669305600-1669312800@biblioteka.szemud.pl
SUMMARY:Wykład "Aby pożywienie było lekarstwem\, a lekarstwo pożywieniem" w bibliotece w Kielnie
DESCRIPTION:
URL:https://biblioteka.szemud.pl/index.php/event/wyklad-aby-pozywienie-bylo-lekarstwem-a-lekarstwo-pozywieniem-w-bibliotece-w-kielnie/
LOCATION:Biblioteka w Kielnie\, ul. Oliwska 46\, Kielno
ATTACH;FMTTYPE=image/png:https://biblioteka.szemud.pl/wp-content/uploads/2022/10/Wyklad-zdrowie-XI-2022-1.png
END:VEVENT
END:VCALENDAR