BEGIN:VCALENDAR
VERSION:2.0
PRODID:-//Biblioteka Publiczna Gminy Szemud - ECPv6.15.20//NONSGML v1.0//EN
CALSCALE:GREGORIAN
METHOD:PUBLISH
X-ORIGINAL-URL:https://biblioteka.szemud.pl
X-WR-CALDESC:Wydarzenia dla Biblioteka Publiczna Gminy Szemud
REFRESH-INTERVAL;VALUE=DURATION:PT1H
X-Robots-Tag:noindex
X-PUBLISHED-TTL:PT1H
BEGIN:VTIMEZONE
TZID:Europe/Warsaw
BEGIN:DAYLIGHT
TZOFFSETFROM:+0100
TZOFFSETTO:+0200
TZNAME:CEST
DTSTART:20210328T010000
END:DAYLIGHT
BEGIN:STANDARD
TZOFFSETFROM:+0200
TZOFFSETTO:+0100
TZNAME:CET
DTSTART:20211031T010000
END:STANDARD
BEGIN:DAYLIGHT
TZOFFSETFROM:+0100
TZOFFSETTO:+0200
TZNAME:CEST
DTSTART:20220327T010000
END:DAYLIGHT
BEGIN:STANDARD
TZOFFSETFROM:+0200
TZOFFSETTO:+0100
TZNAME:CET
DTSTART:20221030T010000
END:STANDARD
BEGIN:DAYLIGHT
TZOFFSETFROM:+0100
TZOFFSETTO:+0200
TZNAME:CEST
DTSTART:20230326T010000
END:DAYLIGHT
BEGIN:STANDARD
TZOFFSETFROM:+0200
TZOFFSETTO:+0100
TZNAME:CET
DTSTART:20231029T010000
END:STANDARD
END:VTIMEZONE
BEGIN:VEVENT
DTSTART;TZID=Europe/Warsaw:20220811T100000
DTEND;TZID=Europe/Warsaw:20220811T103000
DTSTAMP:20260420T151916
CREATED:20220722T120950Z
LAST-MODIFIED:20220722T123519Z
UID:24915-1660212000-1660213800@biblioteka.szemud.pl
SUMMARY:Wakacyjne spotkanie z bajką w Bibliotece w Kielnie
DESCRIPTION:
URL:https://biblioteka.szemud.pl/index.php/event/wakacyjne-spotkanie-z-bajka-w-bibliotece-w-kielnie-6/
LOCATION:Biblioteka w Kielnie\, ul. Oliwska 46\, Kielno
ATTACH;FMTTYPE=image/png:https://biblioteka.szemud.pl/wp-content/uploads/2022/07/Warsztaty-sierpien-2022-e1658492667267.png
END:VEVENT
BEGIN:VEVENT
DTSTART;TZID=Europe/Warsaw:20220811T110000
DTEND;TZID=Europe/Warsaw:20220811T123000
DTSTAMP:20260420T151916
CREATED:20220722T121718Z
LAST-MODIFIED:20220722T123540Z
UID:24931-1660215600-1660221000@biblioteka.szemud.pl
SUMMARY:Warsztaty “Quilling – kwiaty” w Bibliotece w Łebnie
DESCRIPTION:
URL:https://biblioteka.szemud.pl/index.php/event/warsztaty-quilling-kwiaty-w-bibliotece-w-lebnie/
LOCATION:Biblioteka w Łebnie\, ul. Kartuska 9\, Łebno
ATTACH;FMTTYPE=image/png:https://biblioteka.szemud.pl/wp-content/uploads/2022/07/Warsztaty-sierpien-2022-e1658492667267.png
END:VEVENT
BEGIN:VEVENT
DTSTART;TZID=Europe/Warsaw:20220811T130000
DTEND;TZID=Europe/Warsaw:20220811T140000
DTSTAMP:20260420T151916
CREATED:20220722T122453Z
LAST-MODIFIED:20220722T122453Z
UID:24933-1660222800-1660226400@biblioteka.szemud.pl
SUMMARY:Otwarte zajęcia gitarowe w Bibliotece w Łebnie
DESCRIPTION:
URL:https://biblioteka.szemud.pl/index.php/event/otwarte-zajecia-gitarowe-w-bibliotece-w-lebnie-4/
LOCATION:Biblioteka w Łebnie\, ul. Kartuska 9\, Łebno
ATTACH;FMTTYPE=image/png:https://biblioteka.szemud.pl/wp-content/uploads/2022/07/Warsztaty-sierpien-2022-e1658492667267.png
END:VEVENT
BEGIN:VEVENT
DTSTART;TZID=Europe/Warsaw:20220811T140000
DTEND;TZID=Europe/Warsaw:20220811T160000
DTSTAMP:20260420T151916
CREATED:20220722T120757Z
LAST-MODIFIED:20220815T085326Z
UID:24911-1660226400-1660233600@biblioteka.szemud.pl
SUMMARY:Kreatywnie i wesoło w bibliotece w Kielnie
DESCRIPTION:
URL:https://biblioteka.szemud.pl/index.php/event/kreatywnie-i-wesolo-w-bibliotece-w-bibliotece-w-kielnie/
LOCATION:Biblioteka w Kielnie\, ul. Oliwska 46\, Kielno
ATTACH;FMTTYPE=image/png:https://biblioteka.szemud.pl/wp-content/uploads/2022/07/Warsztaty-sierpien-2022-e1658492667267.png
END:VEVENT
END:VCALENDAR