BEGIN:VCALENDAR
VERSION:2.0
PRODID:-//Biblioteka Publiczna Gminy Szemud - ECPv6.15.20//NONSGML v1.0//EN
CALSCALE:GREGORIAN
METHOD:PUBLISH
X-ORIGINAL-URL:https://biblioteka.szemud.pl
X-WR-CALDESC:Wydarzenia dla Biblioteka Publiczna Gminy Szemud
REFRESH-INTERVAL;VALUE=DURATION:PT1H
X-Robots-Tag:noindex
X-PUBLISHED-TTL:PT1H
BEGIN:VTIMEZONE
TZID:Europe/Warsaw
BEGIN:DAYLIGHT
TZOFFSETFROM:+0100
TZOFFSETTO:+0200
TZNAME:CEST
DTSTART:20210328T010000
END:DAYLIGHT
BEGIN:STANDARD
TZOFFSETFROM:+0200
TZOFFSETTO:+0100
TZNAME:CET
DTSTART:20211031T010000
END:STANDARD
BEGIN:DAYLIGHT
TZOFFSETFROM:+0100
TZOFFSETTO:+0200
TZNAME:CEST
DTSTART:20220327T010000
END:DAYLIGHT
BEGIN:STANDARD
TZOFFSETFROM:+0200
TZOFFSETTO:+0100
TZNAME:CET
DTSTART:20221030T010000
END:STANDARD
BEGIN:DAYLIGHT
TZOFFSETFROM:+0100
TZOFFSETTO:+0200
TZNAME:CEST
DTSTART:20230326T010000
END:DAYLIGHT
BEGIN:STANDARD
TZOFFSETFROM:+0200
TZOFFSETTO:+0100
TZNAME:CET
DTSTART:20231029T010000
END:STANDARD
END:VTIMEZONE
BEGIN:VEVENT
DTSTART;TZID=Europe/Warsaw:20220721T100000
DTEND;TZID=Europe/Warsaw:20220721T103000
DTSTAMP:20260420T164753
CREATED:20220624T081945Z
LAST-MODIFIED:20220624T081945Z
UID:24434-1658397600-1658399400@biblioteka.szemud.pl
SUMMARY:Wakacyjne spotkanie z bajką w bibliotece w Kielnie
DESCRIPTION:
URL:https://biblioteka.szemud.pl/index.php/event/wakacyjne-spotkanie-z-bajka-w-bibliotece-w-kielnie-3/
LOCATION:Biblioteka w Kielnie\, ul. Oliwska 46\, Kielno
ATTACH;FMTTYPE=image/png:https://biblioteka.szemud.pl/wp-content/uploads/2022/06/Lipiec-Kielno-2022-e1656058576535.png
END:VEVENT
BEGIN:VEVENT
DTSTART;TZID=Europe/Warsaw:20220721T110000
DTEND;TZID=Europe/Warsaw:20220721T130000
DTSTAMP:20260420T164753
CREATED:20220624T091014Z
LAST-MODIFIED:20220624T091014Z
UID:24452-1658401200-1658408400@biblioteka.szemud.pl
SUMMARY:Warsztaty "Kwiaty z papieru" w bibliotece w Łebnie
DESCRIPTION:
URL:https://biblioteka.szemud.pl/index.php/event/warsztaty-kwiaty-z-papieru-w-bibliotece-w-lebnie/
ATTACH;FMTTYPE=image/png:https://biblioteka.szemud.pl/wp-content/uploads/2022/06/Lipiec-Lebno-2022-e1656061640907.png
END:VEVENT
BEGIN:VEVENT
DTSTART;TZID=Europe/Warsaw:20220721T140000
DTEND;TZID=Europe/Warsaw:20220721T160000
DTSTAMP:20260420T164753
CREATED:20220624T083359Z
LAST-MODIFIED:20220624T083359Z
UID:24443-1658412000-1658419200@biblioteka.szemud.pl
SUMMARY:Malowanie na szkle w bibliotece w Kielnie
DESCRIPTION:
URL:https://biblioteka.szemud.pl/index.php/event/malowanie-na-szkle-w-bibliotece-w-kielnie-2/
ATTACH;FMTTYPE=image/png:https://biblioteka.szemud.pl/wp-content/uploads/2022/06/Lipiec-Kielno-2022-e1656058576535.png
END:VEVENT
END:VCALENDAR