BEGIN:VCALENDAR
VERSION:2.0
PRODID:-//Biblioteka Publiczna Gminy Szemud - ECPv6.15.20//NONSGML v1.0//EN
CALSCALE:GREGORIAN
METHOD:PUBLISH
X-ORIGINAL-URL:https://biblioteka.szemud.pl
X-WR-CALDESC:Wydarzenia dla Biblioteka Publiczna Gminy Szemud
REFRESH-INTERVAL;VALUE=DURATION:PT1H
X-Robots-Tag:noindex
X-PUBLISHED-TTL:PT1H
BEGIN:VTIMEZONE
TZID:Europe/Warsaw
BEGIN:DAYLIGHT
TZOFFSETFROM:+0100
TZOFFSETTO:+0200
TZNAME:CEST
DTSTART:20210328T010000
END:DAYLIGHT
BEGIN:STANDARD
TZOFFSETFROM:+0200
TZOFFSETTO:+0100
TZNAME:CET
DTSTART:20211031T010000
END:STANDARD
BEGIN:DAYLIGHT
TZOFFSETFROM:+0100
TZOFFSETTO:+0200
TZNAME:CEST
DTSTART:20220327T010000
END:DAYLIGHT
BEGIN:STANDARD
TZOFFSETFROM:+0200
TZOFFSETTO:+0100
TZNAME:CET
DTSTART:20221030T010000
END:STANDARD
BEGIN:DAYLIGHT
TZOFFSETFROM:+0100
TZOFFSETTO:+0200
TZNAME:CEST
DTSTART:20230326T010000
END:DAYLIGHT
BEGIN:STANDARD
TZOFFSETFROM:+0200
TZOFFSETTO:+0100
TZNAME:CET
DTSTART:20231029T010000
END:STANDARD
END:VTIMEZONE
BEGIN:VEVENT
DTSTART;TZID=Europe/Warsaw:20220510T090000
DTEND;TZID=Europe/Warsaw:20220510T110000
DTSTAMP:20260420T235900
CREATED:20220428T093009Z
LAST-MODIFIED:20220428T093009Z
UID:22213-1652173200-1652180400@biblioteka.szemud.pl
SUMMARY:Konkurs "Mistrz Pięknego Czytania" w Bibliotece w Szemudzie
DESCRIPTION:
URL:https://biblioteka.szemud.pl/index.php/event/konkurs-mistrz-pieknego-czytania-w-bibliotece-w-szemudzie-4/
LOCATION:Biblioteka w Szemudzie\, Samorządowa 1\, Szemud
ATTACH;FMTTYPE=image/png:https://biblioteka.szemud.pl/wp-content/uploads/2022/04/XIX-OGOLNOPOLSKI-TYDZIEN-BIBLIOTEK-e1651135400897.png
END:VEVENT
BEGIN:VEVENT
DTSTART;TZID=Europe/Warsaw:20220510T090000
DTEND;TZID=Europe/Warsaw:20220510T120000
DTSTAMP:20260420T235900
CREATED:20220428T084507Z
LAST-MODIFIED:20220428T084507Z
UID:22191-1652173200-1652184000@biblioteka.szemud.pl
SUMMARY:Warsztaty czytelnicze w Bibliotece w Kielnie
DESCRIPTION:
URL:https://biblioteka.szemud.pl/index.php/event/warsztaty-czytelnicze-w-bibliotece-w-kielnie-11/
LOCATION:Biblioteka w Kielnie\, ul. Oliwska 46\, Kielno
ATTACH;FMTTYPE=image/png:https://biblioteka.szemud.pl/wp-content/uploads/2022/04/XIX-OGOLNOPOLSKI-TYDZIEN-BIBLIOTEK-e1651135400897.png
END:VEVENT
BEGIN:VEVENT
DTSTART;TZID=Europe/Warsaw:20220510T093000
DTEND;TZID=Europe/Warsaw:20220510T103000
DTSTAMP:20260420T235900
CREATED:20220428T090255Z
LAST-MODIFIED:20220428T090356Z
UID:22195-1652175000-1652178600@biblioteka.szemud.pl
SUMMARY:Pasowanie klas I na czytelnika w Bibliotece w Łebnie
DESCRIPTION:
URL:https://biblioteka.szemud.pl/index.php/event/pasowanie-klas-i-na-czytelnika-w-bibliotece-w-lebnie/
LOCATION:Biblioteka w Łebnie\, ul. Kartuska 9\, Łebno
ATTACH;FMTTYPE=image/png:https://biblioteka.szemud.pl/wp-content/uploads/2022/04/XIX-OGOLNOPOLSKI-TYDZIEN-BIBLIOTEK-e1651135400897.png
END:VEVENT
END:VCALENDAR