BEGIN:VCALENDAR
VERSION:2.0
PRODID:-//Biblioteka Publiczna Gminy Szemud - ECPv6.15.20//NONSGML v1.0//EN
CALSCALE:GREGORIAN
METHOD:PUBLISH
X-ORIGINAL-URL:https://biblioteka.szemud.pl
X-WR-CALDESC:Wydarzenia dla Biblioteka Publiczna Gminy Szemud
REFRESH-INTERVAL;VALUE=DURATION:PT1H
X-Robots-Tag:noindex
X-PUBLISHED-TTL:PT1H
BEGIN:VTIMEZONE
TZID:Europe/Warsaw
BEGIN:DAYLIGHT
TZOFFSETFROM:+0100
TZOFFSETTO:+0200
TZNAME:CEST
DTSTART:20200329T010000
END:DAYLIGHT
BEGIN:STANDARD
TZOFFSETFROM:+0200
TZOFFSETTO:+0100
TZNAME:CET
DTSTART:20201025T010000
END:STANDARD
BEGIN:DAYLIGHT
TZOFFSETFROM:+0100
TZOFFSETTO:+0200
TZNAME:CEST
DTSTART:20210328T010000
END:DAYLIGHT
BEGIN:STANDARD
TZOFFSETFROM:+0200
TZOFFSETTO:+0100
TZNAME:CET
DTSTART:20211031T010000
END:STANDARD
BEGIN:DAYLIGHT
TZOFFSETFROM:+0100
TZOFFSETTO:+0200
TZNAME:CEST
DTSTART:20220327T010000
END:DAYLIGHT
BEGIN:STANDARD
TZOFFSETFROM:+0200
TZOFFSETTO:+0100
TZNAME:CET
DTSTART:20221030T010000
END:STANDARD
END:VTIMEZONE
BEGIN:VEVENT
DTSTART;TZID=Europe/Warsaw:20210905T090000
DTEND;TZID=Europe/Warsaw:20210905T130000
DTSTAMP:20260421T154603
CREATED:20210826T083501Z
LAST-MODIFIED:20210826T083501Z
UID:16193-1630832400-1630846800@biblioteka.szemud.pl
SUMMARY:Dzień otwarty nowego lokalu filii Biblioteki Publicznej w Łebnie im. Jana Piepki
DESCRIPTION:
URL:https://biblioteka.szemud.pl/index.php/event/dzien-otwarty-nowego-lokalu-filii-biblioteki-publicznej-w-lebnie-im-jana-piepki/
LOCATION:Biblioteka w Łebnie\, ul. Kartuska 9\, Łebno
ATTACH;FMTTYPE=image/jpeg:https://biblioteka.szemud.pl/wp-content/uploads/2021/08/otwarcie-biblioteki-e1629966986623.jpg
END:VEVENT
BEGIN:VEVENT
DTSTART;TZID=Europe/Warsaw:20210905T150000
DTEND;TZID=Europe/Warsaw:20210905T190000
DTSTAMP:20260421T154603
CREATED:20210827T093059Z
LAST-MODIFIED:20210827T105928Z
UID:16200-1630854000-1630868400@biblioteka.szemud.pl
SUMMARY:Narodowe Czytanie 2021 "Moralność Pani Dulskiej"
DESCRIPTION:
URL:https://biblioteka.szemud.pl/index.php/event/narodowe-czytanie-2021-moralnosc-pani-dulskiej/
LOCATION:Boisko gminne\, Sportowa\, Szemud\, 84-217\, Polska
ATTACH;FMTTYPE=image/png:https://biblioteka.szemud.pl/wp-content/uploads/2021/08/Narodowe-Czytanie-2021-e1630056649418.png
END:VEVENT
END:VCALENDAR