BEGIN:VCALENDAR
VERSION:2.0
PRODID:-//Biblioteka Publiczna Gminy Szemud - ECPv6.15.20//NONSGML v1.0//EN
CALSCALE:GREGORIAN
METHOD:PUBLISH
X-WR-CALNAME:Biblioteka Publiczna Gminy Szemud
X-ORIGINAL-URL:https://biblioteka.szemud.pl
X-WR-CALDESC:Wydarzenia dla Biblioteka Publiczna Gminy Szemud
REFRESH-INTERVAL;VALUE=DURATION:PT1H
X-Robots-Tag:noindex
X-PUBLISHED-TTL:PT1H
BEGIN:VTIMEZONE
TZID:Europe/Warsaw
BEGIN:DAYLIGHT
TZOFFSETFROM:+0100
TZOFFSETTO:+0200
TZNAME:CEST
DTSTART:20200329T010000
END:DAYLIGHT
BEGIN:STANDARD
TZOFFSETFROM:+0200
TZOFFSETTO:+0100
TZNAME:CET
DTSTART:20201025T010000
END:STANDARD
BEGIN:DAYLIGHT
TZOFFSETFROM:+0100
TZOFFSETTO:+0200
TZNAME:CEST
DTSTART:20210328T010000
END:DAYLIGHT
BEGIN:STANDARD
TZOFFSETFROM:+0200
TZOFFSETTO:+0100
TZNAME:CET
DTSTART:20211031T010000
END:STANDARD
BEGIN:DAYLIGHT
TZOFFSETFROM:+0100
TZOFFSETTO:+0200
TZNAME:CEST
DTSTART:20220327T010000
END:DAYLIGHT
BEGIN:STANDARD
TZOFFSETFROM:+0200
TZOFFSETTO:+0100
TZNAME:CET
DTSTART:20221030T010000
END:STANDARD
END:VTIMEZONE
BEGIN:VEVENT
DTSTART;TZID=Europe/Warsaw:20210811T110000
DTEND;TZID=Europe/Warsaw:20210811T130000
DTSTAMP:20260421T172239
CREATED:20210712T081431Z
LAST-MODIFIED:20210712T081431Z
UID:15987-1628679600-1628686800@biblioteka.szemud.pl
SUMMARY:Warsztaty “Kubraczek na telefon z filcu” w Bibliotece w Szemudzie
DESCRIPTION:
URL:https://biblioteka.szemud.pl/index.php/event/warsztaty-kubraczek-na-telefon-z-filcu-w-bibliotece-w-szemudzie/
LOCATION:Hala sportowa w Szemudzie\, Szkolna 4a\, Szemud\, pomorskie\, 84-217\, Polska
ATTACH;FMTTYPE=image/png:https://biblioteka.szemud.pl/wp-content/uploads/2021/07/Warsztaty-wakacje-2021-e1626077926205.png
END:VEVENT
BEGIN:VEVENT
DTSTART;TZID=Europe/Warsaw:20210811T140000
DTEND;TZID=Europe/Warsaw:20210811T150000
DTSTAMP:20260421T172239
CREATED:20210712T085754Z
LAST-MODIFIED:20210712T085754Z
UID:16007-1628690400-1628694000@biblioteka.szemud.pl
SUMMARY:Otwarte zajęcia gitarowe w Bibliotece w Szemudzie
DESCRIPTION:
URL:https://biblioteka.szemud.pl/index.php/event/otwarte-zajecia-gitarowe-w-bibliotece-w-szemudzie-4/
LOCATION:Biblioteka w Szemudzie\, Samorządowa 1\, Szemud
ATTACH;FMTTYPE=image/png:https://biblioteka.szemud.pl/wp-content/uploads/2021/07/Gitara-08.2021-e1626079415883.png
END:VEVENT
END:VCALENDAR