BEGIN:VCALENDAR
VERSION:2.0
PRODID:-//Biblioteka Publiczna Gminy Szemud - ECPv6.15.20//NONSGML v1.0//EN
CALSCALE:GREGORIAN
METHOD:PUBLISH
X-WR-CALNAME:Biblioteka Publiczna Gminy Szemud
X-ORIGINAL-URL:https://biblioteka.szemud.pl
X-WR-CALDESC:Wydarzenia dla Biblioteka Publiczna Gminy Szemud
REFRESH-INTERVAL;VALUE=DURATION:PT1H
X-Robots-Tag:noindex
X-PUBLISHED-TTL:PT1H
BEGIN:VTIMEZONE
TZID:Europe/Warsaw
BEGIN:DAYLIGHT
TZOFFSETFROM:+0100
TZOFFSETTO:+0200
TZNAME:CEST
DTSTART:20190331T010000
END:DAYLIGHT
BEGIN:STANDARD
TZOFFSETFROM:+0200
TZOFFSETTO:+0100
TZNAME:CET
DTSTART:20191027T010000
END:STANDARD
BEGIN:DAYLIGHT
TZOFFSETFROM:+0100
TZOFFSETTO:+0200
TZNAME:CEST
DTSTART:20200329T010000
END:DAYLIGHT
BEGIN:STANDARD
TZOFFSETFROM:+0200
TZOFFSETTO:+0100
TZNAME:CET
DTSTART:20201025T010000
END:STANDARD
BEGIN:DAYLIGHT
TZOFFSETFROM:+0100
TZOFFSETTO:+0200
TZNAME:CEST
DTSTART:20210328T010000
END:DAYLIGHT
BEGIN:STANDARD
TZOFFSETFROM:+0200
TZOFFSETTO:+0100
TZNAME:CET
DTSTART:20211031T010000
END:STANDARD
END:VTIMEZONE
BEGIN:VEVENT
DTSTART;TZID=Europe/Warsaw:20200122T100000
DTEND;TZID=Europe/Warsaw:20200122T120000
DTSTAMP:20260423T022326
CREATED:20191230T105044Z
LAST-MODIFIED:20191230T105044Z
UID:11776-1579687200-1579694400@biblioteka.szemud.pl
SUMMARY:Warsztaty malowania na tkaninach w Bibliotece w Szemudzie
DESCRIPTION:
URL:https://biblioteka.szemud.pl/index.php/event/warsztaty-malowania-na-tkaninach-w-bibliotece-w-szemudzie/
END:VEVENT
BEGIN:VEVENT
DTSTART;TZID=Europe/Warsaw:20200122T110000
DTEND;TZID=Europe/Warsaw:20200122T120000
DTSTAMP:20260423T022326
CREATED:20191230T114817Z
LAST-MODIFIED:20191230T114817Z
UID:11803-1579690800-1579694400@biblioteka.szemud.pl
SUMMARY:Warsztaty "Maska karnawałowa" w Bibliotece i WOK Łebno
DESCRIPTION:
URL:https://biblioteka.szemud.pl/index.php/event/warsztaty-maska-karnawalowa-w-bibliotece-i-wok-lebno/
LOCATION:Biblioteka w Łebnie\, ul. Kartuska 9\, Łebno
ATTACH;FMTTYPE=image/jpeg:https://biblioteka.szemud.pl/wp-content/uploads/2019/12/ferie-2020-WOK-Łebno-page-001.jpg
END:VEVENT
BEGIN:VEVENT
DTSTART;TZID=Europe/Warsaw:20200122T110000
DTEND;TZID=Europe/Warsaw:20200122T130000
DTSTAMP:20260423T022326
CREATED:20191230T120549Z
LAST-MODIFIED:20191230T120549Z
UID:11819-1579690800-1579698000@biblioteka.szemud.pl
SUMMARY:"Spotkanie ze sztuką" w Bibliotece w Kielnie
DESCRIPTION:
URL:https://biblioteka.szemud.pl/index.php/event/spotkanie-ze-sztuka-w-bibliotece-w-kielnie/
LOCATION:Biblioteka w Kielnie\, ul. Oliwska 46\, Kielno
ATTACH;FMTTYPE=image/png:https://biblioteka.szemud.pl/wp-content/uploads/2019/12/Kielno-ferie-2020.png
END:VEVENT
BEGIN:VEVENT
DTSTART;TZID=Europe/Warsaw:20200122T120000
DTEND;TZID=Europe/Warsaw:20200122T130000
DTSTAMP:20260423T022326
CREATED:20191230T114938Z
LAST-MODIFIED:20191230T114938Z
UID:11806-1579694400-1579698000@biblioteka.szemud.pl
SUMMARY:"Puzzlomania – układanki" w Bibliotece i WOK Łebno
DESCRIPTION:
URL:https://biblioteka.szemud.pl/index.php/event/puzzlomania-ukladanki-w-bibliotece-i-wok-lebno/
LOCATION:Biblioteka w Łebnie\, ul. Kartuska 9\, Łebno
ATTACH;FMTTYPE=image/jpeg:https://biblioteka.szemud.pl/wp-content/uploads/2019/12/ferie-2020-WOK-Łebno-page-001.jpg
END:VEVENT
END:VCALENDAR