BEGIN:VCALENDAR
VERSION:2.0
PRODID:-//Biblioteka Publiczna Gminy Szemud - ECPv6.15.20//NONSGML v1.0//EN
CALSCALE:GREGORIAN
METHOD:PUBLISH
X-ORIGINAL-URL:https://biblioteka.szemud.pl
X-WR-CALDESC:Wydarzenia dla Biblioteka Publiczna Gminy Szemud
REFRESH-INTERVAL;VALUE=DURATION:PT1H
X-Robots-Tag:noindex
X-PUBLISHED-TTL:PT1H
BEGIN:VTIMEZONE
TZID:Europe/Warsaw
BEGIN:DAYLIGHT
TZOFFSETFROM:+0100
TZOFFSETTO:+0200
TZNAME:CEST
DTSTART:20190331T010000
END:DAYLIGHT
BEGIN:STANDARD
TZOFFSETFROM:+0200
TZOFFSETTO:+0100
TZNAME:CET
DTSTART:20191027T010000
END:STANDARD
BEGIN:DAYLIGHT
TZOFFSETFROM:+0100
TZOFFSETTO:+0200
TZNAME:CEST
DTSTART:20200329T010000
END:DAYLIGHT
BEGIN:STANDARD
TZOFFSETFROM:+0200
TZOFFSETTO:+0100
TZNAME:CET
DTSTART:20201025T010000
END:STANDARD
BEGIN:DAYLIGHT
TZOFFSETFROM:+0100
TZOFFSETTO:+0200
TZNAME:CEST
DTSTART:20210328T010000
END:DAYLIGHT
BEGIN:STANDARD
TZOFFSETFROM:+0200
TZOFFSETTO:+0100
TZNAME:CET
DTSTART:20211031T010000
END:STANDARD
END:VTIMEZONE
BEGIN:VEVENT
DTSTART;TZID=Europe/Warsaw:20200115T100000
DTEND;TZID=Europe/Warsaw:20200115T113000
DTSTAMP:20260423T022428
CREATED:20191230T104507Z
LAST-MODIFIED:20191230T104507Z
UID:11763-1579082400-1579087800@biblioteka.szemud.pl
SUMMARY:Warsztaty "Lampion z gliny ceramicznej" w Bibliotece w Szemudzie
DESCRIPTION:
URL:https://biblioteka.szemud.pl/index.php/event/warsztaty-lampion-z-gliny-ceramicznej-w-bibliotece-w-szemudzie/
LOCATION:Biblioteka w Szemudzie\, Samorządowa 1\, Szemud
ATTACH;FMTTYPE=image/png:https://biblioteka.szemud.pl/wp-content/uploads/2019/12/Szemud-ferie-2020.png
END:VEVENT
BEGIN:VEVENT
DTSTART;TZID=Europe/Warsaw:20200115T100000
DTEND;TZID=Europe/Warsaw:20200115T120000
DTSTAMP:20260423T022428
CREATED:20191230T115822Z
LAST-MODIFIED:20191230T115822Z
UID:11815-1579082400-1579089600@biblioteka.szemud.pl
SUMMARY:"Taniec z Krainy lodu" w Bibliotece w Kielnie
DESCRIPTION:
URL:https://biblioteka.szemud.pl/index.php/event/taniec-z-krainy-lodu-w-bibliotece-w-kielnie/
LOCATION:Biblioteka w Szemudzie\, Samorządowa 1\, Szemud
ATTACH;FMTTYPE=image/png:https://biblioteka.szemud.pl/wp-content/uploads/2019/12/Kielno-ferie-2020.png
END:VEVENT
BEGIN:VEVENT
DTSTART;TZID=Europe/Warsaw:20200115T110000
DTEND;TZID=Europe/Warsaw:20200115T130000
DTSTAMP:20260423T022428
CREATED:20191230T103329Z
LAST-MODIFIED:20191230T103329Z
UID:11752-1579086000-1579093200@biblioteka.szemud.pl
SUMMARY:Warsztaty "Upominek dla dziadków" w Bibliotece w Częstkowie
DESCRIPTION:
URL:https://biblioteka.szemud.pl/index.php/event/warsztaty-upominek-dla-dziadkow-w-bibliotece-w-czestkowie/
LOCATION:Biblioteka w Częstkowie\, ul. Szkolna 9\, Czestkowo
ATTACH;FMTTYPE=image/png:https://biblioteka.szemud.pl/wp-content/uploads/2019/12/Częstkowo-ferie-2020.png
END:VEVENT
BEGIN:VEVENT
DTSTART;TZID=Europe/Warsaw:20200115T120000
DTEND;TZID=Europe/Warsaw:20200115T130000
DTSTAMP:20260423T022428
CREATED:20191230T104558Z
LAST-MODIFIED:20191230T104558Z
UID:11765-1579089600-1579093200@biblioteka.szemud.pl
SUMMARY:"Muzykowanie z gitarą" w Bibliotece w Szemudzie
DESCRIPTION:
URL:https://biblioteka.szemud.pl/index.php/event/muzykowanie-z-gitara-w-bibliotece-w-szemudzie-3/
LOCATION:Biblioteka w Szemudzie\, Samorządowa 1\, Szemud
ATTACH;FMTTYPE=image/png:https://biblioteka.szemud.pl/wp-content/uploads/2019/12/Szemud-ferie-2020.png
END:VEVENT
BEGIN:VEVENT
DTSTART;TZID=Europe/Warsaw:20200115T123000
DTEND;TZID=Europe/Warsaw:20200115T143000
DTSTAMP:20260423T022428
CREATED:20191230T094416Z
LAST-MODIFIED:20191230T094434Z
UID:11739-1579091400-1579098600@biblioteka.szemud.pl
SUMMARY:Taniec w "Krainie Lodu" w Bibliotece w Bojanie
DESCRIPTION:
URL:https://biblioteka.szemud.pl/index.php/event/warsztaty-taniec-w-krainie-lodu-w-bibliotece-w-bojanie/
LOCATION:Biblioteka w Bojanie\, ul. J. Wybickiego 38\, Bojano
ATTACH;FMTTYPE=image/png:https://biblioteka.szemud.pl/wp-content/uploads/2019/12/Bojano-ferie-2020.png
END:VEVENT
BEGIN:VEVENT
DTSTART;TZID=Europe/Warsaw:20200115T130000
DTEND;TZID=Europe/Warsaw:20200115T140000
DTSTAMP:20260423T022428
CREATED:20191230T114044Z
LAST-MODIFIED:20191230T114044Z
UID:11787-1579093200-1579096800@biblioteka.szemud.pl
SUMMARY:Mistakos i inne gry stolikowe w Bibliotece i WOK Łebno
DESCRIPTION:
URL:https://biblioteka.szemud.pl/index.php/event/mistakos-i-inne-gry-stolikowe-w-bibliotece-i-wok-lebno/
LOCATION:Biblioteka w Łebnie\, ul. Kartuska 9\, Łebno
ATTACH;FMTTYPE=image/jpeg:https://biblioteka.szemud.pl/wp-content/uploads/2019/12/ferie-2020-WOK-Łebno-page-001.jpg
END:VEVENT
BEGIN:VEVENT
DTSTART;TZID=Europe/Warsaw:20200115T140000
DTEND;TZID=Europe/Warsaw:20200115T153000
DTSTAMP:20260423T022428
CREATED:20191230T114151Z
LAST-MODIFIED:20191230T114151Z
UID:11789-1579096800-1579102200@biblioteka.szemud.pl
SUMMARY:Warsztaty "Lampion z gliny ceramicznej" w Bibliotece i WOK Łebno
DESCRIPTION:
URL:https://biblioteka.szemud.pl/index.php/event/warsztaty-lampion-z-gliny-ceramicznej-w-bibliotece-i-wok-lebno/
LOCATION:Biblioteka w Szemudzie\, Samorządowa 1\, Szemud
ATTACH;FMTTYPE=image/jpeg:https://biblioteka.szemud.pl/wp-content/uploads/2019/12/ferie-2020-WOK-Łebno-page-001.jpg
END:VEVENT
END:VCALENDAR