BEGIN:VCALENDAR
VERSION:2.0
PRODID:-//Biblioteka Publiczna Gminy Szemud - ECPv6.15.20//NONSGML v1.0//EN
CALSCALE:GREGORIAN
METHOD:PUBLISH
X-ORIGINAL-URL:https://biblioteka.szemud.pl
X-WR-CALDESC:Wydarzenia dla Biblioteka Publiczna Gminy Szemud
REFRESH-INTERVAL;VALUE=DURATION:PT1H
X-Robots-Tag:noindex
X-PUBLISHED-TTL:PT1H
BEGIN:VTIMEZONE
TZID:Europe/Warsaw
BEGIN:DAYLIGHT
TZOFFSETFROM:+0100
TZOFFSETTO:+0200
TZNAME:CEST
DTSTART:20190331T010000
END:DAYLIGHT
BEGIN:STANDARD
TZOFFSETFROM:+0200
TZOFFSETTO:+0100
TZNAME:CET
DTSTART:20191027T010000
END:STANDARD
BEGIN:DAYLIGHT
TZOFFSETFROM:+0100
TZOFFSETTO:+0200
TZNAME:CEST
DTSTART:20200329T010000
END:DAYLIGHT
BEGIN:STANDARD
TZOFFSETFROM:+0200
TZOFFSETTO:+0100
TZNAME:CET
DTSTART:20201025T010000
END:STANDARD
BEGIN:DAYLIGHT
TZOFFSETFROM:+0100
TZOFFSETTO:+0200
TZNAME:CEST
DTSTART:20210328T010000
END:DAYLIGHT
BEGIN:STANDARD
TZOFFSETFROM:+0200
TZOFFSETTO:+0100
TZNAME:CET
DTSTART:20211031T010000
END:STANDARD
END:VTIMEZONE
BEGIN:VEVENT
DTSTART;TZID=Europe/Warsaw:20200114T100000
DTEND;TZID=Europe/Warsaw:20200114T120000
DTSTAMP:20260423T022347
CREATED:20191230T104401Z
LAST-MODIFIED:20191230T104401Z
UID:11761-1578996000-1579003200@biblioteka.szemud.pl
SUMMARY:"Spotkanie ze sztuką - balet" w Bibliotece w Szemudzie
DESCRIPTION:
URL:https://biblioteka.szemud.pl/index.php/event/spotkanie-ze-sztuka-balet-w-bibliotece-w-szemudzie/
LOCATION:Biblioteka w Szemudzie\, Samorządowa 1\, Szemud
ATTACH;FMTTYPE=image/png:https://biblioteka.szemud.pl/wp-content/uploads/2019/12/Szemud-ferie-2020.png
END:VEVENT
BEGIN:VEVENT
DTSTART;TZID=Europe/Warsaw:20200114T110000
DTEND;TZID=Europe/Warsaw:20200114T130000
DTSTAMP:20260423T022347
CREATED:20191230T103226Z
LAST-MODIFIED:20191230T103226Z
UID:11750-1578999600-1579006800@biblioteka.szemud.pl
SUMMARY:Planszomania po angielsku i teatr Kamishibai w Bibliotece w Częstkowie
DESCRIPTION:
URL:https://biblioteka.szemud.pl/index.php/event/planszomania-po-angielsku-i-teatr-kamishibai-w-bibliotece-w-czestkowie/
LOCATION:Biblioteka w Częstkowie\, ul. Szkolna 9\, Czestkowo
ATTACH;FMTTYPE=image/png:https://biblioteka.szemud.pl/wp-content/uploads/2019/12/Częstkowo-ferie-2020.png
END:VEVENT
BEGIN:VEVENT
DTSTART;TZID=Europe/Warsaw:20200114T110000
DTEND;TZID=Europe/Warsaw:20200114T130000
DTSTAMP:20260423T022347
CREATED:20191230T115733Z
LAST-MODIFIED:20191230T115733Z
UID:11813-1578999600-1579006800@biblioteka.szemud.pl
SUMMARY:Planszomania w Bibliotece w Kielnie
DESCRIPTION:
URL:https://biblioteka.szemud.pl/index.php/event/planszomania-w-bibliotece-w-kielnie-3/
LOCATION:Biblioteka w Kielnie\, ul. Oliwska 46\, Kielno
ATTACH;FMTTYPE=image/png:https://biblioteka.szemud.pl/wp-content/uploads/2019/12/Kielno-ferie-2020.png
END:VEVENT
BEGIN:VEVENT
DTSTART;TZID=Europe/Warsaw:20200114T120000
DTEND;TZID=Europe/Warsaw:20200114T133000
DTSTAMP:20260423T022347
CREATED:20191230T094206Z
LAST-MODIFIED:20191230T094206Z
UID:11733-1579003200-1579008600@biblioteka.szemud.pl
SUMMARY:Warsztaty "Lampion z ceramiki" w Bibliotece w Bojanie
DESCRIPTION:
URL:https://biblioteka.szemud.pl/index.php/event/warsztaty-lampion-z-ceramiki-w-bibliotece-w-bojanie/
LOCATION:Biblioteka w Bojanie\, ul. J. Wybickiego 38\, Bojano
ATTACH;FMTTYPE=image/png:https://biblioteka.szemud.pl/wp-content/uploads/2019/12/Bojano-ferie-2020.png
END:VEVENT
BEGIN:VEVENT
DTSTART;TZID=Europe/Warsaw:20200114T130000
DTEND;TZID=Europe/Warsaw:20200114T143000
DTSTAMP:20260423T022347
CREATED:20191230T113959Z
LAST-MODIFIED:20191230T113959Z
UID:11785-1579006800-1579012200@biblioteka.szemud.pl
SUMMARY:"Torebka jak z bajki - malowanki po tkaninie" w Bibliotece i WOK Łebno
DESCRIPTION:
URL:https://biblioteka.szemud.pl/index.php/event/torebka-jak-z-bajki-malowanki-po-tkaninie-w-bibliotece-i-wok-lebno/
LOCATION:Biblioteka w Łebnie\, ul. Kartuska 9\, Łebno
ATTACH;FMTTYPE=image/jpeg:https://biblioteka.szemud.pl/wp-content/uploads/2019/12/ferie-2020-WOK-Łebno-page-001.jpg
END:VEVENT
BEGIN:VEVENT
DTSTART;TZID=Europe/Warsaw:20200114T140000
DTEND;TZID=Europe/Warsaw:20200114T150000
DTSTAMP:20260423T022347
CREATED:20191230T094313Z
LAST-MODIFIED:20191230T094313Z
UID:11737-1579010400-1579014000@biblioteka.szemud.pl
SUMMARY:"Muzykowanie z gitarą" w Bibliotece w Bojanie
DESCRIPTION:
URL:https://biblioteka.szemud.pl/index.php/event/muzykowanie-z-gitara-w-bibliotece-w-bojanie/
LOCATION:Biblioteka w Bojanie\, ul. J. Wybickiego 38\, Bojano
ATTACH;FMTTYPE=image/png:https://biblioteka.szemud.pl/wp-content/uploads/2019/12/Bojano-ferie-2020.png
END:VEVENT
END:VCALENDAR