BEGIN:VCALENDAR
VERSION:2.0
PRODID:-//Biblioteka Publiczna Gminy Szemud - ECPv6.15.20//NONSGML v1.0//EN
CALSCALE:GREGORIAN
METHOD:PUBLISH
X-ORIGINAL-URL:https://biblioteka.szemud.pl
X-WR-CALDESC:Wydarzenia dla Biblioteka Publiczna Gminy Szemud
REFRESH-INTERVAL;VALUE=DURATION:PT1H
X-Robots-Tag:noindex
X-PUBLISHED-TTL:PT1H
BEGIN:VTIMEZONE
TZID:Europe/Warsaw
BEGIN:DAYLIGHT
TZOFFSETFROM:+0100
TZOFFSETTO:+0200
TZNAME:CEST
DTSTART:20180325T010000
END:DAYLIGHT
BEGIN:STANDARD
TZOFFSETFROM:+0200
TZOFFSETTO:+0100
TZNAME:CET
DTSTART:20181028T010000
END:STANDARD
BEGIN:DAYLIGHT
TZOFFSETFROM:+0100
TZOFFSETTO:+0200
TZNAME:CEST
DTSTART:20190331T010000
END:DAYLIGHT
BEGIN:STANDARD
TZOFFSETFROM:+0200
TZOFFSETTO:+0100
TZNAME:CET
DTSTART:20191027T010000
END:STANDARD
BEGIN:DAYLIGHT
TZOFFSETFROM:+0100
TZOFFSETTO:+0200
TZNAME:CEST
DTSTART:20200329T010000
END:DAYLIGHT
BEGIN:STANDARD
TZOFFSETFROM:+0200
TZOFFSETTO:+0100
TZNAME:CET
DTSTART:20201025T010000
END:STANDARD
END:VTIMEZONE
BEGIN:VEVENT
DTSTART;TZID=Europe/Warsaw:20190716T100000
DTEND;TZID=Europe/Warsaw:20190716T120000
DTSTAMP:20260423T110209
CREATED:20190624T142117Z
LAST-MODIFIED:20190624T142117Z
UID:8066-1563271200-1563278400@biblioteka.szemud.pl
SUMMARY:Warsztaty “Cudaki i przyjaciele - zabawa z plasteliną” w Bibliotece i WOK Łebno
DESCRIPTION:
URL:https://biblioteka.szemud.pl/index.php/event/warsztaty-cudaki-i-przyjaciele-zabawa-z-plastelina-w-bibliotece-i-wok-lebno/
LOCATION:Biblioteka w Łebnie\, ul. Kartuska 9\, Łebno
ATTACH;FMTTYPE=image/jpeg:https://biblioteka.szemud.pl/wp-content/uploads/2019/06/Gminne-Centrum-Kultury-sportu-i-rekreacji-w-Szemudzie-Wiejski-Ośrodek-Kultury-i-Biblioteka-Publiczna-w-łebnie.jpg
END:VEVENT
BEGIN:VEVENT
DTSTART;TZID=Europe/Warsaw:20190716T110000
DTEND;TZID=Europe/Warsaw:20190716T120000
DTSTAMP:20260423T110209
CREATED:20190624T113222Z
LAST-MODIFIED:20190624T113222Z
UID:8036-1563274800-1563278400@biblioteka.szemud.pl
SUMMARY:Planszomania w Bibliotece w Szemudzie
DESCRIPTION:
URL:https://biblioteka.szemud.pl/index.php/event/planszomania-w-bibliotece-w-szemudzie-3/
LOCATION:Biblioteka w Szemudzie\, Samorządowa 1\, Szemud
ATTACH;FMTTYPE=image/png:https://biblioteka.szemud.pl/wp-content/uploads/2019/06/0031.png
END:VEVENT
BEGIN:VEVENT
DTSTART;TZID=Europe/Warsaw:20190716T110000
DTEND;TZID=Europe/Warsaw:20190716T130000
DTSTAMP:20260423T110209
CREATED:20190624T135746Z
LAST-MODIFIED:20190624T135746Z
UID:8060-1563274800-1563282000@biblioteka.szemud.pl
SUMMARY:Warsztaty "Zdrowe przekąski" w Bibliotece w Częstkowie
DESCRIPTION:
URL:https://biblioteka.szemud.pl/index.php/event/warsztaty-zdrowe-przekaski-w-bibliotece-w-czestkowie/
LOCATION:Biblioteka w Częstkowie\, ul. Szkolna 9\, Czestkowo
ATTACH;FMTTYPE=image/jpeg:https://biblioteka.szemud.pl/wp-content/uploads/2019/06/Wakacje-Częstkowo.jpg
END:VEVENT
END:VCALENDAR