BEGIN:VCALENDAR
VERSION:2.0
PRODID:-//Biblioteka Publiczna Gminy Szemud - ECPv6.15.20//NONSGML v1.0//EN
CALSCALE:GREGORIAN
METHOD:PUBLISH
X-WR-CALNAME:Biblioteka Publiczna Gminy Szemud
X-ORIGINAL-URL:https://biblioteka.szemud.pl
X-WR-CALDESC:Wydarzenia dla Biblioteka Publiczna Gminy Szemud
REFRESH-INTERVAL;VALUE=DURATION:PT1H
X-Robots-Tag:noindex
X-PUBLISHED-TTL:PT1H
BEGIN:VTIMEZONE
TZID:Europe/Warsaw
BEGIN:DAYLIGHT
TZOFFSETFROM:+0100
TZOFFSETTO:+0200
TZNAME:CEST
DTSTART:20180325T010000
END:DAYLIGHT
BEGIN:STANDARD
TZOFFSETFROM:+0200
TZOFFSETTO:+0100
TZNAME:CET
DTSTART:20181028T010000
END:STANDARD
BEGIN:DAYLIGHT
TZOFFSETFROM:+0100
TZOFFSETTO:+0200
TZNAME:CEST
DTSTART:20190331T010000
END:DAYLIGHT
BEGIN:STANDARD
TZOFFSETFROM:+0200
TZOFFSETTO:+0100
TZNAME:CET
DTSTART:20191027T010000
END:STANDARD
BEGIN:DAYLIGHT
TZOFFSETFROM:+0100
TZOFFSETTO:+0200
TZNAME:CEST
DTSTART:20200329T010000
END:DAYLIGHT
BEGIN:STANDARD
TZOFFSETFROM:+0200
TZOFFSETTO:+0100
TZNAME:CET
DTSTART:20201025T010000
END:STANDARD
END:VTIMEZONE
BEGIN:VEVENT
DTSTART;TZID=Europe/Warsaw:20190212T100000
DTEND;TZID=Europe/Warsaw:20190212T120000
DTSTAMP:20260423T195151
CREATED:20190124T135451Z
LAST-MODIFIED:20190124T135451Z
UID:4089-1549965600-1549972800@biblioteka.szemud.pl
SUMMARY:Warsztaty z ceramiki cz. I w Bibliotece w Częstkowie
DESCRIPTION:
URL:https://biblioteka.szemud.pl/index.php/event/warsztaty-z-ceramiki-cz-i-w-bibliotece-w-czestkowie/
LOCATION:Biblioteka w Częstkowie\, ul. Szkolna 9\, Czestkowo
ATTACH;FMTTYPE=image/jpeg:https://biblioteka.szemud.pl/wp-content/uploads/2016/10/Ferie-Częstkowo.jpg
END:VEVENT
BEGIN:VEVENT
DTSTART;TZID=Europe/Warsaw:20190212T103000
DTEND;TZID=Europe/Warsaw:20190212T120000
DTSTAMP:20260423T195151
CREATED:20190124T140606Z
LAST-MODIFIED:20190221T091212Z
UID:4104-1549967400-1549972800@biblioteka.szemud.pl
SUMMARY:Warsztaty "Lampiony świętego Walentego" w Bibliotece w Kielnie
DESCRIPTION:
URL:https://biblioteka.szemud.pl/index.php/event/warsztaty-lampiony-swietego-walentego-w-bibliotece-w-w-kielnie/
LOCATION:Biblioteka w Kielnie\, ul. Oliwska 46\, Kielno
ATTACH;FMTTYPE=image/jpeg:https://biblioteka.szemud.pl/wp-content/uploads/2016/10/Ferie-Kielno.jpg
END:VEVENT
BEGIN:VEVENT
DTSTART;TZID=Europe/Warsaw:20190212T110000
DTEND;TZID=Europe/Warsaw:20190212T120000
DTSTAMP:20260423T195151
CREATED:20190124T125615Z
LAST-MODIFIED:20190124T125634Z
UID:4024-1549969200-1549972800@biblioteka.szemud.pl
SUMMARY:Warsztaty "Kukiełki" w Bibliotece i WOK Łebno
DESCRIPTION:
URL:https://biblioteka.szemud.pl/index.php/event/warsztaty-kukielki-w-bibliotece-i-wok-lebno/
LOCATION:Biblioteka w Łebnie\, ul. Kartuska 9\, Łebno
ATTACH;FMTTYPE=image/jpeg:https://biblioteka.szemud.pl/wp-content/uploads/2016/10/Ferie-Łebno-WOK-i-Biblioteka-page-001.jpg
END:VEVENT
BEGIN:VEVENT
DTSTART;TZID=Europe/Warsaw:20190212T120000
DTEND;TZID=Europe/Warsaw:20190212T130000
DTSTAMP:20260423T195151
CREATED:20190124T142941Z
LAST-MODIFIED:20190124T142941Z
UID:4124-1549972800-1549976400@biblioteka.szemud.pl
SUMMARY:Warsztaty „Biżuteria z modeliny” w Bibliotece w Bojanie
DESCRIPTION:
URL:https://biblioteka.szemud.pl/index.php/event/warsztaty-bizuteria-z-modeliny-w-bibliotece-w-bojanie/
LOCATION:Biblioteka w Bojanie\, ul. J. Wybickiego 38\, Bojano
ATTACH;FMTTYPE=image/jpeg:https://biblioteka.szemud.pl/wp-content/uploads/2016/10/Ferie-Bojano.jpg
END:VEVENT
BEGIN:VEVENT
DTSTART;TZID=Europe/Warsaw:20190212T123000
DTEND;TZID=Europe/Warsaw:20190212T143000
DTSTAMP:20260423T195151
CREATED:20190124T125744Z
LAST-MODIFIED:20190124T125744Z
UID:4027-1549974600-1549981800@biblioteka.szemud.pl
SUMMARY:Warsztaty z ceramiki cz. I w Bibliotece i WOK Łebno
DESCRIPTION:
URL:https://biblioteka.szemud.pl/index.php/event/warsztaty-z-ceramiki-cz-i-w-bibliotece-i-wok-lebno/
LOCATION:Biblioteka w Łebnie\, ul. Kartuska 9\, Łebno
ATTACH;FMTTYPE=image/jpeg:https://biblioteka.szemud.pl/wp-content/uploads/2016/10/Ferie-Łebno-WOK-i-Biblioteka-page-001.jpg
END:VEVENT
BEGIN:VEVENT
DTSTART;TZID=Europe/Warsaw:20190212T140000
DTEND;TZID=Europe/Warsaw:20190212T150000
DTSTAMP:20260423T195151
CREATED:20190124T132719Z
LAST-MODIFIED:20190124T132719Z
UID:4061-1549980000-1549983600@biblioteka.szemud.pl
SUMMARY:Warsztaty "Biżuteria z modeliny" w Bibliotece w Szemudzie
DESCRIPTION:
URL:https://biblioteka.szemud.pl/index.php/event/warsztaty-bizuteria-z-modeliny-w-bibliotece-w-szemudzie/
LOCATION:Biblioteka w Szemudzie\, Samorządowa 1\, Szemud
ATTACH;FMTTYPE=image/jpeg:https://biblioteka.szemud.pl/wp-content/uploads/2016/10/Szemud-ferie-2019.jpg
END:VEVENT
BEGIN:VEVENT
DTSTART;TZID=Europe/Warsaw:20190212T150000
DTEND;TZID=Europe/Warsaw:20190212T170000
DTSTAMP:20260423T195151
CREATED:20190124T132901Z
LAST-MODIFIED:20190124T132901Z
UID:4063-1549983600-1549990800@biblioteka.szemud.pl
SUMMARY:Warsztaty z ceramiki cz. I w Bibliotece w Szemudzie
DESCRIPTION:
URL:https://biblioteka.szemud.pl/index.php/event/warsztaty-z-ceramiki-cz-i-w-bibliotece-w-szemudzie/
LOCATION:Biblioteka w Szemudzie\, Samorządowa 1\, Szemud
ATTACH;FMTTYPE=image/jpeg:https://biblioteka.szemud.pl/wp-content/uploads/2016/10/Szemud-ferie-2019.jpg
END:VEVENT
BEGIN:VEVENT
DTSTART;TZID=Europe/Warsaw:20190212T153000
DTEND;TZID=Europe/Warsaw:20190212T170000
DTSTAMP:20260423T195151
CREATED:20190124T133013Z
LAST-MODIFIED:20190124T133024Z
UID:4065-1549985400-1549990800@biblioteka.szemud.pl
SUMMARY:Otwarte warsztaty gitarowe w Bibliotece w Szemudzie
DESCRIPTION:
URL:https://biblioteka.szemud.pl/index.php/event/otwarte-warsztaty-gitarowe-w-bibliotece-w-szemudzie/
LOCATION:Biblioteka w Szemudzie\, Samorządowa 1\, Szemud
ATTACH;FMTTYPE=image/jpeg:https://biblioteka.szemud.pl/wp-content/uploads/2016/10/Szemud-ferie-2019.jpg
END:VEVENT
END:VCALENDAR