BEGIN:VCALENDAR
VERSION:2.0
PRODID:-//Biblioteka Publiczna Gminy Szemud - ECPv6.15.20//NONSGML v1.0//EN
CALSCALE:GREGORIAN
METHOD:PUBLISH
X-ORIGINAL-URL:https://biblioteka.szemud.pl
X-WR-CALDESC:Wydarzenia dla Biblioteka Publiczna Gminy Szemud
REFRESH-INTERVAL;VALUE=DURATION:PT1H
X-Robots-Tag:noindex
X-PUBLISHED-TTL:PT1H
BEGIN:VTIMEZONE
TZID:Europe/Warsaw
BEGIN:DAYLIGHT
TZOFFSETFROM:+0100
TZOFFSETTO:+0200
TZNAME:CEST
DTSTART:20170326T010000
END:DAYLIGHT
BEGIN:STANDARD
TZOFFSETFROM:+0200
TZOFFSETTO:+0100
TZNAME:CET
DTSTART:20171029T010000
END:STANDARD
BEGIN:DAYLIGHT
TZOFFSETFROM:+0100
TZOFFSETTO:+0200
TZNAME:CEST
DTSTART:20180325T010000
END:DAYLIGHT
BEGIN:STANDARD
TZOFFSETFROM:+0200
TZOFFSETTO:+0100
TZNAME:CET
DTSTART:20181028T010000
END:STANDARD
BEGIN:DAYLIGHT
TZOFFSETFROM:+0100
TZOFFSETTO:+0200
TZNAME:CEST
DTSTART:20190331T010000
END:DAYLIGHT
BEGIN:STANDARD
TZOFFSETFROM:+0200
TZOFFSETTO:+0100
TZNAME:CET
DTSTART:20191027T010000
END:STANDARD
END:VTIMEZONE
BEGIN:VEVENT
DTSTART;TZID=Europe/Warsaw:20180807T110000
DTEND;TZID=Europe/Warsaw:20180807T123000
DTSTAMP:20260424T054010
CREATED:20180731T142645Z
LAST-MODIFIED:20180731T142645Z
UID:3300-1533639600-1533645000@biblioteka.szemud.pl
SUMMARY:Przedmioty ozdobne z masy solnej w Bibliotece w Bojanie
DESCRIPTION:
URL:https://biblioteka.szemud.pl/index.php/event/przedmioty-ozdobne-z-masy-solnej-w-bibliotece-w-bojanie/
LOCATION:Biblioteka w Bojanie\, ul. J. Wybickiego 38\, Bojano
ATTACH;FMTTYPE=image/png:https://biblioteka.szemud.pl/wp-content/uploads/2016/10/Warsztaty-Bojano-sierpień..png
END:VEVENT
BEGIN:VEVENT
DTSTART;TZID=Europe/Warsaw:20180807T110000
DTEND;TZID=Europe/Warsaw:20180807T130000
DTSTAMP:20260424T054010
CREATED:20180731T122055Z
LAST-MODIFIED:20180731T122055Z
UID:3243-1533639600-1533646800@biblioteka.szemud.pl
SUMMARY:„Skarby z wakacji” -  szkatułka decoupage w Bibliotece i WOK Łebno
DESCRIPTION:
URL:https://biblioteka.szemud.pl/index.php/event/skarby-z-wakacji-szkatulka-decoupage-w-bibliotece-i-wok-lebno/
LOCATION:Biblioteka w Łebnie\, ul. Kartuska 9\, Łebno
ATTACH;FMTTYPE=image/jpeg:https://biblioteka.szemud.pl/wp-content/uploads/2016/10/wakacyjne-warsztaty-Łebno-1.jpg
END:VEVENT
BEGIN:VEVENT
DTSTART;TZID=Europe/Warsaw:20180807T130000
DTEND;TZID=Europe/Warsaw:20180807T150000
DTSTAMP:20260424T054010
CREATED:20180731T141218Z
LAST-MODIFIED:20180731T141218Z
UID:3290-1533646800-1533654000@biblioteka.szemud.pl
SUMMARY:Łapacze snów w Bibliotece w Kielnie
DESCRIPTION:
URL:https://biblioteka.szemud.pl/index.php/event/lapacze-snow-w-bibliotece-w-kielnie/
LOCATION:Biblioteka w Kielnie\, ul. Oliwska 46\, Kielno
ATTACH;FMTTYPE=image/jpeg:https://biblioteka.szemud.pl/wp-content/uploads/2016/10/warsztaty-Kielno.jpg
END:VEVENT
BEGIN:VEVENT
DTSTART;TZID=Europe/Warsaw:20180807T133000
DTEND;TZID=Europe/Warsaw:20180807T150000
DTSTAMP:20260424T054010
CREATED:20180731T124943Z
LAST-MODIFIED:20180731T124943Z
UID:3262-1533648600-1533654000@biblioteka.szemud.pl
SUMMARY:Przedmioty ozdobne z masy solnej w Bibliotece w Szemudzie
DESCRIPTION:
URL:https://biblioteka.szemud.pl/index.php/event/przedmioty-ozdobne-z-masy-solnej-w-bibliotece-w-szemudzie/
LOCATION:Biblioteka w Szemudzie\, Samorządowa 1\, Szemud
ATTACH;FMTTYPE=image/jpeg:https://biblioteka.szemud.pl/wp-content/uploads/2018/07/warsztaty-Szemud-sierpieä.jpg
END:VEVENT
BEGIN:VEVENT
DTSTART;TZID=Europe/Warsaw:20180807T150000
DTEND;TZID=Europe/Warsaw:20180807T163000
DTSTAMP:20260424T054010
CREATED:20180731T125214Z
LAST-MODIFIED:20180731T125214Z
UID:3264-1533654000-1533659400@biblioteka.szemud.pl
SUMMARY:Muzykowanie z gitarą w Bibliotece w Szemudzie
DESCRIPTION:
URL:https://biblioteka.szemud.pl/index.php/event/muzykowanie-z-gitara-w-bibliotece-w-szemudzie/
LOCATION:Biblioteka w Szemudzie\, Samorządowa 1\, Szemud
ATTACH;FMTTYPE=image/jpeg:https://biblioteka.szemud.pl/wp-content/uploads/2018/07/warsztaty-Szemud-sierpieä.jpg
END:VEVENT
END:VCALENDAR